Workbook
Name b: '[1]ICD-X'!$C$3:$D$639
Name CONVERSI: #REF!
Name CONVERSIFULL: #REF!
Name DX_LAMA: #REF!
Name ICDX: #REF!
Name ICDXFULL: #REF!
Name NO_CODEOBAT: #REF!

Sheet Home
B2: SKM UNIT LAYANAN | AI2: 20 | AJ2: 47 | AK2: 25 | AL2: 21 | AM2: 48 | AN2: 1 | AO2: 58 | AP2: 46 | AQ2: 4 | AR2: 11 | AS2: 34 | AT2: 7 | AU2: 16 | AV2: 9 | AW2: 39 | AX2: 10 | AY2: 14 | AZ2: 5 | BA2: =SUM(AI2:AZ2) -> 415
B3: Bulan | C3: September 2026 | BA3: =SUM(AI3:AZ3) -> 0
B4: No. | C4: Nama Layanan | D4: Target Responden SKM | E4: Capaian Bulan Juli | F4: % | G4: Nilai Capaian | H4: Skor Layanan | I4: Nilai SKM | J4: Link | AC4: L | AD4: P | AE4: ∑ | BA4: =SUM(AI4:AZ4) -> 0
B5: 1 | C5: Ruang Tindakan | D5: 20 | E5: 30 | F5: =E5/D5 -> 1.5 | G5: 100 | H5: 100 ( Sangat Baik ) | I5: 100 | J5: 1 | AB5: 1 | AC5: 16 | AD5: 14 | AE5: =D5 -> 20 | AU5: ∑ | BA5: =SUM(AI5:AZ5) -> 0
B6: 2 | C6: Ruang Pemeriksaan Umum | D6: 47 | E6: 51 | F6: =E6/D6 -> 1.0851064 | G6: 100 | H6: 100 ( Sangat Baik ) | I6: 100 | J6: 1 | AB6: 2 | AC6: 27 | AD6: 24 | AE6: =D6 -> 47 | BA6: =SUM(AI6:AZ6) -> 0
B7: 3 | C7: Ruang Pemeriksaan Gigi dan Mulut | D7: 25 | E7: 36 | F7: =E7/D7 -> 1.44 | G7: 100 | H7: 100 ( Sangat Baik ) | I7: 100 | J7: 1 | AB7: 3 | AC7: 19 | AD7: 17 | AE7: =D7 -> 25 | AU7: L | BA7: =SUM(AI7:AZ7) -> 0
B8: 4 | C8: Ruang Pemeriksaan KIA | D8: 21 | E8: 17 | F8: =E8/D8 -> 0.80952381 | G8: 60 | H8: 98.69 ( Sangat Baik ) | I8: =(G8+98.69)/2 -> 79.345 | J8: 1 | AB8: 4 | AC8: 9 | AD8: 8 | AE8: =D8 -> 21 | AU8: P | BA8: =SUM(AI8:AZ8) -> 0
B9: 5 | C9: Ruang Farmasi dan Gudang Obat | D9: 48 | E9: 39 | F9: =E9/D9 -> 0.8125 | G9: 60 | H9: 100 ( Sangat Baik ) | I9: =(G9+100)/2 -> 80 | J9: 1 | AB9: 5 | AC9: 21 | AD9: 18 | AE9: =D9 -> 48
B10: 6 | C10: Ruang Persalinan | D10: 1 | E10: 1 | F10: =E10/D10 -> 1 | G10: 100 | H10: 100 ( Sangat Baik ) | I10: 100 | J10: 1 | AB10: 6 | AC10: 1 | AD10: 0 | AE10: =D10 -> 1
B11: 7 | C11: Kasir | D11: 58 | E11: 64 | F11: =E11/D11 -> 1.1034483 | G11: 100 | H11: 100 ( Sangat Baik ) | I11: 100 | J11: 1 | AB11: 7 | AC11: 35 | AD11: 29 | AE11: =D11 -> 58
B12: 8 | C12: Ruang Pemeriksaan Lansia | D12: 46 | E12: 60 | F12: =E12/D12 -> 1.3043478 | G12: 100 | H12: 100 ( Sangat Baik ) | I12: 100 | J12: 1 | AB12: 8 | AC12: 32 | AD12: 28 | AE12: =D12 -> 46
B13: 9 | C13: Ruang Tata Usaha, Keuangan dan Kepegawaian | D13: 4 | E13: 26 | F13: =E13/D13 -> 6.5 | G13: 100 | H13: 100 ( Sangat Baik ) | I13: 100 | J13: 1 | AB13: 9 | AC13: 14 | AD13: 12 | AE13: =D13 -> 4
B14: 10 | C14: Ruang KB dan Kespro | D14: 11 | E14: 8 | F14: =E14/D14 -> 0.72727273 | G14: 60 | H14: 100 ( Sangat Baik ) | I14: =(G14+100)/2 -> 80 | J14: 1 | AB14: 10 | AC14: 5 | AD14: 3 | AE14: =D14 -> 11
B15: 11 | C15: Ruang MTBS | D15: 34 | E15: 31 | F15: =E15/D15 -> 0.91176471 | G15: 100 | H15: 100 ( Sangat Baik ) | I15: 100 | J15: 1 | AB15: 11 | AC15: 17 | AD15: 14 | AE15: =D15 -> 34
B16: 12 | C16: Ruang Poli Khusus | D16: 7 | E16: 12 | F16: =E16/D16 -> 1.7142857 | G16: 100 | H16: 100 ( Sangat Baik ) | I16: 100 | J16: 1 | AB16: 12 | AC16: 6 | AD16: 6 | AE16: =D16 -> 7
B17: 13 | C17: Ruang Gizi | D17: 16 | E17: 19 | F17: =E17/D17 -> 1.1875 | G17: 100 | H17: 100 ( Sangat Baik ) | I17: 100 | J17: 1 | AB17: 13 | AC17: 10 | AD17: 9 | AE17: =D17 -> 16
B18: 14 | C18: Ruang Kesehatan Lingkungan | D18: 9 | E18: 15 | F18: =E18/D18 -> 1.6666667 | G18: 100 | H18: 100 ( Sangat Baik ) | I18: 100 | J18: 1 | AB18: 14 | AC18: 8 | AD18: 7 | AE18: =D18 -> 9
B19: 15 | C19: Ruang Laboratorium | D19: 39 | E19: 50 | F19: =E19/D19 -> 1.2820513 | G19: 100 | H19: 100 ( Sangat Baik ) | I19: 100 | J19: 1 | AB19: 15 | AC19: 27 | AD19: 23 | AE19: =D19 -> 39
B20: 16 | C20: Ruang Promosi Kesehatan | D20: 10 | E20: 12 | F20: =E20/D20 -> 1.2 | G20: 100 | H20: 100 ( Sangat Baik ) | I20: 100 | J20: 1 | AB20: 16 | AC20: 7 | AD20: 5 | AE20: =D20 -> 10
B21: 17 | C21: Ruang Imunisasi atau Penyimpanan Vaksin | D21: 14 | E21: 16 | F21: =E21/D21 -> 1.1428571 | G21: 100 | H21: 100 ( Sangat Baik ) | I21: 100 | J21: 1 | AB21: 17 | AC21: 9 | AD21: 7 | AE21: =D21 -> 14
B22: 18 | C22: Ruang SIP | D22: 5 | E22: 12 | F22: =E22/D22 -> 2.4 | G22: 100 | H22: 100 ( Sangat Baik ) | I22: 100 | J22: 1 | AB22: 18 | AC22: 7 | AD22: 5 | AE22: =D22 -> 5
D23: =SUM(D5:D22) -> 415 | E23: =SUM(E5:E22) -> 499 | F23: =E23/D23 -> 1.2024096 | G23: 100
F25: ="Trenggalek, 30 "&C3 -> Trenggalek, 30 September 2026
B26: Ketrangan
C27: 1. Capaian target kurang 60% Nilai 40
C28: 2. Capaian target 60% s/d 87,5 Nilai 60
C29: 3. Capaian target diatas 87,5 Nilai 100

Sheet 1
B2: LAPORAN SKM PUSKESMAS TRENGGALEK
B4: ="REKAPITULASI HASIL SKM PUSKESMAS TRENGGALEK BULAN "&UPPER(Home!C3) -> REKAPITULASI HASIL SKM PUSKESMAS TRENGGALEK BULAN SEPTEMBER 2026 | W4: =RIGHT(AB7,4)
L6: Unsur | R6: Unsur Responden | S6: Nilai Rata-Rata
B7: Nama Layanan | E7: : | F7: =Home!C5 -> Ruang Tindakan | K7: P 1 | L7: Kesesuaian persyaratan pelayanan dengan jenis pelayanannya | R7: =G128 -> 120 | S7: =G129&" %" -> 100 %
B8: Target Responden | E8: : | F8: =Home!AE5 -> 20
B9: Jumlah Responden | K9: P 2 | L9: Kemudahan prosedur pelayanan di unit ini | R9: =H128 -> 120 | S9: =H129&" %" -> 100 %
D10: L | E10: : | F10: =Home!AC5 -> 16 | K10: P 3 | L10: Kecepatan waktu dalam memberikan pelayanan | R10: =I128 -> 120 | S10: =I129&" %" -> 100 %
D11: P | E11: : | F11: =Home!AD5 -> 14
B12: Jumlah/Capaian | E12: : | F12: =SUM(F10:F11)&" ("&ROUND((F10+F11)/F8*100,2)&" %"&")" -> 30 (150 %) | K12: P 4 | L12: Kewajaran biaya/tarif dalam pelayanan | R12: =J128 -> 120 | S12: =J129&" %" -> 100 %
B13: Jumlah Nilai | E13: : | F13: =R23 -> 1080 | K13: P 5 | L13: Kesesuaian produk pelayanan antara yang tercantum dalam standar pelayanan dengan hasil yang diberikan | R13: =K128 -> 120 | S13: =K129&" %" -> 100 %
B14: Skor Layanan | E14: : | F14: 100,00 (Sangat Baik)
B15: Nilai SKM | E15: : | F15: =Home!I5 -> 100
K16: P 6 | L16: Penanganan pengaduan pengguna layanan | R16: =L128 -> 120 | S16: =L129&" %" -> 100 %
K18: P 7 | L18: Kualitas sarana dan prasarana | R18: =M128 -> 120 | S18: =M129&" %" -> 100 %
K19: P 8 | L19: Perilaku petugas dalam pelayanan terkait kesopanan dan keramahan | R19: =N128 -> 120 | S19: =N129&" %" -> 100 %
K21: P 9 | L21: Kompetensi/kemampuan petugas dalam pelayanan | R21: =O128 -> 120 | S21: =O129&" %" -> 100 %
R23: =P128 -> 1080 | S23: =P129&" %" -> 100 %
P26: =Home!$F$25 -> Trenggalek, 30 September 2026
E27: KEPALA PUSKESMAS TRENGGALEK | P27: Penanggung Jawab
P28: =F7 -> Ruang Tindakan
E32: dr. MURTI RUKIYANDARI | P32: xxx
E33: Pembina Utama Muida | P33: NIP.
E34: NIP. 19800611 200903 2 004
B37: Rincian
B39: NO. | C39: Tanggal | D39: NAMA | E39: LAYANAN | G39: P 1 | H39: P 2 | I39: P 3 | J39: P 4 | K39: P 5 | L39: P 6 | M39: P 7 | N39: P 8 | O39: P 9 | P39: SKOR | R39: Kritik dan Saran
B40: 1 | C40: 2 | D40: 3 | E40: 4 | G40: 5 | H40: 6 | I40: 7 | J40: 8 | K40: 9 | L40: 10 | M40: 11 | N40: 12 | O40: 13 | P40: 14 | R40: 15
B41: 1 | C41: 46268 | D41: Anonymous | E41: Ruang Tindakan | G41: 4 | H41: 4 | I41: 4 | J41: 4 | K41: 4 | L41: 4 | M41: 4 | N41: 4 | O41: 4 | P41: 100 | Q41: (A) | R41: baik bgt
B42: 2 | C42: 46272 | D42: Anonymous | E42: Ruang Tindakan | G42: 4 | H42: 4 | I42: 4 | J42: 4 | K42: 4 | L42: 4 | M42: 4 | N42: 4 | O42: 4 | P42: 100 | Q42: (A) | R42: -
B43: 3 | C43: 46276 | D43: Anonymous | E43: Ruang Tindakan | G43: 4 | H43: 4 | I43: 4 | J43: 4 | K43: 4 | L43: 4 | M43: 4 | N43: 4 | O43: 4 | P43: 100 | Q43: (A) | R43: -
B44: 4 | C44: 46279 | D44: Anonymous | E44: Ruang Tindakan | G44: 4 | H44: 4 | I44: 4 | J44: 4 | K44: 4 | L44: 4 | M44: 4 | N44: 4 | O44: 4 | P44: 100 | Q44: (A) | R44: -
B45: 5 | C45: 46279 | D45: Anonymous | E45: Ruang Tindakan | G45: 4 | H45: 4 | I45: 4 | J45: 4 | K45: 4 | L45: 4 | M45: 4 | N45: 4 | O45: 4 | P45: 100 | Q45: (A) | R45: -
B46: 6 | C46: 46279 | D46: Anonymous | E46: Ruang Tindakan | G46: 4 | H46: 4 | I46: 4 | J46: 4 | K46: 4 | L46: 4 | M46: 4 | N46: 4 | O46: 4 | P46: 100 | Q46: (A) | R46: -
B47: 7 | C47: 46279 | D47: Anonymous | E47: Ruang Tindakan | G47: 4 | H47: 4 | I47: 4 | J47: 4 | K47: 4 | L47: 4 | M47: 4 | N47: 4 | O47: 4 | P47: 100 | Q47: (A) | R47: -
B48: 8 | C48: 46281 | D48: Anonymous | E48: Ruang Tindakan | G48: 4 | H48: 4 | I48: 4 | J48: 4 | K48: 4 | L48: 4 | M48: 4 | N48: 4 | O48: 4 | P48: 100 | Q48: (A) | R48: -
B49: 9 | C49: 46281 | D49: Anonymous | E49: Ruang Tindakan | G49: 4 | H49: 4 | I49: 4 | J49: 4 | K49: 4 | L49: 4 | M49: 4 | N49: 4 | O49: 4 | P49: 100 | Q49: (A) | R49: -
B50: 10 | C50: 46281 | D50: Anonymous | E50: Ruang Tindakan | G50: 4 | H50: 4 | I50: 4 | J50: 4 | K50: 4 | L50: 4 | M50: 4 | N50: 4 | O50: 4 | P50: 100 | Q50: (A) | R50: -
B51: 11 | C51: 46281 | D51: Anonymous | E51: Ruang Tindakan | G51: 4 | H51: 4 | I51: 4 | J51: 4 | K51: 4 | L51: 4 | M51: 4 | N51: 4 | O51: 4 | P51: 100 | Q51: (A) | R51: -
B52: 12 | C52: 46282 | D52: Anonymous | E52: Ruang Tindakan | G52: 4 | H52: 4 | I52: 4 | J52: 4 | K52: 4 | L52: 4 | M52: 4 | N52: 4 | O52: 4 | P52: 100 | Q52: (A) | R52: -
... B69: 29 | C69: 46295 | D69: Anonymous | E69: Ruang Tindakan | G69: 4 | H69: 4 | I69: 4 | J69: 4 | K69: 4 | L69: 4 | M69: 4 | N69: 4 | O69: 4 | P69: 100 | Q69: (A) | R69: -
B70: =IF(C70="","",SUBTOTAL(3,C$41:$C70)) -> 30 | C70: 46295 | D70: Anonymous | E70: Ruang Tindakan | G70: 4 | H70: 4 | I70: 4 | J70: 4 | K70: 4 | L70: 4 | M70: 4 | N70: 4 | O70: 4 | P70: 100 | Q70: (A) | R70: -
B71: =IF(C71="","",SUBTOTAL(3,C$41:$C71))
B72: =IF(C72="","",SUBTOTAL(3,C$41:$C72))
B73: =IF(C73="","",SUBTOTAL(3,C$41:$C73))
B74: =IF(C74="","",SUBTOTAL(3,C$41:$C74))
B75: =IF(C75="","",SUBTOTAL(3,C$41:$C75))
B76: =IF(C76="","",SUBTOTAL(3,C$41:$C76))
B77: =IF(C77="","",SUBTOTAL(3,C$41:$C77))
B78: =IF(C78="","",SUBTOTAL(3,C$41:$C78))
B79: =IF(C79="","",SUBTOTAL(3,C$41:$C79))
B80: =IF(C80="","",SUBTOTAL(3,C$41:$C80))
B81: =IF(C81="","",SUBTOTAL(3,C$41:$C81))
B82: =IF(C82="","",SUBTOTAL(3,C$41:$C82))
... B127: =IF(C127="","",SUBTOTAL(3,C$41:$C127))
C128: Jumlah Nilai Per Unsur Layanan | G128: =SUBTOTAL(9,G41:G127) -> 120 | H128: =SUBTOTAL(9,H41:H127) -> 120 | I128: =SUBTOTAL(9,I41:I127) -> 120 | J128: =SUBTOTAL(9,J41:J127) -> 120 | K128: =SUBTOTAL(9,K41:K127) -> 120 | L128: =SUBTOTAL(9,L41:L127) -> 120 | M128: =SUBTOTAL(9,M41:M127) -> 120 | N128: =SUBTOTAL(9,N41:N127) -> 120 | O128: =SUBTOTAL(9,O41:O127) -> 120 | P128: =SUM(G128:O128) -> 1080
G129: =G128/(MAX($B$41:$B$127)*4)*100 -> 100 | H129: =H128/(MAX($B$41:$B$127)*4)*100 -> 100 | I129: =I128/(MAX($B$41:$B$127)*4)*100 -> 100 | J129: =J128/(MAX($B$41:$B$127)*4)*100 -> 100 | K129: =K128/(MAX($B$41:$B$127)*4)*100 -> 100 | L129: =L128/(MAX($B$41:$B$127)*4)*100 -> 100 | M129: =M128/(MAX($B$41:$B$127)*4)*100 -> 100 | N129: =N128/(MAX($B$41:$B$127)*4)*100 -> 100 | O129: =O128/(MAX($B$41:$B$127)*4)*100 -> 100 | P129: =P128/(MAX($B$41:$B$127)*4*9)*100 -> 100
C130: Nilai SKM Per Unsur Layanan | G130: A | H130: A | I130: A | J130: A | K130: A | L130: A | M130: A | N130: A | O130: A | P130: A
G131: Sangat Baik | H131: Sangat Baik | I131: Sangat Baik | J131: Sangat Baik | K131: Sangat Baik | L131: Sangat Baik | M131: Sangat Baik | N131: Sangat Baik | O131: Sangat Baik | P131: Sangat Baik
P133: =P26 -> Trenggalek, 30 September 2026
E134: KEPALA PUSKESMAS TRENGGALEK | P134: Penanggung jawab
P135: =F7 -> Ruang Tindakan
E139: dr. MURTI RUKIYANDARI | P139: xxx
E140: Pembina Utama Muida | P140: NIP.
E141: NIP. 19800611 200903 2 004

Sheet 2
B2: LAPORAN SKM PUSKESMAS TRENGGALEK
B4: ="REKAPITULASI HASIL SKM PUSKESMAS TRENGGALEK BULAN "&UPPER(Home!C3) -> REKAPITULASI HASIL SKM PUSKESMAS TRENGGALEK BULAN SEPTEMBER 2026 | W4: =RIGHT(AB7,4)
L6: Unsur | R6: Unsur Responden | S6: Nilai Rata-Rata
B7: Nama Layanan | E7: : | F7: =Home!C6 -> Ruang Pemeriksaan Umum | K7: P 1 | L7: Kesesuaian persyaratan pelayanan dengan jenis pelayanannya | R7: =G128 -> 204 | S7: =G129&" %" -> 100 %
B8: Target Responden | E8: : | F8: =Home!AE6 -> 47
B9: Jumlah Responden | K9: P 2 | L9: Kemudahan prosedur pelayanan di unit ini | R9: =H128 -> 204 | S9: =H129&" %" -> 100 %
D10: L | E10: : | F10: =Home!AC6 -> 27 | K10: P 3 | L10: Kecepatan waktu dalam memberikan pelayanan | R10: =I128 -> 204 | S10: =I129&" %" -> 100 %
D11: P | E11: : | F11: =Home!AD6 -> 24
B12: Jumlah/Capaian | E12: : | F12: =SUM(F10:F11)&" ("&ROUND((F10+F11)/F8*100,2)&" %"&")" -> 51 (108.51 %) | K12: P 4 | L12: Kewajaran biaya/tarif dalam pelayanan | R12: =J128 -> 204 | S12: =J129&" %" -> 100 %
B13: Jumlah Nilai | E13: : | F13: =R23 -> 1836 | K13: P 5 | L13: Kesesuaian produk pelayanan antara yang tercantum dalam standar pelayanan dengan hasil yang diberikan | R13: =K128 -> 204 | S13: =K129&" %" -> 100 %
B14: Skor Layanan | E14: : | F14: 100,00 (Sangat Baik)
B15: Nilai SKM | E15: : | F15: =Home!I6 -> 100
K16: P 6 | L16: Penanganan pengaduan pengguna layanan | R16: =L128 -> 204 | S16: =L129&" %" -> 100 %
K18: P 7 | L18: Kualitas sarana dan prasarana | R18: =M128 -> 204 | S18: =M129&" %" -> 100 %
K19: P 8 | L19: Perilaku petugas dalam pelayanan terkait kesopanan dan keramahan | R19: =N128 -> 204 | S19: =N129&" %" -> 100 %
K21: P 9 | L21: Kompetensi/kemampuan petugas dalam pelayanan | R21: =O128 -> 204 | S21: =O129&" %" -> 100 %
R23: =P128 -> 1836 | S23: =P129&" %" -> 100 %
P26: =Home!$F$25 -> Trenggalek, 30 September 2026
E27: KEPALA PUSKESMAS TRENGGALEK | P27: Penanggung jawab Ruangan
E32: dr. MURTI RUKIYANDARI | P32: xxx
E33: Pembina Utama Muida | P33: NIP.
E34: NIP. 19800611 200903 2 004
B37: Rincian
B39: NO. | C39: Tanggal | D39: NAMA | E39: LAYANAN | G39: P 1 | H39: P 2 | I39: P 3 | J39: P 4 | K39: P 5 | L39: P 6 | M39: P 7 | N39: P 8 | O39: P 9 | P39: SKOR | R39: Kritik dan Saran
B40: 1 | C40: 2 | D40: 3 | E40: 4 | G40: 5 | H40: 6 | I40: 7 | J40: 8 | K40: 9 | L40: 10 | M40: 11 | N40: 12 | O40: 13 | P40: 14 | R40: 15
B41: 1 | C41: 46266 | D41: Anonymous | E41: Ruang Pemeriksaan Umum | G41: 4 | H41: 4 | I41: 4 | J41: 4 | K41: 4 | L41: 4 | M41: 4 | N41: 4 | O41: 4 | P41: 100 | Q41: (A) | R41: -
B42: 2 | C42: 46266 | D42: Anonymous | E42: Ruang Pemeriksaan Umum | G42: 4 | H42: 4 | I42: 4 | J42: 4 | K42: 4 | L42: 4 | M42: 4 | N42: 4 | O42: 4 | P42: 100 | Q42: (A) | R42: -
B43: 3 | C43: 46267 | D43: Anonymous | E43: Ruang Pemeriksaan Umum | G43: 4 | H43: 4 | I43: 4 | J43: 4 | K43: 4 | L43: 4 | M43: 4 | N43: 4 | O43: 4 | P43: 100 | Q43: (A) | R43: -
B44: 4 | C44: 46267 | D44: Anonymous | E44: Ruang Pemeriksaan Umum | G44: 4 | H44: 4 | I44: 4 | J44: 4 | K44: 4 | L44: 4 | M44: 4 | N44: 4 | O44: 4 | P44: 100 | Q44: (A) | R44: -
B45: 5 | C45: 46268 | D45: Anonymous | E45: Ruang Pemeriksaan Umum | G45: 4 | H45: 4 | I45: 4 | J45: 4 | K45: 4 | L45: 4 | M45: 4 | N45: 4 | O45: 4 | P45: 100 | Q45: (A) | R45: -
B46: 6 | C46: 46268 | D46: Anonymous | E46: Ruang Pemeriksaan Umum | G46: 4 | H46: 4 | I46: 4 | J46: 4 | K46: 4 | L46: 4 | M46: 4 | N46: 4 | O46: 4 | P46: 100 | Q46: (A) | R46: -
B47: 7 | C47: 46269 | D47: Anonymous | E47: Ruang Pemeriksaan Umum | G47: 4 | H47: 4 | I47: 4 | J47: 4 | K47: 4 | L47: 4 | M47: 4 | N47: 4 | O47: 4 | P47: 100 | Q47: (A) | R47: -
B48: 8 | C48: 46269 | D48: Anonymous | E48: Ruang Pemeriksaan Umum | G48: 4 | H48: 4 | I48: 4 | J48: 4 | K48: 4 | L48: 4 | M48: 4 | N48: 4 | O48: 4 | P48: 100 | Q48: (A) | R48: -
B49: 9 | C49: 46269 | D49: Anonymous | E49: Ruang Pemeriksaan Umum | G49: 4 | H49: 4 | I49: 4 | J49: 4 | K49: 4 | L49: 4 | M49: 4 | N49: 4 | O49: 4 | P49: 100 | Q49: (A) | R49: -
B50: 10 | C50: 46271 | D50: Anonymous | E50: Ruang Pemeriksaan Umum | G50: 4 | H50: 4 | I50: 4 | J50: 4 | K50: 4 | L50: 4 | M50: 4 | N50: 4 | O50: 4 | P50: 100 | Q50: (A) | R50: -
B51: 11 | C51: 46271 | D51: Anonymous | E51: Ruang Pemeriksaan Umum | G51: 4 | H51: 4 | I51: 4 | J51: 4 | K51: 4 | L51: 4 | M51: 4 | N51: 4 | O51: 4 | P51: 100 | Q51: (A) | R51: -
B52: 12 | C52: 46271 | D52: Anonymous | E52: Ruang Pemeriksaan Umum | G52: 4 | H52: 4 | I52: 4 | J52: 4 | K52: 4 | L52: 4 | M52: 4 | N52: 4 | O52: 4 | P52: 100 | Q52: (A) | R52: -
... B86: 46 | C86: 46289 | D86: Anonymous | E86: Ruang Pemeriksaan Umum | G86: 4 | H86: 4 | I86: 4 | J86: 4 | K86: 4 | L86: 4 | M86: 4 | N86: 4 | O86: 4 | P86: 100 | Q86: (A) | R86: -
B87: =IF(C87="","",SUBTOTAL(3,C$41:$C87)) -> 47 | C87: 46289 | D87: Anonymous | E87: Ruang Pemeriksaan Umum | G87: 4 | H87: 4 | I87: 4 | J87: 4 | K87: 4 | L87: 4 | M87: 4 | N87: 4 | O87: 4 | P87: 100 | Q87: (A) | R87: -
B88: =IF(C88="","",SUBTOTAL(3,C$41:$C88)) -> 48 | C88: 46290 | D88: Anonymous | E88: Ruang Pemeriksaan Umum | G88: 4 | H88: 4 | I88: 4 | J88: 4 | K88: 4 | L88: 4 | M88: 4 | N88: 4 | O88: 4 | P88: 100 | Q88: (A) | R88: -
B89: =IF(C89="","",SUBTOTAL(3,C$41:$C89)) -> 49 | C89: 46290 | D89: Anonymous | E89: Ruang Pemeriksaan Umum | G89: 4 | H89: 4 | I89: 4 | J89: 4 | K89: 4 | L89: 4 | M89: 4 | N89: 4 | O89: 4 | P89: 100 | Q89: (A) | R89: -
B90: =IF(C90="","",SUBTOTAL(3,C$41:$C90)) -> 50 | C90: 46293 | D90: Anonymous | E90: Ruang Pemeriksaan Umum | G90: 4 | H90: 4 | I90: 4 | J90: 4 | K90: 4 | L90: 4 | M90: 4 | N90: 4 | O90: 4 | P90: 100 | Q90: (A) | R90: -
B91: =IF(C91="","",SUBTOTAL(3,C$41:$C91)) -> 51 | C91: 46293 | D91: Anonymous | E91: Ruang Pemeriksaan Umum | G91: 4 | H91: 4 | I91: 4 | J91: 4 | K91: 4 | L91: 4 | M91: 4 | N91: 4 | O91: 4 | P91: 100 | Q91: (A) | R91: -
B92: =IF(C92="","",SUBTOTAL(3,C$41:$C92))
B93: =IF(C93="","",SUBTOTAL(3,C$41:$C93))
B94: =IF(C94="","",SUBTOTAL(3,C$41:$C94))
B95: =IF(C95="","",SUBTOTAL(3,C$41:$C95))
B96: =IF(C96="","",SUBTOTAL(3,C$41:$C96))
B97: =IF(C97="","",SUBTOTAL(3,C$41:$C97))
B98: =IF(C98="","",SUBTOTAL(3,C$41:$C98))
B99: =IF(C99="","",SUBTOTAL(3,C$41:$C99))
B100: =IF(C100="","",SUBTOTAL(3,C$41:$C100))
B101: =IF(C101="","",SUBTOTAL(3,C$41:$C101))
B102: =IF(C102="","",SUBTOTAL(3,C$41:$C102))
B103: =IF(C103="","",SUBTOTAL(3,C$41:$C103))
... B127: =IF(C127="","",SUBTOTAL(3,C$41:$C127))
C128: Jumlah Nilai Per Unsur Layanan | G128: =SUBTOTAL(9,G41:G127) -> 204 | H128: =SUBTOTAL(9,H41:H127) -> 204 | I128: =SUBTOTAL(9,I41:I127) -> 204 | J128: =SUBTOTAL(9,J41:J127) -> 204 | K128: =SUBTOTAL(9,K41:K127) -> 204 | L128: =SUBTOTAL(9,L41:L127) -> 204 | M128: =SUBTOTAL(9,M41:M127) -> 204 | N128: =SUBTOTAL(9,N41:N127) -> 204 | O128: =SUBTOTAL(9,O41:O127) -> 204 | P128: =SUM(G128:O128) -> 1836
G129: =G128/(MAX($B$41:$B$127)*4)*100 -> 100 | H129: =H128/(MAX($B$41:$B$127)*4)*100 -> 100 | I129: =I128/(MAX($B$41:$B$127)*4)*100 -> 100 | J129: =J128/(MAX($B$41:$B$127)*4)*100 -> 100 | K129: =K128/(MAX($B$41:$B$127)*4)*100 -> 100 | L129: =L128/(MAX($B$41:$B$127)*4)*100 -> 100 | M129: =M128/(MAX($B$41:$B$127)*4)*100 -> 100 | N129: =N128/(MAX($B$41:$B$127)*4)*100 -> 100 | O129: =O128/(MAX($B$41:$B$127)*4)*100 -> 100 | P129: =P128/(MAX($B$41:$B$127)*4*9)*100 -> 100
C130: Nilai SKM Per Unsur Layanan | G130: A | H130: A | I130: A | J130: A | K130: A | L130: A | M130: A | N130: A | O130: A | P130: A
G131: Sangat Baik | H131: Sangat Baik | I131: Sangat Baik | J131: Sangat Baik | K131: Sangat Baik | L131: Sangat Baik | M131: Sangat Baik | N131: Sangat Baik | O131: Sangat Baik | P131: Sangat Baik
P133: =P26 -> Trenggalek, 30 September 2026
E134: KEPALA PUSKESMAS TRENGGALEK | P134: Penanggung jawab
P135: =F7 -> Ruang Pemeriksaan Umum
E139: dr. MURTI RUKIYANDARI | P139: xxx
E140: Pembina Utama Muida | P140: NIP.
E141: NIP. 19800611 200903 2 004

Sheet 3
B2: LAPORAN SKM PUSKESMAS TRENGGALEK
B4: ="REKAPITULASI HASIL SKM PUSKESMAS TRENGGALEK BULAN "&UPPER(Home!C3) -> REKAPITULASI HASIL SKM PUSKESMAS TRENGGALEK BULAN SEPTEMBER 2026 | W4: =RIGHT(AB7,4)
L6: Unsur | R6: Unsur Responden | S6: Nilai Rata-Rata
B7: Nama Layanan | E7: : | F7: =Home!C7 -> Ruang Pemeriksaan Gigi dan Mulut | K7: P 1 | L7: Kesesuaian persyaratan pelayanan dengan jenis pelayanannya | R7: =G128 -> 144 | S7: =G129&" %" -> 100 %
B8: Target Responden | E8: : | F8: =Home!AE7 -> 25
B9: Jumlah Responden | K9: P 2 | L9: Kemudahan prosedur pelayanan di unit ini | R9: =H128 -> 144 | S9: =H129&" %" -> 100 %
D10: L | E10: : | F10: =Home!AC7 -> 19 | K10: P 3 | L10: Kecepatan waktu dalam memberikan pelayanan | R10: =I128 -> 144 | S10: =I129&" %" -> 100 %
D11: P | E11: : | F11: =Home!AD7 -> 17
B12: Jumlah/Capaian | E12: : | F12: =SUM(F10:F11)&" ("&ROUND((F10+F11)/F8*100,2)&" %"&")" -> 36 (144 %) | K12: P 4 | L12: Kewajaran biaya/tarif dalam pelayanan | R12: =J128 -> 144 | S12: =J129&" %" -> 100 %
B13: Jumlah Nilai | E13: : | F13: =R23 -> 1296 | K13: P 5 | L13: Kesesuaian produk pelayanan antara yang tercantum dalam standar pelayanan dengan hasil yang diberikan | R13: =K128 -> 144 | S13: =K129&" %" -> 100 %
B14: Skor Layanan | E14: : | F14: 100,00 (Sangat Baik)
B15: Nilai SKM | E15: : | F15: =Home!I7 -> 100
K16: P 6 | L16: Penanganan pengaduan pengguna layanan | R16: =L128 -> 144 | S16: =L129&" %" -> 100 %
K18: P 7 | L18: Kualitas sarana dan prasarana | R18: =M128 -> 144 | S18: =M129&" %" -> 100 %
K19: P 8 | L19: Perilaku petugas dalam pelayanan terkait kesopanan dan keramahan | R19: =N128 -> 144 | S19: =N129&" %" -> 100 %
K21: P 9 | L21: Kompetensi/kemampuan petugas dalam pelayanan | R21: =O128 -> 144 | S21: =O129&" %" -> 100 %
R23: =P128 -> 1296 | S23: =P129&" %" -> 100 %
P26: =Home!$F$25 -> Trenggalek, 30 September 2026
E27: KEPALA PUSKESMAS TRENGGALEK | P27: Penanggung jawab Ruangan
E32: dr. MURTI RUKIYANDARI | P32: xxx
E33: Pembina Utama Muida | P33: NIP.
E34: NIP. 19800611 200903 2 004
B37: Rincian
B39: NO. | C39: Tanggal | D39: NAMA | E39: LAYANAN | G39: P 1 | H39: P 2 | I39: P 3 | J39: P 4 | K39: P 5 | L39: P 6 | M39: P 7 | N39: P 8 | O39: P 9 | P39: SKOR | R39: Kritik dan Saran
B40: 1 | C40: 2 | D40: 3 | E40: 4 | G40: 5 | H40: 6 | I40: 7 | J40: 8 | K40: 9 | L40: 10 | M40: 11 | N40: 12 | O40: 13 | P40: 14 | R40: 15
B41: 1 | C41: 46266 | D41: Anonymous | E41: Ruang Pemeriksaan Gigi dan Mulut | G41: 4 | H41: 4 | I41: 4 | J41: 4 | K41: 4 | L41: 4 | M41: 4 | N41: 4 | O41: 4 | P41: 100 | Q41: (A) | R41: Memuaskan
B42: 2 | C42: 46267 | D42: Anonymous | E42: Ruang Pemeriksaan Gigi dan Mulut | G42: 4 | H42: 4 | I42: 4 | J42: 4 | K42: 4 | L42: 4 | M42: 4 | N42: 4 | O42: 4 | P42: 100 | Q42: (A) | R42: -
B43: 3 | C43: 46267 | D43: Anonymous | E43: Ruang Pemeriksaan Gigi dan Mulut | G43: 4 | H43: 4 | I43: 4 | J43: 4 | K43: 4 | L43: 4 | M43: 4 | N43: 4 | O43: 4 | P43: 100 | Q43: (A) | R43: -
B44: 4 | C44: 46267 | D44: Anonymous | E44: Ruang Pemeriksaan Gigi dan Mulut | G44: 4 | H44: 4 | I44: 4 | J44: 4 | K44: 4 | L44: 4 | M44: 4 | N44: 4 | O44: 4 | P44: 100 | Q44: (A) | R44: -
B45: 5 | C45: 46267 | D45: Anonymous | E45: Ruang Pemeriksaan Gigi dan Mulut | G45: 4 | H45: 4 | I45: 4 | J45: 4 | K45: 4 | L45: 4 | M45: 4 | N45: 4 | O45: 4 | P45: 100 | Q45: (A) | R45: -
B46: 6 | C46: 46267 | D46: Anonymous | E46: Ruang Pemeriksaan Gigi dan Mulut | G46: 4 | H46: 4 | I46: 4 | J46: 4 | K46: 4 | L46: 4 | M46: 4 | N46: 4 | O46: 4 | P46: 100 | Q46: (A) | R46: -
B47: 7 | C47: 46267 | D47: Anonymous | E47: Ruang Pemeriksaan Gigi dan Mulut | G47: 4 | H47: 4 | I47: 4 | J47: 4 | K47: 4 | L47: 4 | M47: 4 | N47: 4 | O47: 4 | P47: 100 | Q47: (A) | R47: -
B48: 8 | C48: 46267 | D48: Anonymous | E48: Ruang Pemeriksaan Gigi dan Mulut | G48: 4 | H48: 4 | I48: 4 | J48: 4 | K48: 4 | L48: 4 | M48: 4 | N48: 4 | O48: 4 | P48: 100 | Q48: (A) | R48: -
B49: 9 | C49: 46267 | D49: Anonymous | E49: Ruang Pemeriksaan Gigi dan Mulut | G49: 4 | H49: 4 | I49: 4 | J49: 4 | K49: 4 | L49: 4 | M49: 4 | N49: 4 | O49: 4 | P49: 100 | Q49: (A) | R49: -
B50: 10 | C50: 46268 | D50: Anonymous | E50: Ruang Pemeriksaan Gigi dan Mulut | G50: 4 | H50: 4 | I50: 4 | J50: 4 | K50: 4 | L50: 4 | M50: 4 | N50: 4 | O50: 4 | P50: 100 | Q50: (A) | R50: -
B51: 11 | C51: 46268 | D51: Anonymous | E51: Ruang Pemeriksaan Gigi dan Mulut | G51: 4 | H51: 4 | I51: 4 | J51: 4 | K51: 4 | L51: 4 | M51: 4 | N51: 4 | O51: 4 | P51: 100 | Q51: (A) | R51: Sesuai harapan
B52: 12 | C52: 46268 | D52: Anonymous | E52: Ruang Pemeriksaan Gigi dan Mulut | G52: 4 | H52: 4 | I52: 4 | J52: 4 | K52: 4 | L52: 4 | M52: 4 | N52: 4 | O52: 4 | P52: 100 | Q52: (A) | R52: Bagus.
... B76: 36 | C76: 46294 | D76: Anonymous | E76: Ruang Pemeriksaan Gigi dan Mulut | G76: 4 | H76: 4 | I76: 4 | J76: 4 | K76: 4 | L76: 4 | M76: 4 | N76: 4 | O76: 4 | P76: 100 | Q76: (A) | R76: Baik, Lanjutkan
B92: =IF(C92="","",SUBTOTAL(3,C$41:$C92))
B93: =IF(C93="","",SUBTOTAL(3,C$41:$C93))
B94: =IF(C94="","",SUBTOTAL(3,C$41:$C94))
B95: =IF(C95="","",SUBTOTAL(3,C$41:$C95))
B96: =IF(C96="","",SUBTOTAL(3,C$41:$C96))
B97: =IF(C97="","",SUBTOTAL(3,C$41:$C97))
B98: =IF(C98="","",SUBTOTAL(3,C$41:$C98))
B99: =IF(C99="","",SUBTOTAL(3,C$41:$C99))
B100: =IF(C100="","",SUBTOTAL(3,C$41:$C100))
B101: =IF(C101="","",SUBTOTAL(3,C$41:$C101))
B102: =IF(C102="","",SUBTOTAL(3,C$41:$C102))
B103: =IF(C103="","",SUBTOTAL(3,C$41:$C103))
... B127: =IF(C127="","",SUBTOTAL(3,C$41:$C127))
C128: Jumlah Nilai Per Unsur Layanan | G128: =SUM(G41:G127) -> 144 | H128: =SUM(H41:H127) -> 144 | I128: =SUM(I41:I127) -> 144 | J128: =SUM(J41:J127) -> 144 | K128: =SUM(K41:K127) -> 144 | L128: =SUM(L41:L127) -> 144 | M128: =SUM(M41:M127) -> 144 | N128: =SUM(N41:N127) -> 144 | O128: =SUM(O41:O127) -> 144 | P128: =SUM(G128:O128) -> 1296
G129: =G128/(MAX($B$41:$B$127)*4)*100 -> 100 | H129: =H128/(MAX($B$41:$B$127)*4)*100 -> 100 | I129: =I128/(MAX($B$41:$B$127)*4)*100 -> 100 | J129: =ROUND(J128/(MAX($B$41:$B$127)*4)*100,2) -> 100 | K129: =K128/(MAX($B$41:$B$127)*4)*100 -> 100 | L129: =L128/(MAX($B$41:$B$127)*4)*100 -> 100 | M129: =M128/(MAX($B$41:$B$127)*4)*100 -> 100 | N129: =ROUND(N128/(MAX($B$41:$B$127)*4)*100,2) -> 100 | O129: =O128/(MAX($B$41:$B$127)*4)*100 -> 100 | P129: =ROUND(P128/(MAX($B$41:$B$127)*4*9)*100,2) -> 100
C130: Nilai SKM Per Unsur Layanan | G130: A | H130: A | I130: A | J130: A | K130: A | L130: A | M130: A | N130: A | O130: A | P130: A
G131: Sangat Baik | H131: Sangat Baik | I131: Sangat Baik | J131: Sangat Baik | K131: Sangat Baik | L131: Sangat Baik | M131: Sangat Baik | N131: Sangat Baik | O131: Sangat Baik | P131: Sangat Baik
P133: =P26 -> Trenggalek, 30 September 2026
E134: KEPALA PUSKESMAS TRENGGALEK | P134: Penanggung jawab
P135: =F7 -> Ruang Pemeriksaan Gigi dan Mulut
E139: dr. MURTI RUKIYANDARI | P139: xxx
E140: Pembina Utama Muida | P140: NIP.
E141: NIP. 19800611 200903 2 004

Sheet 4
B2: LAPORAN SKM PUSKESMAS TRENGGALEK
B4: ="REKAPITULASI HASIL SKM PUSKESMAS TRENGGALEK BULAN "&UPPER(Home!C3) -> REKAPITULASI HASIL SKM PUSKESMAS TRENGGALEK BULAN SEPTEMBER 2026 | W4: =RIGHT(AB7,4)
L6: Unsur | R6: Unsur Responden | S6: Nilai Rata-Rata
B7: Nama Layanan | E7: : | F7: =Home!C8 -> Ruang Pemeriksaan KIA | K7: P 1 | L7: Kesesuaian persyaratan pelayanan dengan jenis pelayanannya | R7: =G128 -> 68 | S7: =G129&" %" -> 100 %
B8: Target Responden | E8: : | F8: =Home!AE8 -> 21
B9: Jumlah Responden | K9: P 2 | L9: Kemudahan prosedur pelayanan di unit ini | R9: =H128 -> 67 | S9: =H129&" %" -> 98.5294117647059 %
D10: L | E10: : | F10: =Home!AC8 -> 9 | K10: P 3 | L10: Kecepatan waktu dalam memberikan pelayanan | R10: =I128 -> 67 | S10: =I129&" %" -> 98.5294117647059 %
D11: P | E11: : | F11: =Home!AD8 -> 8
B12: Jumlah/Capaian | E12: : | F12: =SUM(F10:F11)&" ("&ROUND((F10+F11)/F8*100,2)&" %"&")" -> 17 (80.95 %) | K12: P 4 | L12: Kewajaran biaya/tarif dalam pelayanan | R12: =J128 -> 67 | S12: =J129&" %" -> 98.5294117647059 %
B13: Jumlah Nilai | E13: : | F13: =R23 -> 604 | K13: P 5 | L13: Kesesuaian produk pelayanan antara yang tercantum dalam standar pelayanan dengan hasil yang diberikan | R13: =K128 -> 67 | S13: =K129&" %" -> 98.5294117647059 %
B14: Skor Layanan | E14: : | F14: 100,00 (Sangat Baik)
B15: Nilai SKM | E15: : | F15: =Home!I8 -> 79.345
K16: P 6 | L16: Penanganan pengaduan pengguna layanan | R16: =L128 -> 67 | S16: =L129&" %" -> 98.5294117647059 %
K18: P 7 | L18: Kualitas sarana dan prasarana | R18: =M128 -> 66 | S18: =M129&" %" -> 97.0588235294118 %
K19: P 8 | L19: Perilaku petugas dalam pelayanan terkait kesopanan dan keramahan | R19: =N128 -> 67 | S19: =N129&" %" -> 98.5294117647059 %
K21: P 9 | L21: Kompetensi/kemampuan petugas dalam pelayanan | R21: =O128 -> 68 | S21: =O129&" %" -> 100 %
R23: =P128 -> 604 | S23: =P129&" %" -> 98.6928104575163 %
P26: =Home!$F$25 -> Trenggalek, 30 September 2026
E27: KEPALA PUSKESMAS TRENGGALEK | P27: Penanggung jawab Ruangan
E32: dr. MURTI RUKIYANDARI | P32: xxx
E33: Pembina Utama Muida | P33: NIP.
E34: NIP. 19800611 200903 2 004
B37: Rincian
B39: NO. | C39: Tanggal | D39: NAMA | E39: LAYANAN | G39: P 1 | H39: P 2 | I39: P 3 | J39: P 4 | K39: P 5 | L39: P 6 | M39: P 7 | N39: P 8 | O39: P 9 | P39: SKOR | R39: Kritik dan Saran
B40: 1 | C40: 2 | D40: 3 | E40: 4 | G40: 5 | H40: 6 | I40: 7 | J40: 8 | K40: 9 | L40: 10 | M40: 11 | N40: 12 | O40: 13 | P40: 14 | R40: 15
B41: 1 | C41: 46268 | D41: Anonymous | E41: Ruang Pemeriksaan KIA | G41: 4 | H41: 4 | I41: 4 | J41: 4 | K41: 4 | L41: 4 | M41: 4 | N41: 4 | O41: 4 | P41: 100 | Q41: (A) | R41: Layanan bagus
B42: 2 | C42: 46269 | D42: Anonymous | E42: Ruang Pemeriksaan KIA | G42: 4 | H42: 4 | I42: 4 | J42: 4 | K42: 4 | L42: 4 | M42: 4 | N42: 4 | O42: 4 | P42: 100 | Q42: (A) | R42: -
B43: 3 | C43: 46269 | D43: Anonymous | E43: Ruang Pemeriksaan KIA | G43: 4 | H43: 3 | I43: 3 | J43: 3 | K43: 3 | L43: 3 | M43: 2 | N43: 3 | O43: 4 | P43: 77.78 | Q43: (B) | R43: Penjelasan dari petugas kurang jelas dan ambigu
B44: 4 | C44: 46274 | D44: Anonymous | E44: Ruang Pemeriksaan KIA | G44: 4 | H44: 4 | I44: 4 | J44: 4 | K44: 4 | L44: 4 | M44: 4 | N44: 4 | O44: 4 | P44: 100 | Q44: (A) | R44: Bagus lanjutkan
B45: 5 | C45: 46290 | D45: Anonymous | E45: Ruang Pemeriksaan KIA | G45: 4 | H45: 4 | I45: 4 | J45: 4 | K45: 4 | L45: 4 | M45: 4 | N45: 4 | O45: 4 | P45: 100 | Q45: (A) | R45: -
B46: 6 | C46: 46294 | D46: Anonymous | E46: Ruang Pemeriksaan KIA | G46: 4 | H46: 4 | I46: 4 | J46: 4 | K46: 4 | L46: 4 | M46: 4 | N46: 4 | O46: 4 | P46: 100 | Q46: (A) | R46: -
B47: 7 | C47: 46294 | D47: Anonymous | E47: Ruang Pemeriksaan KIA | G47: 4 | H47: 4 | I47: 4 | J47: 4 | K47: 4 | L47: 4 | M47: 4 | N47: 4 | O47: 4 | P47: 100 | Q47: (A) | R47: -
B48: 8 | C48: 46295 | D48: Anonymous | E48: Ruang Pemeriksaan KIA | G48: 4 | H48: 4 | I48: 4 | J48: 4 | K48: 4 | L48: 4 | M48: 4 | N48: 4 | O48: 4 | P48: 100 | Q48: (A) | R48: -
B49: =IF(C49="","",SUBTOTAL(3,C$41:$C49)) -> 9 | C49: 46295 | D49: Anonymous | E49: Ruang Pemeriksaan KIA | G49: 4 | H49: 4 | I49: 4 | J49: 4 | K49: 4 | L49: 4 | M49: 4 | N49: 4 | O49: 4 | P49: 100 | Q49: (A) | R49: -
B50: =IF(C50="","",SUBTOTAL(3,C$41:$C50)) -> 10 | C50: 46295 | D50: Anonymous | E50: Ruang Pemeriksaan KIA | G50: 4 | H50: 4 | I50: 4 | J50: 4 | K50: 4 | L50: 4 | M50: 4 | N50: 4 | O50: 4 | P50: 100 | Q50: (A) | R50: -
B51: =IF(C51="","",SUBTOTAL(3,C$41:$C51)) -> 11 | C51: 46295 | D51: Anonymous | E51: Ruang Pemeriksaan KIA | G51: 4 | H51: 4 | I51: 4 | J51: 4 | K51: 4 | L51: 4 | M51: 4 | N51: 4 | O51: 4 | P51: 100 | Q51: (A) | R51: -
B52: =IF(C52="","",SUBTOTAL(3,C$41:$C52)) -> 12 | C52: 46295 | D52: Anonymous | E52: Ruang Pemeriksaan KIA | G52: 4 | H52: 4 | I52: 4 | J52: 4 | K52: 4 | L52: 4 | M52: 4 | N52: 4 | O52: 4 | P52: 100 | Q52: (A) | R52: -
B53: =IF(C53="","",SUBTOTAL(3,C$41:$C53)) -> 13 | C53: 46295 | D53: Anonymous | E53: Ruang Pemeriksaan KIA | G53: 4 | H53: 4 | I53: 4 | J53: 4 | K53: 4 | L53: 4 | M53: 4 | N53: 4 | O53: 4 | P53: 100 | Q53: (A) | R53: -
B54: =IF(C54="","",SUBTOTAL(3,C$41:$C54)) -> 14 | C54: 46295 | D54: Anonymous | E54: Ruang Pemeriksaan KIA | G54: 4 | H54: 4 | I54: 4 | J54: 4 | K54: 4 | L54: 4 | M54: 4 | N54: 4 | O54: 4 | P54: 100 | Q54: (A) | R54: -
B55: =IF(C55="","",SUBTOTAL(3,C$41:$C55)) -> 15 | C55: 46295 | D55: Anonymous | E55: Ruang Pemeriksaan KIA | G55: 4 | H55: 4 | I55: 4 | J55: 4 | K55: 4 | L55: 4 | M55: 4 | N55: 4 | O55: 4 | P55: 100 | Q55: (A) | R55: -
B56: =IF(C56="","",SUBTOTAL(3,C$41:$C56)) -> 16 | C56: 46295 | D56: Anonymous | E56: Ruang Pemeriksaan KIA | G56: 4 | H56: 4 | I56: 4 | J56: 4 | K56: 4 | L56: 4 | M56: 4 | N56: 4 | O56: 4 | P56: 100 | Q56: (A) | R56: -
B57: =IF(C57="","",SUBTOTAL(3,C$41:$C57)) -> 17 | C57: 46295 | D57: Anonymous | E57: Ruang Pemeriksaan KIA | G57: 4 | H57: 4 | I57: 4 | J57: 4 | K57: 4 | L57: 4 | M57: 4 | N57: 4 | O57: 4 | P57: 100 | Q57: (A) | R57: -
B58: =IF(C58="","",SUBTOTAL(3,C$41:$C58))
B59: =IF(C59="","",SUBTOTAL(3,C$41:$C59))
B60: =IF(C60="","",SUBTOTAL(3,C$41:$C60))
B61: =IF(C61="","",SUBTOTAL(3,C$41:$C61))
B62: =IF(C62="","",SUBTOTAL(3,C$41:$C62))
B63: =IF(C63="","",SUBTOTAL(3,C$41:$C63))
B64: =IF(C64="","",SUBTOTAL(3,C$41:$C64))
B65: =IF(C65="","",SUBTOTAL(3,C$41:$C65))
B66: =IF(C66="","",SUBTOTAL(3,C$41:$C66))
B67: =IF(C67="","",SUBTOTAL(3,C$41:$C67))
B68: =IF(C68="","",SUBTOTAL(3,C$41:$C68))
B69: =IF(C69="","",SUBTOTAL(3,C$41:$C69))
... B127: =IF(C127="","",SUBTOTAL(3,C$41:$C127))
C128: Jumlah Nilai Per Unsur Layanan | G128: =SUBTOTAL(9,G41:G127) -> 68 | H128: =SUBTOTAL(9,H41:H127) -> 67 | I128: =SUBTOTAL(9,I41:I127) -> 67 | J128: =SUBTOTAL(9,J41:J127) -> 67 | K128: =SUBTOTAL(9,K41:K127) -> 67 | L128: =SUBTOTAL(9,L41:L127) -> 67 | M128: =SUBTOTAL(9,M41:M127) -> 66 | N128: =SUBTOTAL(9,N41:N127) -> 67 | O128: =SUBTOTAL(9,O41:O127) -> 68 | P128: =SUM(G128:O128) -> 604
G129: =G128/(MAX($B$41:$B$127)*4)*100 -> 100 | H129: =H128/(MAX($B$41:$B$127)*4)*100 -> 98.529412 | I129: =I128/(MAX($B$41:$B$127)*4)*100 -> 98.529412 | J129: =J128/(MAX($B$41:$B$127)*4)*100 -> 98.529412 | K129: =K128/(MAX($B$41:$B$127)*4)*100 -> 98.529412 | L129: =L128/(MAX($B$41:$B$127)*4)*100 -> 98.529412 | M129: =M128/(MAX($B$41:$B$127)*4)*100 -> 97.058824 | N129: =N128/(MAX($B$41:$B$127)*4)*100 -> 98.529412 | O129: =O128/(MAX($B$41:$B$127)*4)*100 -> 100 | P129: =P128/(MAX($B$41:$B$127)*4*9)*100 -> 98.69281
C130: Nilai SKM Per Unsur Layanan | G130: A | H130: A | I130: A | J130: A | K130: A | L130: A | M130: A | N130: A | O130: A | P130: A
G131: Sangat Baik | H131: Sangat Baik | I131: Sangat Baik | J131: Sangat Baik | K131: Sangat Baik | L131: Sangat Baik | M131: Sangat Baik | N131: Sangat Baik | O131: Sangat Baik | P131: Sangat Baik
P133: =P26 -> Trenggalek, 30 September 2026
E134: KEPALA PUSKESMAS TRENGGALEK | P134: Penanggung jawab
P135: =F7 -> Ruang Pemeriksaan KIA
E139: dr. MURTI RUKIYANDARI | P139: xxx
E140: Pembina Utama Muida | P140: NIP.
E141: NIP. 19800611 200903 2 004

Sheet 5
B2: LAPORAN SKM PUSKESMAS TRENGGALEK
B4: ="REKAPITULASI HASIL SKM PUSKESMAS TRENGGALEK BULAN "&UPPER(Home!C3) -> REKAPITULASI HASIL SKM PUSKESMAS TRENGGALEK BULAN SEPTEMBER 2026 | W4: =RIGHT(AB7,4)
L6: Unsur | R6: Unsur Responden | S6: Nilai Rata-Rata
B7: Nama Layanan | E7: : | F7: =Home!C9 -> Ruang Farmasi dan Gudang Obat | K7: P 1 | L7: Kesesuaian persyaratan pelayanan dengan jenis pelayanannya | R7: =G128 -> 156 | S7: =G129&" %" -> 100 %
B8: Target Responden | E8: : | F8: =Home!AE9 -> 48
B9: Jumlah Responden | K9: P 2 | L9: Kemudahan prosedur pelayanan di unit ini | R9: =H128 -> 156 | S9: =H129&" %" -> 100 %
D10: L | E10: : | F10: =Home!AC9 -> 21 | K10: P 3 | L10: Kecepatan waktu dalam memberikan pelayanan | R10: =I128 -> 156 | S10: =I129&" %" -> 100 %
D11: P | E11: : | F11: =Home!AD9 -> 18
B12: Jumlah/Capaian | E12: : | F12: =SUM(F10:F11)&" ("&ROUND((F10+F11)/F8*100,2)&" %"&")" -> 39 (81.25 %) | K12: P 4 | L12: Kewajaran biaya/tarif dalam pelayanan | R12: =J128 -> 156 | S12: =J129&" %" -> 100 %
B13: Jumlah Nilai | E13: : | F13: =R23 -> 1404 | K13: P 5 | L13: Kesesuaian produk pelayanan antara yang tercantum dalam standar pelayanan dengan hasil yang diberikan | R13: =K128 -> 156 | S13: =K129&" %" -> 100 %
B14: Skor Layanan | E14: : | F14: 100,00 (Sangat Baik)
B15: Nilai SKM | E15: : | F15: =Home!I9 -> 80
K16: P 6 | L16: Penanganan pengaduan pengguna layanan | R16: =L128 -> 156 | S16: =ROUND(L129,2)&" %" -> 100 %
K18: P 7 | L18: Kualitas sarana dan prasarana | R18: =M128 -> 156 | S18: =M129&" %" -> 100 %
K19: P 8 | L19: Perilaku petugas dalam pelayanan terkait kesopanan dan keramahan | R19: =N128 -> 156 | S19: =N129&" %" -> 100 %
K21: P 9 | L21: Kompetensi/kemampuan petugas dalam pelayanan | R21: =O128 -> 156 | S21: =O129&" %" -> 100 %
R23: =P128 -> 1404 | S23: =ROUND(P129,2)&" %" -> 100 %
P26: =Home!$F$25 -> Trenggalek, 30 September 2026
E27: KEPALA PUSKESMAS TRENGGALEK | P27: Penanggung jawab Ruangan
E32: dr. MURTI RUKIYANDARI | P32: xxx
E33: Pembina Utama Muida | P33: NIP.
E34: NIP. 19800611 200903 2 004
B37: Rincian
B39: NO. | C39: Tanggal | D39: NAMA | E39: LAYANAN | G39: P 1 | H39: P 2 | I39: P 3 | J39: P 4 | K39: P 5 | L39: P 6 | M39: P 7 | N39: P 8 | O39: P 9 | P39: SKOR | R39: Kritik dan Saran
B40: 1 | C40: 2 | D40: 3 | E40: 4 | G40: 5 | H40: 6 | I40: 7 | J40: 8 | K40: 9 | L40: 10 | M40: 11 | N40: 12 | O40: 13 | P40: 14 | R40: 15
B41: 1 | C41: 46282 | D41: Anonymous | E41: Ruang Farmasi dan Gudang Obat | G41: 4 | H41: 4 | I41: 4 | J41: 4 | K41: 4 | L41: 4 | M41: 4 | N41: 4 | O41: 4 | P41: 100 | Q41: (A) | R41: -
B42: 2 | C42: 46294 | D42: Anonymous | E42: Ruang Farmasi dan Gudang Obat | G42: 4 | H42: 4 | I42: 4 | J42: 4 | K42: 4 | L42: 4 | M42: 4 | N42: 4 | O42: 4 | P42: 100 | Q42: (A) | R42: -
B43: 3 | C43: 46294 | D43: Anonymous | E43: Ruang Farmasi dan Gudang Obat | G43: 4 | H43: 4 | I43: 4 | J43: 4 | K43: 4 | L43: 4 | M43: 4 | N43: 4 | O43: 4 | P43: 100 | Q43: (A) | R43: -
B44: 4 | C44: 46294 | D44: Anonymous | E44: Ruang Farmasi dan Gudang Obat | G44: 4 | H44: 4 | I44: 4 | J44: 4 | K44: 4 | L44: 4 | M44: 4 | N44: 4 | O44: 4 | P44: 100 | Q44: (A) | R44: -
B45: 5 | C45: 46294 | D45: Anonymous | E45: Ruang Farmasi dan Gudang Obat | G45: 4 | H45: 4 | I45: 4 | J45: 4 | K45: 4 | L45: 4 | M45: 4 | N45: 4 | O45: 4 | P45: 100 | Q45: (A) | R45: -
B46: 6 | C46: 46294 | D46: Anonymous | E46: Ruang Farmasi dan Gudang Obat | G46: 4 | H46: 4 | I46: 4 | J46: 4 | K46: 4 | L46: 4 | M46: 4 | N46: 4 | O46: 4 | P46: 100 | Q46: (A) | R46: -
B47: 7 | C47: 46294 | D47: Anonymous | E47: Ruang Farmasi dan Gudang Obat | G47: 4 | H47: 4 | I47: 4 | J47: 4 | K47: 4 | L47: 4 | M47: 4 | N47: 4 | O47: 4 | P47: 100 | Q47: (A) | R47: -
B48: 8 | C48: 46294 | D48: Anonymous | E48: Ruang Farmasi dan Gudang Obat | G48: 4 | H48: 4 | I48: 4 | J48: 4 | K48: 4 | L48: 4 | M48: 4 | N48: 4 | O48: 4 | P48: 100 | Q48: (A) | R48: -
B49: 9 | C49: 46294 | D49: Anonymous | E49: Ruang Farmasi dan Gudang Obat | G49: 4 | H49: 4 | I49: 4 | J49: 4 | K49: 4 | L49: 4 | M49: 4 | N49: 4 | O49: 4 | P49: 100 | Q49: (A) | R49: -
B50: 10 | C50: 46294 | D50: Anonymous | E50: Ruang Farmasi dan Gudang Obat | G50: 4 | H50: 4 | I50: 4 | J50: 4 | K50: 4 | L50: 4 | M50: 4 | N50: 4 | O50: 4 | P50: 100 | Q50: (A) | R50: -
B51: 11 | C51: 46294 | D51: Anonymous | E51: Ruang Farmasi dan Gudang Obat | G51: 4 | H51: 4 | I51: 4 | J51: 4 | K51: 4 | L51: 4 | M51: 4 | N51: 4 | O51: 4 | P51: 100 | Q51: (A) | R51: -
B52: 12 | C52: 46294 | D52: Anonymous | E52: Ruang Farmasi dan Gudang Obat | G52: 4 | H52: 4 | I52: 4 | J52: 4 | K52: 4 | L52: 4 | M52: 4 | N52: 4 | O52: 4 | P52: 100 | Q52: (A) | R52: -
... B75: 35 | C75: 46295 | D75: Anonymous | E75: Ruang Farmasi dan Gudang Obat | G75: 4 | H75: 4 | I75: 4 | J75: 4 | K75: 4 | L75: 4 | M75: 4 | N75: 4 | O75: 4 | P75: 100 | Q75: (A) | R75: -
B76: =IF(C76="","",SUBTOTAL(3,C$41:$C76)) -> 36 | C76: 46295 | D76: Anonymous | E76: Ruang Farmasi dan Gudang Obat | G76: 4 | H76: 4 | I76: 4 | J76: 4 | K76: 4 | L76: 4 | M76: 4 | N76: 4 | O76: 4 | P76: 100 | Q76: (A) | R76: -
B77: =IF(C77="","",SUBTOTAL(3,C$41:$C77)) -> 37 | C77: 46295 | D77: Anonymous | E77: Ruang Farmasi dan Gudang Obat | G77: 4 | H77: 4 | I77: 4 | J77: 4 | K77: 4 | L77: 4 | M77: 4 | N77: 4 | O77: 4 | P77: 100 | Q77: (A) | R77: -
B78: =IF(C78="","",SUBTOTAL(3,C$41:$C78)) -> 38 | C78: 46295 | D78: Anonymous | E78: Ruang Farmasi dan Gudang Obat | G78: 4 | H78: 4 | I78: 4 | J78: 4 | K78: 4 | L78: 4 | M78: 4 | N78: 4 | O78: 4 | P78: 100 | Q78: (A) | R78: -
B79: =IF(C79="","",SUBTOTAL(3,C$41:$C79)) -> 39 | C79: 46295 | D79: Anonymous | E79: Ruang Farmasi dan Gudang Obat | G79: 4 | H79: 4 | I79: 4 | J79: 4 | K79: 4 | L79: 4 | M79: 4 | N79: 4 | O79: 4 | P79: 100 | Q79: (A) | R79: -
B80: =IF(C80="","",SUBTOTAL(3,C$41:$C80))
B81: =IF(C81="","",SUBTOTAL(3,C$41:$C81))
B82: =IF(C82="","",SUBTOTAL(3,C$41:$C82))
B83: =IF(C83="","",SUBTOTAL(3,C$41:$C83))
B84: =IF(C84="","",SUBTOTAL(3,C$41:$C84))
B85: =IF(C85="","",SUBTOTAL(3,C$41:$C85))
B86: =IF(C86="","",SUBTOTAL(3,C$41:$C86))
B87: =IF(C87="","",SUBTOTAL(3,C$41:$C87))
B88: =IF(C88="","",SUBTOTAL(3,C$41:$C88))
B89: =IF(C89="","",SUBTOTAL(3,C$41:$C89))
B90: =IF(C90="","",SUBTOTAL(3,C$41:$C90))
B91: =IF(C91="","",SUBTOTAL(3,C$41:$C91))
... B127: =IF(C127="","",SUBTOTAL(3,C$41:$C127))
C128: Jumlah Nilai Per Unsur Layanan | G128: =SUBTOTAL(9,G41:G127) -> 156 | H128: =SUBTOTAL(9,H41:H127) -> 156 | I128: =SUBTOTAL(9,I41:I127) -> 156 | J128: =SUBTOTAL(9,J41:J127) -> 156 | K128: =SUBTOTAL(9,K41:K127) -> 156 | L128: =SUBTOTAL(9,L41:L127) -> 156 | M128: =SUBTOTAL(9,M41:M127) -> 156 | N128: =SUBTOTAL(9,N41:N127) -> 156 | O128: =SUBTOTAL(9,O41:O127) -> 156 | P128: =SUM(G128:O128) -> 1404
G129: =G128/(MAX($B$41:$B$127)*4)*100 -> 100 | H129: =H128/(MAX($B$41:$B$127)*4)*100 -> 100 | I129: =I128/(MAX($B$41:$B$127)*4)*100 -> 100 | J129: =J128/(MAX($B$41:$B$127)*4)*100 -> 100 | K129: =K128/(MAX($B$41:$B$127)*4)*100 -> 100 | L129: =L128/(MAX($B$41:$B$127)*4)*100 -> 100 | M129: =M128/(MAX($B$41:$B$127)*4)*100 -> 100 | N129: =N128/(MAX($B$41:$B$127)*4)*100 -> 100 | O129: =O128/(MAX($B$41:$B$127)*4)*100 -> 100 | P129: =P128/(MAX($B$41:$B$127)*4*9)*100 -> 100
C130: Nilai SKM Per Unsur Layanan | G130: A | H130: A | I130: A | J130: A | K130: A | L130: A | M130: A | N130: A | O130: A | P130: A
G131: Sangat Baik | H131: Sangat Baik | I131: Sangat Baik | J131: Sangat Baik | K131: Sangat Baik | L131: Sangat Baik | M131: Sangat Baik | N131: Sangat Baik | O131: Sangat Baik | P131: Sangat Baik
P133: =P26 -> Trenggalek, 30 September 2026
E134: KEPALA PUSKESMAS TRENGGALEK | P134: Penanggung jawab
P135: =F7 -> Ruang Farmasi dan Gudang Obat
E139: dr. MURTI RUKIYANDARI | P139: xxx
E140: Pembina Utama Muida | P140: NIP.
E141: NIP. 19800611 200903 2 004

Sheet 6
B2: LAPORAN SKM PUSKESMAS TRENGGALEK
B4: ="REKAPITULASI HASIL SKM PUSKESMAS TRENGGALEK BULAN "&UPPER(Home!C3) -> REKAPITULASI HASIL SKM PUSKESMAS TRENGGALEK BULAN SEPTEMBER 2026 | W4: =RIGHT(AB7,4)
L6: Unsur | R6: Unsur Responden | S6: Nilai Rata-Rata
B7: Nama Layanan | E7: : | F7: =Home!C10 -> Ruang Persalinan | K7: P 1 | L7: Kesesuaian persyaratan pelayanan dengan jenis pelayanannya | R7: =G128 -> 4 | S7: =G129&" %" -> 50 %
B8: Target Responden | E8: : | F8: =Home!AE10 -> 1
B9: Jumlah Responden | K9: P 2 | L9: Kemudahan prosedur pelayanan di unit ini | R9: =H128 -> 4 | S9: =H129&" %" -> 50 %
D10: L | E10: : | F10: =Home!AC10 -> 1 | K10: P 3 | L10: Kecepatan waktu dalam memberikan pelayanan | R10: =I128 -> 4 | S10: =I129&" %" -> 50 %
D11: P | E11: : | F11: =Home!AD10 -> 0
B12: Jumlah/Capaian | E12: : | F12: =SUM(F10:F11)&" ("&ROUND((F10+F11)/F8*100,2)&" %"&")" -> 1 (100 %) | K12: P 4 | L12: Kewajaran biaya/tarif dalam pelayanan | R12: =J128 -> 4 | S12: =J129&" %" -> 50 %
B13: Jumlah Nilai | E13: : | F13: =R23 -> 36 | K13: P 5 | L13: Kesesuaian produk pelayanan antara yang tercantum dalam standar pelayanan dengan hasil yang diberikan | R13: =K128 -> 4 | S13: =K129&" %" -> 50 %
B14: Skor Layanan | E14: : | F14: 100,00 (Sangat Baik)
B15: Nilai SKM | E15: : | F15: =Home!I10 -> 100
K16: P 6 | L16: Penanganan pengaduan pengguna layanan | R16: =L128 -> 4 | S16: =L129&" %" -> 50 %
K18: P 7 | L18: Kualitas sarana dan prasarana | R18: =M128 -> 4 | S18: =M129&" %" -> 50 %
K19: P 8 | L19: Perilaku petugas dalam pelayanan terkait kesopanan dan keramahan | R19: =N128 -> 4 | S19: =N129&" %" -> 50 %
K21: P 9 | L21: Kompetensi/kemampuan petugas dalam pelayanan | R21: =O128 -> 4 | S21: =O129&" %" -> 50 %
R23: =P128 -> 36 | S23: =P129&" %" -> 50 %
P26: =Home!$F$25 -> Trenggalek, 30 September 2026
E27: KEPALA PUSKESMAS TRENGGALEK | P27: Penanggung jawab Ruangan
E32: dr. MURTI RUKIYANDARI | P32: xxx
E33: Pembina Utama Muida | P33: NIP.
E34: NIP. 19800611 200903 2 004
B37: Rincian
B39: NO. | C39: Tanggal | D39: NAMA | E39: LAYANAN | G39: P 1 | H39: P 2 | I39: P 3 | J39: P 4 | K39: P 5 | L39: P 6 | M39: P 7 | N39: P 8 | O39: P 9 | P39: SKOR | R39: Kritik dan Saran
B40: 1 | C40: 2 | D40: 3 | E40: 4 | G40: 5 | H40: 6 | I40: 7 | J40: 8 | K40: 9 | L40: 10 | M40: 11 | N40: 12 | O40: 13 | P40: 14 | R40: 15
B41: 1 | C41: 46268 | D41: Anonymous | E41: Ruang Persalinan | G41: 4 | H41: 4 | I41: 4 | J41: 4 | K41: 4 | L41: 4 | M41: 4 | N41: 4 | O41: 4 | P41: 100 | Q41: (A) | R41: Layanan bagus
B42: 2
B44: =IF(C44="","",SUBTOTAL(3,C$41:$C44))
B45: =IF(C45="","",SUBTOTAL(3,C$41:$C45))
B46: =IF(C46="","",SUBTOTAL(3,C$41:$C46))
B47: =IF(C47="","",SUBTOTAL(3,C$41:$C47))
B48: =IF(C48="","",SUBTOTAL(3,C$41:$C48))
B49: =IF(C49="","",SUBTOTAL(3,C$41:$C49))
B50: =IF(C50="","",SUBTOTAL(3,C$41:$C50))
B51: =IF(C51="","",SUBTOTAL(3,C$41:$C51))
B52: =IF(C52="","",SUBTOTAL(3,C$41:$C52))
B53: =IF(C53="","",SUBTOTAL(3,C$41:$C53))
B54: =IF(C54="","",SUBTOTAL(3,C$41:$C54))
B55: =IF(C55="","",SUBTOTAL(3,C$41:$C55))
... B127: =IF(C127="","",SUBTOTAL(3,C$41:$C127))
C128: Jumlah Nilai Per Unsur Layanan | G128: =SUBTOTAL(9,G41:G127) -> 4 | H128: =SUBTOTAL(9,H41:H127) -> 4 | I128: =SUBTOTAL(9,I41:I127) -> 4 | J128: =SUBTOTAL(9,J41:J127) -> 4 | K128: =SUBTOTAL(9,K41:K127) -> 4 | L128: =SUBTOTAL(9,L41:L127) -> 4 | M128: =SUBTOTAL(9,M41:M127) -> 4 | N128: =SUBTOTAL(9,N41:N127) -> 4 | O128: =SUBTOTAL(9,O41:O127) -> 4 | P128: =SUM(G128:O128) -> 36
G129: =G128/(MAX($B$41:$B$127)*4)*100 -> 50 | H129: =H128/(MAX($B$41:$B$127)*4)*100 -> 50 | I129: =I128/(MAX($B$41:$B$127)*4)*100 -> 50 | J129: =J128/(MAX($B$41:$B$127)*4)*100 -> 50 | K129: =K128/(MAX($B$41:$B$127)*4)*100 -> 50 | L129: =L128/(MAX($B$41:$B$127)*4)*100 -> 50 | M129: =M128/(MAX($B$41:$B$127)*4)*100 -> 50 | N129: =N128/(MAX($B$41:$B$127)*4)*100 -> 50 | O129: =O128/(MAX($B$41:$B$127)*4)*100 -> 50 | P129: =P128/(MAX($B$41:$B$127)*4*9)*100 -> 50
C130: Nilai SKM Per Unsur Layanan | G130: A | H130: A | I130: A | J130: A | K130: A | L130: A | M130: A | N130: A | O130: A | P130: A
G131: Sangat Baik | H131: Sangat Baik | I131: Sangat Baik | J131: Sangat Baik | K131: Sangat Baik | L131: Sangat Baik | M131: Sangat Baik | N131: Sangat Baik | O131: Sangat Baik | P131: Sangat Baik
P133: =P26 -> Trenggalek, 30 September 2026
E134: KEPALA PUSKESMAS TRENGGALEK | P134: Penanggung jawab
P135: =F7 -> Ruang Persalinan
E139: dr. MURTI RUKIYANDARI | P139: xxx
E140: Pembina Utama Muida | P140: NIP.
E141: NIP. 19800611 200903 2 004

Sheet 7
B2: LAPORAN SKM PUSKESMAS TRENGGALEK
B4: ="REKAPITULASI HASIL SKM PUSKESMAS TRENGGALEK BULAN "&UPPER(Home!C3) -> REKAPITULASI HASIL SKM PUSKESMAS TRENGGALEK BULAN SEPTEMBER 2026 | W4: =RIGHT(AB7,4)
L6: Unsur | R6: Unsur Responden | S6: Nilai Rata-Rata
B7: Nama Layanan | E7: : | F7: =Home!C11 -> Kasir | K7: P 1 | L7: Kesesuaian persyaratan pelayanan dengan jenis pelayanannya | R7: =G128 -> 256 | S7: =G129&" %" -> 100 %
B8: Target Responden | E8: : | F8: =Home!AE11 -> 58
B9: Jumlah Responden | K9: P 2 | L9: Kemudahan prosedur pelayanan di unit ini | R9: =H128 -> 256 | S9: =H129&" %" -> 100 %
D10: L | E10: : | F10: =Home!AC11 -> 35 | K10: P 3 | L10: Kecepatan waktu dalam memberikan pelayanan | R10: =I128 -> 256 | S10: =I129&" %" -> 100 %
D11: P | E11: : | F11: =Home!AD11 -> 29
B12: Jumlah/Capaian | E12: : | F12: =SUM(F10:F11)&" ("&ROUND((F10+F11)/F8*100,2)&" %"&")" -> 64 (110.34 %) | K12: P 4 | L12: Kewajaran biaya/tarif dalam pelayanan | R12: =J128 -> 256 | S12: =J129&" %" -> 100 %
B13: Jumlah Nilai | E13: : | F13: =R23 -> 2304 | K13: P 5 | L13: Kesesuaian produk pelayanan antara yang tercantum dalam standar pelayanan dengan hasil yang diberikan | R13: =K128 -> 256 | S13: =K129&" %" -> 100 %
B14: Skor Layanan | E14: : | F14: 100,00 (Sangat Baik)
B15: Nilai SKM | E15: : | F15: =Home!I11 -> 100
K16: P 6 | L16: Penanganan pengaduan pengguna layanan | R16: =L128 -> 256 | S16: =L129&" %" -> 100 %
K18: P 7 | L18: Kualitas sarana dan prasarana | R18: =M128 -> 256 | S18: =M129&" %" -> 100 %
K19: P 8 | L19: Perilaku petugas dalam pelayanan terkait kesopanan dan keramahan | R19: =N128 -> 256 | S19: =N129&" %" -> 100 %
K21: P 9 | L21: Kompetensi/kemampuan petugas dalam pelayanan | R21: =O128 -> 256 | S21: =O129&" %" -> 100 %
R23: =P128 -> 2304 | S23: =P129&" %" -> 100 %
P26: =Home!$F$25 -> Trenggalek, 30 September 2026
E27: KEPALA PUSKESMAS TRENGGALEK | P27: Penanggung jawab Ruangan
E32: dr. MURTI RUKIYANDARI | P32: xxx
E33: Pembina Utama Muida | P33: NIP.
E34: NIP. 19800611 200903 2 004
B37: Rincian
B39: NO. | C39: Tanggal | D39: NAMA | E39: LAYANAN | G39: P 1 | H39: P 2 | I39: P 3 | J39: P 4 | K39: P 5 | L39: P 6 | M39: P 7 | N39: P 8 | O39: P 9 | P39: SKOR | R39: Kritik dan Saran
B40: 1 | C40: 2 | D40: 3 | E40: 4 | G40: 5 | H40: 6 | I40: 7 | J40: 8 | K40: 9 | L40: 10 | M40: 11 | N40: 12 | O40: 13 | P40: 14 | R40: 15
B41: 1 | C41: 46266 | D41: Anonymous | E41: Kasir | G41: 4 | H41: 4 | I41: 4 | J41: 4 | K41: 4 | L41: 4 | M41: 4 | N41: 4 | O41: 4 | P41: 100 | Q41: (A) | R41: ????
B42: 2 | C42: 46267 | D42: Anonymous | E42: Kasir | G42: 4 | H42: 4 | I42: 4 | J42: 4 | K42: 4 | L42: 4 | M42: 4 | N42: 4 | O42: 4 | P42: 100 | Q42: (A) | R42: -
B43: 3 | C43: 46268 | D43: Anonymous | E43: Kasir | G43: 4 | H43: 4 | I43: 4 | J43: 4 | K43: 4 | L43: 4 | M43: 4 | N43: 4 | O43: 4 | P43: 100 | Q43: (A) | R43: -
B44: 4 | C44: 46268 | D44: Anonymous | E44: Kasir | G44: 4 | H44: 4 | I44: 4 | J44: 4 | K44: 4 | L44: 4 | M44: 4 | N44: 4 | O44: 4 | P44: 100 | Q44: (A) | R44: -
B45: 5 | C45: 46271 | D45: Anonymous | E45: Kasir | G45: 4 | H45: 4 | I45: 4 | J45: 4 | K45: 4 | L45: 4 | M45: 4 | N45: 4 | O45: 4 | P45: 100 | Q45: (A) | R45: -
B46: 6 | C46: 46271 | D46: Anonymous | E46: Kasir | G46: 4 | H46: 4 | I46: 4 | J46: 4 | K46: 4 | L46: 4 | M46: 4 | N46: 4 | O46: 4 | P46: 100 | Q46: (A) | R46: -
B47: 7 | C47: 46272 | D47: Anonymous | E47: Kasir | G47: 4 | H47: 4 | I47: 4 | J47: 4 | K47: 4 | L47: 4 | M47: 4 | N47: 4 | O47: 4 | P47: 100 | Q47: (A) | R47: -
B48: 8 | C48: 46272 | D48: Anonymous | E48: Kasir | G48: 4 | H48: 4 | I48: 4 | J48: 4 | K48: 4 | L48: 4 | M48: 4 | N48: 4 | O48: 4 | P48: 100 | Q48: (A) | R48: -
B49: 9 | C49: 46272 | D49: Anonymous | E49: Kasir | G49: 4 | H49: 4 | I49: 4 | J49: 4 | K49: 4 | L49: 4 | M49: 4 | N49: 4 | O49: 4 | P49: 100 | Q49: (A) | R49: -
B50: 10 | C50: 46273 | D50: Anonymous | E50: Kasir | G50: 4 | H50: 4 | I50: 4 | J50: 4 | K50: 4 | L50: 4 | M50: 4 | N50: 4 | O50: 4 | P50: 100 | Q50: (A) | R50: -
B51: 11 | C51: 46274 | D51: Anonymous | E51: Kasir | G51: 4 | H51: 4 | I51: 4 | J51: 4 | K51: 4 | L51: 4 | M51: 4 | N51: 4 | O51: 4 | P51: 100 | Q51: (A) | R51: -
B52: 12 | C52: 46274 | D52: Anonymous | E52: Kasir | G52: 4 | H52: 4 | I52: 4 | J52: 4 | K52: 4 | L52: 4 | M52: 4 | N52: 4 | O52: 4 | P52: 100 | Q52: (A) | R52: -
... B104: 64 | C104: 46295 | D104: Anonymous | E104: Kasir | G104: 4 | H104: 4 | I104: 4 | J104: 4 | K104: 4 | L104: 4 | M104: 4 | N104: 4 | O104: 4 | P104: 100 | Q104: (A) | R104: Sangat baik
B119: =IF(C119="","",SUBTOTAL(3,C$41:$C119))
B120: =IF(C120="","",SUBTOTAL(3,C$41:$C120))
B121: =IF(C121="","",SUBTOTAL(3,C$41:$C121))
B122: =IF(C122="","",SUBTOTAL(3,C$41:$C122))
B123: =IF(C123="","",SUBTOTAL(3,C$41:$C123))
B124: =IF(C124="","",SUBTOTAL(3,C$41:$C124))
B125: =IF(C125="","",SUBTOTAL(3,C$41:$C125))
B126: =IF(C126="","",SUBTOTAL(3,C$41:$C126))
B127: =IF(C127="","",SUBTOTAL(3,C$41:$C127))
C128: Jumlah Nilai Per Unsur Layanan | G128: =SUBTOTAL(9,G41:G127) -> 256 | H128: =SUBTOTAL(9,H41:H127) -> 256 | I128: =SUBTOTAL(9,I41:I127) -> 256 | J128: =SUBTOTAL(9,J41:J127) -> 256 | K128: =SUBTOTAL(9,K41:K127) -> 256 | L128: =SUBTOTAL(9,L41:L127) -> 256 | M128: =SUBTOTAL(9,M41:M127) -> 256 | N128: =SUBTOTAL(9,N41:N127) -> 256 | O128: =SUBTOTAL(9,O41:O127) -> 256 | P128: =SUM(G128:O128) -> 2304
G129: =G128/(MAX($B$41:$B$127)*4)*100 -> 100 | H129: =H128/(MAX($B$41:$B$127)*4)*100 -> 100 | I129: =I128/(MAX($B$41:$B$127)*4)*100 -> 100 | J129: =J128/(MAX($B$41:$B$127)*4)*100 -> 100 | K129: =K128/(MAX($B$41:$B$127)*4)*100 -> 100 | L129: =L128/(MAX($B$41:$B$127)*4)*100 -> 100 | M129: =M128/(MAX($B$41:$B$127)*4)*100 -> 100 | N129: =N128/(MAX($B$41:$B$127)*4)*100 -> 100 | O129: =O128/(MAX($B$41:$B$127)*4)*100 -> 100 | P129: =P128/(MAX($B$41:$B$127)*4*9)*100 -> 100
C130: Nilai SKM Per Unsur Layanan | G130: A | H130: A | I130: A | J130: A | K130: A | L130: A | M130: A | N130: A | O130: A | P130: A
G131: Sangat Baik | H131: Sangat Baik | I131: Sangat Baik | J131: Sangat Baik | K131: Sangat Baik | L131: Sangat Baik | M131: Sangat Baik | N131: Sangat Baik | O131: Sangat Baik | P131: Sangat Baik
P133: =P26 -> Trenggalek, 30 September 2026
E134: KEPALA PUSKESMAS TRENGGALEK | P134: Penanggung jawab
P135: =F7 -> Kasir
E139: dr. MURTI RUKIYANDARI | P139: xxx
E140: Pembina Utama Muida | P140: NIP.
E141: NIP. 19800611 200903 2 004

Sheet 8
B2: LAPORAN SKM PUSKESMAS TRENGGALEK
B4: ="REKAPITULASI HASIL SKM PUSKESMAS TRENGGALEK BULAN "&UPPER(Home!C3) -> REKAPITULASI HASIL SKM PUSKESMAS TRENGGALEK BULAN SEPTEMBER 2026 | W4: =RIGHT(AB7,4)
L6: Unsur | R6: Unsur Responden | S6: Nilai Rata-Rata
B7: Nama Layanan | E7: : | F7: =Home!C12 -> Ruang Pemeriksaan Lansia | K7: P 1 | L7: Kesesuaian persyaratan pelayanan dengan jenis pelayanannya | R7: =G128 -> 240 | S7: =G129&" %" -> 100 %
B8: Target Responden | E8: : | F8: =Home!AE12 -> 46
B9: Jumlah Responden | K9: P 2 | L9: Kemudahan prosedur pelayanan di unit ini | R9: =H128 -> 240 | S9: =H129&" %" -> 100 %
D10: L | E10: : | F10: =Home!AC12 -> 32 | K10: P 3 | L10: Kecepatan waktu dalam memberikan pelayanan | R10: =I128 -> 240 | S10: =I129&" %" -> 100 %
D11: P | E11: : | F11: =Home!AD12 -> 28
B12: Jumlah/Capaian | E12: : | F12: =SUM(F10:F11)&" ("&ROUND((F10+F11)/F8*100,2)&" %"&")" -> 60 (130.43 %) | K12: P 4 | L12: Kewajaran biaya/tarif dalam pelayanan | R12: =J128 -> 240 | S12: =J129&" %" -> 100 %
B13: Jumlah Nilai | E13: : | F13: =R23 -> 2160 | K13: P 5 | L13: Kesesuaian produk pelayanan antara yang tercantum dalam standar pelayanan dengan hasil yang diberikan | R13: =K128 -> 240 | S13: =K129&" %" -> 100 %
B14: Skor Layanan | E14: : | F14: 100,00 (Sangat Baik)
B15: Nilai SKM | E15: : | F15: =Home!I12 -> 100
K16: P 6 | L16: Penanganan pengaduan pengguna layanan | R16: =L128 -> 240 | S16: =L129&" %" -> 100 %
K18: P 7 | L18: Kualitas sarana dan prasarana | R18: =M128 -> 240 | S18: =M129&" %" -> 100 %
K19: P 8 | L19: Perilaku petugas dalam pelayanan terkait kesopanan dan keramahan | R19: =N128 -> 240 | S19: =N129&" %" -> 100 %
K21: P 9 | L21: Kompetensi/kemampuan petugas dalam pelayanan | R21: =O128 -> 240 | S21: =O129&" %" -> 100 %
R23: =P128 -> 2160 | S23: =P129&" %" -> 100 %
P26: =Home!$F$25 -> Trenggalek, 30 September 2026
E27: KEPALA PUSKESMAS TRENGGALEK | P27: Penanggung Jawab
P28: =F7 -> Ruang Pemeriksaan Lansia
E32: dr. MURTI RUKIYANDARI | P32: xxx
E33: Pembina Utama Muida | P33: NIP.
E34: NIP. 19800611 200903 2 004
B37: Rincian
B39: NO. | C39: Tanggal | D39: NAMA | E39: LAYANAN | G39: P 1 | H39: P 2 | I39: P 3 | J39: P 4 | K39: P 5 | L39: P 6 | M39: P 7 | N39: P 8 | O39: P 9 | P39: SKOR | R39: Kritik dan Saran
B40: 1 | C40: 2 | D40: 3 | E40: 4 | G40: 5 | H40: 6 | I40: 7 | J40: 8 | K40: 9 | L40: 10 | M40: 11 | N40: 12 | O40: 13 | P40: 14 | R40: 15
B41: 1 | C41: 46269 | D41: Anonymous | E41: Ruang Pemeriksaan Lansia | G41: 4 | H41: 4 | I41: 4 | J41: 4 | K41: 4 | L41: 4 | M41: 4 | N41: 4 | O41: 4 | P41: 100 | Q41: (A) | R41: - | Z41: -
B42: 2 | C42: 46269 | D42: Anonymous | E42: Ruang Pemeriksaan Lansia | G42: 4 | H42: 4 | I42: 4 | J42: 4 | K42: 4 | L42: 4 | M42: 4 | N42: 4 | O42: 4 | P42: 100 | Q42: (A) | R42: - | Z42: pelay baik
B43: 3 | C43: 46269 | D43: Anonymous | E43: Ruang Pemeriksaan Lansia | G43: 4 | H43: 4 | I43: 4 | J43: 4 | K43: 4 | L43: 4 | M43: 4 | N43: 4 | O43: 4 | P43: 100 | Q43: (A) | R43: - | Z43: pelaybaik
B44: 4 | C44: 46269 | D44: Anonymous | E44: Ruang Pemeriksaan Lansia | G44: 4 | H44: 4 | I44: 4 | J44: 4 | K44: 4 | L44: 4 | M44: 4 | N44: 4 | O44: 4 | P44: 100 | Q44: (A) | R44: - | Z44: pelay baik
B45: 5 | C45: 46269 | D45: Anonymous | E45: Ruang Pemeriksaan Lansia | G45: 4 | H45: 4 | I45: 4 | J45: 4 | K45: 4 | L45: 4 | M45: 4 | N45: 4 | O45: 4 | P45: 100 | Q45: (A) | R45: - | Z45: pelay baik
B46: 6 | C46: 46269 | D46: Anonymous | E46: Ruang Pemeriksaan Lansia | G46: 4 | H46: 4 | I46: 4 | J46: 4 | K46: 4 | L46: 4 | M46: 4 | N46: 4 | O46: 4 | P46: 100 | Q46: (A) | R46: - | Z46: -
B47: 7 | C47: 46269 | D47: Anonymous | E47: Ruang Pemeriksaan Lansia | G47: 4 | H47: 4 | I47: 4 | J47: 4 | K47: 4 | L47: 4 | M47: 4 | N47: 4 | O47: 4 | P47: 100 | Q47: (A) | R47: - | Z47: -
B48: 8 | C48: 46271 | D48: Anonymous | E48: Ruang Pemeriksaan Lansia | G48: 4 | H48: 4 | I48: 4 | J48: 4 | K48: 4 | L48: 4 | M48: 4 | N48: 4 | O48: 4 | P48: 100 | Q48: (A) | R48: - | Z48: Pelayananramah
B49: 9 | C49: 46271 | D49: Anonymous | E49: Ruang Pemeriksaan Lansia | G49: 4 | H49: 4 | I49: 4 | J49: 4 | K49: 4 | L49: 4 | M49: 4 | N49: 4 | O49: 4 | P49: 100 | Q49: (A) | R49: - | Z49: PELAY BAIK
B50: 10 | C50: 46271 | D50: Anonymous | E50: Ruang Pemeriksaan Lansia | G50: 4 | H50: 4 | I50: 4 | J50: 4 | K50: 4 | L50: 4 | M50: 4 | N50: 4 | O50: 4 | P50: 100 | Q50: (A) | R50: - | Z50: PELAY BAIK
B51: 11 | C51: 46271 | D51: Anonymous | E51: Ruang Pemeriksaan Lansia | G51: 4 | H51: 4 | I51: 4 | J51: 4 | K51: 4 | L51: 4 | M51: 4 | N51: 4 | O51: 4 | P51: 100 | Q51: (A) | R51: - | Z51: PELAY BAIK
B52: 12 | C52: 46271 | D52: Anonymous | E52: Ruang Pemeriksaan Lansia | G52: 4 | H52: 4 | I52: 4 | J52: 4 | K52: 4 | L52: 4 | M52: 4 | N52: 4 | O52: 4 | P52: 100 | Q52: (A) | R52: - | Z52: PELAY BAIK
... B100: 60 | C100: 46291 | D100: Anonymous | E100: Ruang Pemeriksaan Lansia | G100: 4 | H100: 4 | I100: 4 | J100: 4 | K100: 4 | L100: 4 | M100: 4 | N100: 4 | O100: 4 | P100: 100 | Q100: (A) | R100: - | Z100: -
Z101: -
Z102: -
Z103: sangat ramah
Z104: -
Z105: petugas melayani sepenuh hati.
Z106: pelay baik
Z107: Pelayanan cepat.
Z108: -
Z109: -
Z110: -
Z111: -
B121: =IF(C121="","",SUBTOTAL(3,C$41:$C121))
B122: =IF(C122="","",SUBTOTAL(3,C$41:$C122))
B123: =IF(C123="","",SUBTOTAL(3,C$41:$C123))
B124: =IF(C124="","",SUBTOTAL(3,C$41:$C124))
B125: =IF(C125="","",SUBTOTAL(3,C$41:$C125))
B126: =IF(C126="","",SUBTOTAL(3,C$41:$C126))
B127: =IF(C127="","",SUBTOTAL(3,C$41:$C127))
C128: Jumlah Nilai Per Unsur Layanan | G128: =SUBTOTAL(9,G41:G127) -> 240 | H128: =SUBTOTAL(9,H41:H127) -> 240 | I128: =SUBTOTAL(9,I41:I127) -> 240 | J128: =SUBTOTAL(9,J41:J127) -> 240 | K128: =SUBTOTAL(9,K41:K127) -> 240 | L128: =SUBTOTAL(9,L41:L127) -> 240 | M128: =SUBTOTAL(9,M41:M127) -> 240 | N128: =SUBTOTAL(9,N41:N127) -> 240 | O128: =SUBTOTAL(9,O41:O127) -> 240 | P128: =SUM(G128:O128) -> 2160
G129: =G128/(MAX($B$41:$B$127)*4)*100 -> 100 | H129: =H128/(MAX($B$41:$B$127)*4)*100 -> 100 | I129: =I128/(MAX($B$41:$B$127)*4)*100 -> 100 | J129: =J128/(MAX($B$41:$B$127)*4)*100 -> 100 | K129: =K128/(MAX($B$41:$B$127)*4)*100 -> 100 | L129: =L128/(MAX($B$41:$B$127)*4)*100 -> 100 | M129: =M128/(MAX($B$41:$B$127)*4)*100 -> 100 | N129: =N128/(MAX($B$41:$B$127)*4)*100 -> 100 | O129: =O128/(MAX($B$41:$B$127)*4)*100 -> 100 | P129: =P128/(MAX($B$41:$B$127)*4*9)*100 -> 100
C130: Nilai SKM Per Unsur Layanan | G130: A | H130: A | I130: A | J130: A | K130: A | L130: A | M130: A | N130: A | O130: A | P130: A
G131: Sangat Baik | H131: Sangat Baik | I131: Sangat Baik | J131: Sangat Baik | K131: Sangat Baik | L131: Sangat Baik | M131: Sangat Baik | N131: Sangat Baik | O131: Sangat Baik | P131: Sangat Baik
P133: =P26 -> Trenggalek, 30 September 2026
E134: KEPALA PUSKESMAS TRENGGALEK | P134: Penanggung jawab
P135: =F7 -> Ruang Pemeriksaan Lansia
E139: dr. MURTI RUKIYANDARI | P139: xxx
E140: Pembina Utama Muida | P140: NIP.
E141: NIP. 19800611 200903 2 004

Sheet 9
B2: LAPORAN SKM PUSKESMAS TRENGGALEK
B4: ="REKAPITULASI HASIL SKM PUSKESMAS TRENGGALEK BULAN "&UPPER(Home!C3) -> REKAPITULASI HASIL SKM PUSKESMAS TRENGGALEK BULAN SEPTEMBER 2026 | W4: =RIGHT(AB7,4)
L6: Unsur | R6: Unsur Responden | S6: Nilai Rata-Rata
B7: Nama Layanan | E7: : | F7: =Home!C13 -> Ruang Tata Usaha, Keuangan dan Kepegawaian | K7: P 1 | L7: Kesesuaian persyaratan pelayanan dengan jenis pelayanannya | R7: =G128 -> 104 | S7: =G129&" %" -> 100 %
B8: Target Responden | E8: : | F8: =Home!AE13 -> 4
B9: Jumlah Responden | K9: P 2 | L9: Kemudahan prosedur pelayanan di unit ini | R9: =H128 -> 104 | S9: =H129&" %" -> 100 %
D10: L | E10: : | F10: =Home!AC13 -> 14 | K10: P 3 | L10: Kecepatan waktu dalam memberikan pelayanan | R10: =I128 -> 104 | S10: =I129&" %" -> 100 %
D11: P | E11: : | F11: =Home!AD13 -> 12
B12: Jumlah/Capaian | E12: : | F12: =SUM(F10:F11)&" ("&ROUND((F10+F11)/F8*100,2)&" %"&")" -> 26 (650 %) | K12: P 4 | L12: Kewajaran biaya/tarif dalam pelayanan | R12: =J128 -> 104 | S12: =J129&" %" -> 100 %
B13: Jumlah Nilai | E13: : | F13: =R23 -> 936 | K13: P 5 | L13: Kesesuaian produk pelayanan antara yang tercantum dalam standar pelayanan dengan hasil yang diberikan | R13: =K128 -> 104 | S13: =K129&" %" -> 100 %
B14: Skor Layanan | E14: : | F14: 100,00 (Sangat Baik)
B15: Nilai SKM | E15: : | F15: =Home!I13 -> 100
K16: P 6 | L16: Penanganan pengaduan pengguna layanan | R16: =L128 -> 104 | S16: =L129&" %" -> 100 %
K18: P 7 | L18: Kualitas sarana dan prasarana | R18: =M128 -> 104 | S18: =M129&" %" -> 100 %
K19: P 8 | L19: Perilaku petugas dalam pelayanan terkait kesopanan dan keramahan | R19: =N128 -> 104 | S19: =N129&" %" -> 100 %
K21: P 9 | L21: Kompetensi/kemampuan petugas dalam pelayanan | R21: =O128 -> 104 | S21: =O129&" %" -> 100 %
R23: =P128 -> 936 | S23: =P129&" %" -> 100 %
P26: =Home!$F$25 -> Trenggalek, 30 September 2026
E27: KEPALA PUSKESMAS TRENGGALEK | P27: Penanggung Jawab
P28: =F7 -> Ruang Tata Usaha, Keuangan dan Kepegawaian
E32: dr. MURTI RUKIYANDARI | P32: xxx
E33: Pembina Utama Muida | P33: NIP.
E34: NIP. 19800611 200903 2 004
B37: Rincian
B39: NO. | C39: Tanggal | D39: NAMA | E39: LAYANAN | G39: P 1 | H39: P 2 | I39: P 3 | J39: P 4 | K39: P 5 | L39: P 6 | M39: P 7 | N39: P 8 | O39: P 9 | P39: SKOR | R39: Kritik dan Saran
B40: 1 | C40: 2 | D40: 3 | E40: 4 | G40: 5 | H40: 6 | I40: 7 | J40: 8 | K40: 9 | L40: 10 | M40: 11 | N40: 12 | O40: 13 | P40: 14 | R40: 15
B41: 1 | C41: 46267 | D41: Anonymous | E41: Ruang Tata Usaha, Keuangan dan Kepegawaian | G41: 4 | H41: 4 | I41: 4 | J41: 4 | K41: 4 | L41: 4 | M41: 4 | N41: 4 | O41: 4 | P41: 100 | Q41: (A) | R41: -
B42: 2 | C42: 46267 | D42: Anonymous | E42: Ruang Tata Usaha, Keuangan dan Kepegawaian | G42: 4 | H42: 4 | I42: 4 | J42: 4 | K42: 4 | L42: 4 | M42: 4 | N42: 4 | O42: 4 | P42: 100 | Q42: (A) | R42: Sangat baik
B43: 3 | C43: 46267 | D43: Anonymous | E43: Ruang Tata Usaha, Keuangan dan Kepegawaian | G43: 4 | H43: 4 | I43: 4 | J43: 4 | K43: 4 | L43: 4 | M43: 4 | N43: 4 | O43: 4 | P43: 100 | Q43: (A) | R43: Baik sekali
B44: 4 | C44: 46268 | D44: Anonymous | E44: Ruang Tata Usaha, Keuangan dan Kepegawaian | G44: 4 | H44: 4 | I44: 4 | J44: 4 | K44: 4 | L44: 4 | M44: 4 | N44: 4 | O44: 4 | P44: 100 | Q44: (A) | R44: Sangat baik
B45: 5 | C45: 46268 | D45: Anonymous | E45: Ruang Tata Usaha, Keuangan dan Kepegawaian | G45: 4 | H45: 4 | I45: 4 | J45: 4 | K45: 4 | L45: 4 | M45: 4 | N45: 4 | O45: 4 | P45: 100 | Q45: (A) | R45: Baik sekali
B46: 6 | C46: 46268 | D46: Anonymous | E46: Ruang Tata Usaha, Keuangan dan Kepegawaian | G46: 4 | H46: 4 | I46: 4 | J46: 4 | K46: 4 | L46: 4 | M46: 4 | N46: 4 | O46: 4 | P46: 100 | Q46: (A) | R46: Baik sekali
B47: 7 | C47: 46268 | D47: Anonymous | E47: Ruang Tata Usaha, Keuangan dan Kepegawaian | G47: 4 | H47: 4 | I47: 4 | J47: 4 | K47: 4 | L47: 4 | M47: 4 | N47: 4 | O47: 4 | P47: 100 | Q47: (A) | R47: -
B48: 8 | C48: 46273 | D48: Anonymous | E48: Ruang Tata Usaha, Keuangan dan Kepegawaian | G48: 4 | H48: 4 | I48: 4 | J48: 4 | K48: 4 | L48: 4 | M48: 4 | N48: 4 | O48: 4 | P48: 100 | Q48: (A) | R48: Baik sekali
B49: 9 | C49: 46274 | D49: Anonymous | E49: Ruang Tata Usaha, Keuangan dan Kepegawaian | G49: 4 | H49: 4 | I49: 4 | J49: 4 | K49: 4 | L49: 4 | M49: 4 | N49: 4 | O49: 4 | P49: 100 | Q49: (A) | R49: Bagus
B50: 10 | C50: 46274 | D50: Anonymous | E50: Ruang Tata Usaha, Keuangan dan Kepegawaian | G50: 4 | H50: 4 | I50: 4 | J50: 4 | K50: 4 | L50: 4 | M50: 4 | N50: 4 | O50: 4 | P50: 100 | Q50: (A) | R50: Sangat bagus
B51: 11 | C51: 46274 | D51: Anonymous | E51: Ruang Tata Usaha, Keuangan dan Kepegawaian | G51: 4 | H51: 4 | I51: 4 | J51: 4 | K51: 4 | L51: 4 | M51: 4 | N51: 4 | O51: 4 | P51: 100 | Q51: (A) | R51: Sangat Baik Sekali
B52: =IF(C52="","",SUBTOTAL(3,C$41:$C52)) -> 12 | C52: 46274 | D52: Anonymous | E52: Ruang Tata Usaha, Keuangan dan Kepegawaian | G52: 4 | H52: 4 | I52: 4 | J52: 4 | K52: 4 | L52: 4 | M52: 4 | N52: 4 | O52: 4 | P52: 100 | Q52: (A) | R52: BAIK SEKALI
B53: =IF(C53="","",SUBTOTAL(3,C$41:$C53)) -> 13 | C53: 46274 | D53: Anonymous | E53: Ruang Tata Usaha, Keuangan dan Kepegawaian | G53: 4 | H53: 4 | I53: 4 | J53: 4 | K53: 4 | L53: 4 | M53: 4 | N53: 4 | O53: 4 | P53: 100 | Q53: (A) | R53: baik sekali
B54: =IF(C54="","",SUBTOTAL(3,C$41:$C54)) -> 14 | C54: 46274 | D54: Anonymous | E54: Ruang Tata Usaha, Keuangan dan Kepegawaian | G54: 4 | H54: 4 | I54: 4 | J54: 4 | K54: 4 | L54: 4 | M54: 4 | N54: 4 | O54: 4 | P54: 100 | Q54: (A) | R54: Sangat Memuaskan
B55: =IF(C55="","",SUBTOTAL(3,C$41:$C55)) -> 15 | C55: 46275 | D55: Anonymous | E55: Ruang Tata Usaha, Keuangan dan Kepegawaian | G55: 4 | H55: 4 | I55: 4 | J55: 4 | K55: 4 | L55: 4 | M55: 4 | N55: 4 | O55: 4 | P55: 100 | Q55: (A) | R55: Baik Sekali
B56: =IF(C56="","",SUBTOTAL(3,C$41:$C56)) -> 16 | C56: 46276 | D56: Anonymous | E56: Ruang Tata Usaha, Keuangan dan Kepegawaian | G56: 4 | H56: 4 | I56: 4 | J56: 4 | K56: 4 | L56: 4 | M56: 4 | N56: 4 | O56: 4 | P56: 100 | Q56: (A) | R56: Baik sekali
B57: =IF(C57="","",SUBTOTAL(3,C$41:$C57)) -> 17 | C57: 46276 | D57: Anonymous | E57: Ruang Tata Usaha, Keuangan dan Kepegawaian | G57: 4 | H57: 4 | I57: 4 | J57: 4 | K57: 4 | L57: 4 | M57: 4 | N57: 4 | O57: 4 | P57: 100 | Q57: (A) | R57: Baik sekali
B58: =IF(C58="","",SUBTOTAL(3,C$41:$C58)) -> 18 | C58: 46282 | D58: Anonymous | E58: Ruang Tata Usaha, Keuangan dan Kepegawaian | G58: 4 | H58: 4 | I58: 4 | J58: 4 | K58: 4 | L58: 4 | M58: 4 | N58: 4 | O58: 4 | P58: 100 | Q58: (A) | R58: Sangat Memuaskan Pelayanannya
B59: =IF(C59="","",SUBTOTAL(3,C$41:$C59)) -> 19 | C59: 46282 | D59: Anonymous | E59: Ruang Tata Usaha, Keuangan dan Kepegawaian | G59: 4 | H59: 4 | I59: 4 | J59: 4 | K59: 4 | L59: 4 | M59: 4 | N59: 4 | O59: 4 | P59: 100 | Q59: (A) | R59: Sangat Memuaskan
B60: =IF(C60="","",SUBTOTAL(3,C$41:$C60)) -> 20 | C60: 46282 | D60: Anonymous | E60: Ruang Tata Usaha, Keuangan dan Kepegawaian | G60: 4 | H60: 4 | I60: 4 | J60: 4 | K60: 4 | L60: 4 | M60: 4 | N60: 4 | O60: 4 | P60: 100 | Q60: (A) | R60: baik sekali pelayanannya
B61: =IF(C61="","",SUBTOTAL(3,C$41:$C61)) -> 21 | C61: 46282 | D61: Anonymous | E61: Ruang Tata Usaha, Keuangan dan Kepegawaian | G61: 4 | H61: 4 | I61: 4 | J61: 4 | K61: 4 | L61: 4 | M61: 4 | N61: 4 | O61: 4 | P61: 100 | Q61: (A) | R61: baik sekali pelayanannya
B62: =IF(C62="","",SUBTOTAL(3,C$41:$C62)) -> 22 | C62: 46282 | D62: Anonymous | E62: Ruang Tata Usaha, Keuangan dan Kepegawaian | G62: 4 | H62: 4 | I62: 4 | J62: 4 | K62: 4 | L62: 4 | M62: 4 | N62: 4 | O62: 4 | P62: 100 | Q62: (A) | R62: Sangat bagus
B63: =IF(C63="","",SUBTOTAL(3,C$41:$C63)) -> 23 | C63: 46282 | D63: Anonymous | E63: Ruang Tata Usaha, Keuangan dan Kepegawaian | G63: 4 | H63: 4 | I63: 4 | J63: 4 | K63: 4 | L63: 4 | M63: 4 | N63: 4 | O63: 4 | P63: 100 | Q63: (A) | R63: Baik sekali
... B66: =IF(C66="","",SUBTOTAL(3,C$41:$C66)) -> 26 | C66: 46290 | D66: Anonymous | E66: Ruang Tata Usaha, Keuangan dan Kepegawaian | G66: 4 | H66: 4 | I66: 4 | J66: 4 | K66: 4 | L66: 4 | M66: 4 | N66: 4 | O66: 4 | P66: 100 | Q66: (A) | R66: -
B67: =IF(C67="","",SUBTOTAL(3,C$41:$C67))
B68: =IF(C68="","",SUBTOTAL(3,C$41:$C68))
B69: =IF(C69="","",SUBTOTAL(3,C$41:$C69))
B70: =IF(C70="","",SUBTOTAL(3,C$41:$C70))
B71: =IF(C71="","",SUBTOTAL(3,C$41:$C71))
B72: =IF(C72="","",SUBTOTAL(3,C$41:$C72))
B73: =IF(C73="","",SUBTOTAL(3,C$41:$C73))
B74: =IF(C74="","",SUBTOTAL(3,C$41:$C74))
B75: =IF(C75="","",SUBTOTAL(3,C$41:$C75))
B76: =IF(C76="","",SUBTOTAL(3,C$41:$C76))
B77: =IF(C77="","",SUBTOTAL(3,C$41:$C77))
B78: =IF(C78="","",SUBTOTAL(3,C$41:$C78))
... B127: =IF(C127="","",SUBTOTAL(3,C$41:$C127))
C128: Jumlah Nilai Per Unsur Layanan | G128: =SUBTOTAL(9,G41:G127) -> 104 | H128: =SUBTOTAL(9,H41:H127) -> 104 | I128: =SUBTOTAL(9,I41:I127) -> 104 | J128: =SUBTOTAL(9,J41:J127) -> 104 | K128: =SUBTOTAL(9,K41:K127) -> 104 | L128: =SUBTOTAL(9,L41:L127) -> 104 | M128: =SUBTOTAL(9,M41:M127) -> 104 | N128: =SUBTOTAL(9,N41:N127) -> 104 | O128: =SUBTOTAL(9,O41:O127) -> 104 | P128: =SUM(G128:O128) -> 936
G129: =G128/(MAX($B$41:$B$127)*4)*100 -> 100 | H129: =H128/(MAX($B$41:$B$127)*4)*100 -> 100 | I129: =I128/(MAX($B$41:$B$127)*4)*100 -> 100 | J129: =J128/(MAX($B$41:$B$127)*4)*100 -> 100 | K129: =K128/(MAX($B$41:$B$127)*4)*100 -> 100 | L129: =L128/(MAX($B$41:$B$127)*4)*100 -> 100 | M129: =M128/(MAX($B$41:$B$127)*4)*100 -> 100 | N129: =N128/(MAX($B$41:$B$127)*4)*100 -> 100 | O129: =O128/(MAX($B$41:$B$127)*4)*100 -> 100 | P129: =P128/(MAX($B$41:$B$127)*4*9)*100 -> 100
C130: Nilai SKM Per Unsur Layanan | G130: A | H130: A | I130: A | J130: A | K130: A | L130: A | M130: A | N130: A | O130: A | P130: A
G131: Sangat Baik | H131: Sangat Baik | I131: Sangat Baik | J131: Sangat Baik | K131: Sangat Baik | L131: Sangat Baik | M131: Sangat Baik | N131: Sangat Baik | O131: Sangat Baik | P131: Sangat Baik
P133: =P26 -> Trenggalek, 30 September 2026
E134: KEPALA PUSKESMAS TRENGGALEK | P134: Penanggung jawab
P135: =F7 -> Ruang Tata Usaha, Keuangan dan Kepegawaian
E139: dr. MURTI RUKIYANDARI | P139: xxx
E140: Pembina Utama Muida | P140: NIP.
E141: NIP. 19800611 200903 2 004

Sheet 10
B2: LAPORAN SKM PUSKESMAS TRENGGALEK
B4: ="REKAPITULASI HASIL SKM PUSKESMAS TRENGGALEK BULAN "&UPPER(Home!C3) -> REKAPITULASI HASIL SKM PUSKESMAS TRENGGALEK BULAN SEPTEMBER 2026 | W4: =RIGHT(AB7,4)
L6: Unsur | R6: Unsur Responden | S6: Nilai Rata-Rata
B7: Nama Layanan | E7: : | F7: =Home!C14 -> Ruang KB dan Kespro | K7: P 1 | L7: Kesesuaian persyaratan pelayanan dengan jenis pelayanannya | R7: =G128 -> 32 | S7: =G129&" %" -> 100 %
B8: Target Responden | E8: : | F8: =Home!AE14 -> 11
B9: Jumlah Responden | K9: P 2 | L9: Kemudahan prosedur pelayanan di unit ini | R9: =H128 -> 32 | S9: =H129&" %" -> 100 %
D10: L | E10: : | F10: =Home!AC14 -> 5 | K10: P 3 | L10: Kecepatan waktu dalam memberikan pelayanan | R10: =I128 -> 32 | S10: =I129&" %" -> 100 %
D11: P | E11: : | F11: =Home!AD14 -> 3
B12: Jumlah/Capaian | E12: : | F12: =SUM(F10:F11)&" ("&ROUND((F10+F11)/F8*100,2)&" %"&")" -> 8 (72.73 %) | K12: P 4 | L12: Kewajaran biaya/tarif dalam pelayanan | R12: =J128 -> 32 | S12: =J129&" %" -> 100 %
B13: Jumlah Nilai | E13: : | F13: =R23 -> 288 | K13: P 5 | L13: Kesesuaian produk pelayanan antara yang tercantum dalam standar pelayanan dengan hasil yang diberikan | R13: =K128 -> 32 | S13: =K129&" %" -> 100 %
B14: Skor Layanan | E14: : | F14: 100,00 (Sangat Baik)
B15: Nilai SKM | E15: : | F15: =Home!I14 -> 80
K16: P 6 | L16: Penanganan pengaduan pengguna layanan | R16: =L128 -> 32 | S16: =L129&" %" -> 100 %
K18: P 7 | L18: Kualitas sarana dan prasarana | R18: =M128 -> 32 | S18: =M129&" %" -> 100 %
K19: P 8 | L19: Perilaku petugas dalam pelayanan terkait kesopanan dan keramahan | R19: =N128 -> 32 | S19: =N129&" %" -> 100 %
K21: P 9 | L21: Kompetensi/kemampuan petugas dalam pelayanan | R21: =O128 -> 32 | S21: =O129&" %" -> 100 %
R23: =P128 -> 288 | S23: =P129&" %" -> 100 %
P26: =Home!$F$25 -> Trenggalek, 30 September 2026
E27: KEPALA PUSKESMAS TRENGGALEK | P27: Penanggung Jawab
P28: =F7 -> Ruang KB dan Kespro
E32: dr. MURTI RUKIYANDARI | P32: xxx
E33: Pembina Utama Muida | P33: NIP.
E34: NIP. 19800611 200903 2 004
B37: Rincian
B39: NO. | C39: Tanggal | D39: NAMA | E39: LAYANAN | G39: P 1 | H39: P 2 | I39: P 3 | J39: P 4 | K39: P 5 | L39: P 6 | M39: P 7 | N39: P 8 | O39: P 9 | P39: SKOR | R39: Kritik dan Saran
B40: 1 | C40: 2 | D40: 3 | E40: 4 | G40: 5 | H40: 6 | I40: 7 | J40: 8 | K40: 9 | L40: 10 | M40: 11 | N40: 12 | O40: 13 | P40: 14 | R40: 15
B41: 1 | C41: 46266 | D41: Anonymous | E41: Ruang KB dan Kespro | G41: 4 | H41: 4 | I41: 4 | J41: 4 | K41: 4 | L41: 4 | M41: 4 | N41: 4 | O41: 4 | P41: 100 | Q41: (A) | R41: Baik dan sabar
B42: 2 | C42: 46269 | D42: Anonymous | E42: Ruang KB dan Kespro | G42: 4 | H42: 4 | I42: 4 | J42: 4 | K42: 4 | L42: 4 | M42: 4 | N42: 4 | O42: 4 | P42: 100 | Q42: (A) | R42: -
B43: 3 | C43: 46283 | D43: Anonymous | E43: Ruang KB dan Kespro | G43: 4 | H43: 4 | I43: 4 | J43: 4 | K43: 4 | L43: 4 | M43: 4 | N43: 4 | O43: 4 | P43: 100 | Q43: (A) | R43: -
B44: 4 | C44: 46290 | D44: Anonymous | E44: Ruang KB dan Kespro | G44: 4 | H44: 4 | I44: 4 | J44: 4 | K44: 4 | L44: 4 | M44: 4 | N44: 4 | O44: 4 | P44: 100 | Q44: (A) | R44: -
B45: 5 | C45: 46294 | D45: Anonymous | E45: Ruang KB dan Kespro | G45: 4 | H45: 4 | I45: 4 | J45: 4 | K45: 4 | L45: 4 | M45: 4 | N45: 4 | O45: 4 | P45: 100 | Q45: (A) | R45: TINGKATKAN PELAYANAN
B46: 6 | C46: 46294 | D46: Anonymous | E46: Ruang KB dan Kespro | G46: 4 | H46: 4 | I46: 4 | J46: 4 | K46: 4 | L46: 4 | M46: 4 | N46: 4 | O46: 4 | P46: 100 | Q46: (A) | R46: Baik, Dipertahankan
B47: 7 | C47: 46295 | D47: Anonymous | E47: Ruang KB dan Kespro | G47: 4 | H47: 4 | I47: 4 | J47: 4 | K47: 4 | L47: 4 | M47: 4 | N47: 4 | O47: 4 | P47: 100 | Q47: (A) | R47: -
B48: 8 | C48: 46295 | D48: Anonymous | E48: Ruang KB dan Kespro | G48: 4 | H48: 4 | I48: 4 | J48: 4 | K48: 4 | L48: 4 | M48: 4 | N48: 4 | O48: 4 | P48: 100 | Q48: (A) | R48: -
B54: =IF(C54="","",SUBTOTAL(3,C$41:$C54))
B55: =IF(C55="","",SUBTOTAL(3,C$41:$C55))
B56: =IF(C56="","",SUBTOTAL(3,C$41:$C56))
B57: =IF(C57="","",SUBTOTAL(3,C$41:$C57))
B58: =IF(C58="","",SUBTOTAL(3,C$41:$C58))
B59: =IF(C59="","",SUBTOTAL(3,C$41:$C59))
B60: =IF(C60="","",SUBTOTAL(3,C$41:$C60))
B61: =IF(C61="","",SUBTOTAL(3,C$41:$C61))
B62: =IF(C62="","",SUBTOTAL(3,C$41:$C62))
B63: =IF(C63="","",SUBTOTAL(3,C$41:$C63))
B64: =IF(C64="","",SUBTOTAL(3,C$41:$C64))
B65: =IF(C65="","",SUBTOTAL(3,C$41:$C65))
... B127: =IF(C127="","",SUBTOTAL(3,C$41:$C127))
C128: Jumlah Nilai Per Unsur Layanan | G128: =SUBTOTAL(9,G41:G127) -> 32 | H128: =SUBTOTAL(9,H41:H127) -> 32 | I128: =SUBTOTAL(9,I41:I127) -> 32 | J128: =SUBTOTAL(9,J41:J127) -> 32 | K128: =SUBTOTAL(9,K41:K127) -> 32 | L128: =SUBTOTAL(9,L41:L127) -> 32 | M128: =SUBTOTAL(9,M41:M127) -> 32 | N128: =SUBTOTAL(9,N41:N127) -> 32 | O128: =SUBTOTAL(9,O41:O127) -> 32 | P128: =SUM(G128:O128) -> 288
G129: =G128/(MAX($B$41:$B$127)*4)*100 -> 100 | H129: =H128/(MAX($B$41:$B$127)*4)*100 -> 100 | I129: =I128/(MAX($B$41:$B$127)*4)*100 -> 100 | J129: =J128/(MAX($B$41:$B$127)*4)*100 -> 100 | K129: =K128/(MAX($B$41:$B$127)*4)*100 -> 100 | L129: =L128/(MAX($B$41:$B$127)*4)*100 -> 100 | M129: =M128/(MAX($B$41:$B$127)*4)*100 -> 100 | N129: =N128/(MAX($B$41:$B$127)*4)*100 -> 100 | O129: =O128/(MAX($B$41:$B$127)*4)*100 -> 100 | P129: =P128/(MAX($B$41:$B$127)*4*9)*100 -> 100
C130: Nilai SKM Per Unsur Layanan | G130: A | H130: A | I130: A | J130: A | K130: A | L130: A | M130: A | N130: A | O130: A | P130: A
G131: Sangat Baik | H131: Sangat Baik | I131: Sangat Baik | J131: Sangat Baik | K131: Sangat Baik | L131: Sangat Baik | M131: Sangat Baik | N131: Sangat Baik | O131: Sangat Baik | P131: Sangat Baik
P133: =P26 -> Trenggalek, 30 September 2026
E134: KEPALA PUSKESMAS TRENGGALEK | P134: Penanggung jawab
P135: =F7 -> Ruang KB dan Kespro
E139: dr. MURTI RUKIYANDARI | P139: xxx
E140: Pembina Utama Muida | P140: NIP.
E141: NIP. 19800611 200903 2 004

Sheet 11
B2: LAPORAN SKM PUSKESMAS TRENGGALEK
B4: ="REKAPITULASI HASIL SKM PUSKESMAS TRENGGALEK BULAN "&UPPER(Home!C3) -> REKAPITULASI HASIL SKM PUSKESMAS TRENGGALEK BULAN SEPTEMBER 2026 | W4: =RIGHT(AB7,4)
L6: Unsur | R6: Unsur Responden | S6: Nilai Rata-Rata
B7: Nama Layanan | E7: : | F7: =Home!C15 -> Ruang MTBS | K7: P 1 | L7: Kesesuaian persyaratan pelayanan dengan jenis pelayanannya | R7: =G128 -> 124 | S7: =G129&" %" -> 100 %
B8: Target Responden | E8: : | F8: =Home!AE15 -> 34
B9: Jumlah Responden | K9: P 2 | L9: Kemudahan prosedur pelayanan di unit ini | R9: =H128 -> 124 | S9: =H129&" %" -> 100 %
D10: L | E10: : | F10: =Home!AC15 -> 17 | K10: P 3 | L10: Kecepatan waktu dalam memberikan pelayanan | R10: =I128 -> 124 | S10: =I129&" %" -> 100 %
D11: P | E11: : | F11: =Home!AD15 -> 14
B12: Jumlah/Capaian | E12: : | F12: =SUM(F10:F11)&" ("&ROUND((F10+F11)/F8*100,2)&" %"&")" -> 31 (91.18 %) | K12: P 4 | L12: Kewajaran biaya/tarif dalam pelayanan | R12: =J128 -> 124 | S12: =J129&" %" -> 100 %
B13: Jumlah Nilai | E13: : | F13: =R23 -> 1116 | K13: P 5 | L13: Kesesuaian produk pelayanan antara yang tercantum dalam standar pelayanan dengan hasil yang diberikan | R13: =K128 -> 124 | S13: =K129&" %" -> 100 %
B14: Skor Layanan | E14: : | F14: 100,00 (Sangat Baik)
B15: Nilai SKM | E15: : | F15: =Home!I15 -> 100
K16: P 6 | L16: Penanganan pengaduan pengguna layanan | R16: =L128 -> 124 | S16: =L129&" %" -> 100 %
K18: P 7 | L18: Kualitas sarana dan prasarana | R18: =M128 -> 124 | S18: =M129&" %" -> 100 %
K19: P 8 | L19: Perilaku petugas dalam pelayanan terkait kesopanan dan keramahan | R19: =N128 -> 124 | S19: =N129&" %" -> 100 %
K21: P 9 | L21: Kompetensi/kemampuan petugas dalam pelayanan | R21: =O128 -> 124 | S21: =O129&" %" -> 100 %
R23: =P128 -> 1116 | S23: =P129&" %" -> 100 %
P26: =Home!$F$25 -> Trenggalek, 30 September 2026
E27: KEPALA PUSKESMAS TRENGGALEK | P27: Penanggung Jawab
P28: =F7 -> Ruang MTBS
E32: dr. MURTI RUKIYANDARI | P32: DEWI NOVITA SARI SSTKeb.
E33: Pembina Utama Muida | P33: NIP. 197911202019052001
E34: NIP. 19800611 200903 2 004
B37: ="Rincian "&F7 -> Rincian Ruang MTBS
B39: NO. | C39: Tanggal | D39: NAMA | E39: LAYANAN | G39: P 1 | H39: P 2 | I39: P 3 | J39: P 4 | K39: P 5 | L39: P 6 | M39: P 7 | N39: P 8 | O39: P 9 | P39: SKOR | R39: Kritik dan Saran
B40: 1 | C40: 2 | D40: 3 | E40: 4 | G40: 5 | H40: 6 | I40: 7 | J40: 8 | K40: 9 | L40: 10 | M40: 11 | N40: 12 | O40: 13 | P40: 14 | R40: 15
B41: 1 | C41: 46268 | D41: Anonymous | E41: Ruang MTBS | G41: 4 | H41: 4 | I41: 4 | J41: 4 | K41: 4 | L41: 4 | M41: 4 | N41: 4 | O41: 4 | P41: 100 | Q41: (A) | R41: pelay baik
B42: 2 | C42: 46268 | D42: Anonymous | E42: Ruang MTBS | G42: 4 | H42: 4 | I42: 4 | J42: 4 | K42: 4 | L42: 4 | M42: 4 | N42: 4 | O42: 4 | P42: 100 | Q42: (A) | R42: pelay baik
B43: 3 | C43: 46268 | D43: Anonymous | E43: Ruang MTBS | G43: 4 | H43: 4 | I43: 4 | J43: 4 | K43: 4 | L43: 4 | M43: 4 | N43: 4 | O43: 4 | P43: 100 | Q43: (A) | R43: pelay baik
B44: 4 | C44: 46268 | D44: Anonymous | E44: Ruang MTBS | G44: 4 | H44: 4 | I44: 4 | J44: 4 | K44: 4 | L44: 4 | M44: 4 | N44: 4 | O44: 4 | P44: 100 | Q44: (A) | R44: pelay baik
B45: 5 | C45: 46269 | D45: Anonymous | E45: Ruang MTBS | G45: 4 | H45: 4 | I45: 4 | J45: 4 | K45: 4 | L45: 4 | M45: 4 | N45: 4 | O45: 4 | P45: 100 | Q45: (A) | R45: -
B46: 6 | C46: 46282 | D46: Anonymous | E46: Ruang MTBS | G46: 4 | H46: 4 | I46: 4 | J46: 4 | K46: 4 | L46: 4 | M46: 4 | N46: 4 | O46: 4 | P46: 100 | Q46: (A) | R46: PELAY BAIK
B47: 7 | C47: 46282 | D47: Anonymous | E47: Ruang MTBS | G47: 4 | H47: 4 | I47: 4 | J47: 4 | K47: 4 | L47: 4 | M47: 4 | N47: 4 | O47: 4 | P47: 100 | Q47: (A) | R47: PELAY BAIK
B48: 8 | C48: 46282 | D48: Anonymous | E48: Ruang MTBS | G48: 4 | H48: 4 | I48: 4 | J48: 4 | K48: 4 | L48: 4 | M48: 4 | N48: 4 | O48: 4 | P48: 100 | Q48: (A) | R48: PELAY BAIK
B49: 9 | C49: 46282 | D49: Anonymous | E49: Ruang MTBS | G49: 4 | H49: 4 | I49: 4 | J49: 4 | K49: 4 | L49: 4 | M49: 4 | N49: 4 | O49: 4 | P49: 100 | Q49: (A) | R49: PELAY BAIK
B50: 10 | C50: 46287 | D50: Anonymous | E50: Ruang MTBS | G50: 4 | H50: 4 | I50: 4 | J50: 4 | K50: 4 | L50: 4 | M50: 4 | N50: 4 | O50: 4 | P50: 100 | Q50: (A) | R50: pelay baik
B51: 11 | C51: 46287 | D51: Anonymous | E51: Ruang MTBS | G51: 4 | H51: 4 | I51: 4 | J51: 4 | K51: 4 | L51: 4 | M51: 4 | N51: 4 | O51: 4 | P51: 100 | Q51: (A) | R51: pelay baik
B52: 12 | C52: 46287 | D52: Anonymous | E52: Ruang MTBS | G52: 4 | H52: 4 | I52: 4 | J52: 4 | K52: 4 | L52: 4 | M52: 4 | N52: 4 | O52: 4 | P52: 100 | Q52: (A) | R52: pelay baik
... B71: 31 | C71: 46295 | D71: Anonymous | E71: Ruang MTBS | G71: 4 | H71: 4 | I71: 4 | J71: 4 | K71: 4 | L71: 4 | M71: 4 | N71: 4 | O71: 4 | P71: 100 | Q71: (A) | R71: -
B96: =IF(C96="","",SUBTOTAL(3,C$41:$C96))
B97: =IF(C97="","",SUBTOTAL(3,C$41:$C97))
B98: =IF(C98="","",SUBTOTAL(3,C$41:$C98))
B99: =IF(C99="","",SUBTOTAL(3,C$41:$C99))
B100: =IF(C100="","",SUBTOTAL(3,C$41:$C100))
B101: =IF(C101="","",SUBTOTAL(3,C$41:$C101))
B102: =IF(C102="","",SUBTOTAL(3,C$41:$C102))
B103: =IF(C103="","",SUBTOTAL(3,C$41:$C103))
B104: =IF(C104="","",SUBTOTAL(3,C$41:$C104))
B105: =IF(C105="","",SUBTOTAL(3,C$41:$C105))
B106: =IF(C106="","",SUBTOTAL(3,C$41:$C106))
B107: =IF(C107="","",SUBTOTAL(3,C$41:$C107))
... B127: =IF(C127="","",SUBTOTAL(3,C$41:$C127))
C128: Jumlah Nilai Per Unsur Layanan | G128: =SUBTOTAL(9,G41:G127) -> 124 | H128: =SUBTOTAL(9,H41:H127) -> 124 | I128: =SUBTOTAL(9,I41:I127) -> 124 | J128: =SUBTOTAL(9,J41:J127) -> 124 | K128: =SUBTOTAL(9,K41:K127) -> 124 | L128: =SUBTOTAL(9,L41:L127) -> 124 | M128: =SUBTOTAL(9,M41:M127) -> 124 | N128: =SUBTOTAL(9,N41:N127) -> 124 | O128: =SUBTOTAL(9,O41:O127) -> 124 | P128: =SUM(G128:O128) -> 1116
G129: =G128/(MAX($B$41:$B$127)*4)*100 -> 100 | H129: =H128/(MAX($B$41:$B$127)*4)*100 -> 100 | I129: =I128/(MAX($B$41:$B$127)*4)*100 -> 100 | J129: =J128/(MAX($B$41:$B$127)*4)*100 -> 100 | K129: =K128/(MAX($B$41:$B$127)*4)*100 -> 100 | L129: =L128/(MAX($B$41:$B$127)*4)*100 -> 100 | M129: =M128/(MAX($B$41:$B$127)*4)*100 -> 100 | N129: =N128/(MAX($B$41:$B$127)*4)*100 -> 100 | O129: =O128/(MAX($B$41:$B$127)*4)*100 -> 100 | P129: =P128/(MAX($B$41:$B$127)*4*9)*100 -> 100
C130: Nilai SKM Per Unsur Layanan | G130: A | H130: A | I130: A | J130: A | K130: A | L130: A | M130: A | N130: A | O130: A | P130: A
G131: Sangat Baik | H131: Sangat Baik | I131: Sangat Baik | J131: Sangat Baik | K131: Sangat Baik | L131: Sangat Baik | M131: Sangat Baik | N131: Sangat Baik | O131: Sangat Baik | P131: Sangat Baik
P133: =P26 -> Trenggalek, 30 September 2026
E134: KEPALA PUSKESMAS TRENGGALEK | P134: Penanggung jawab
P135: =F7 -> Ruang MTBS
E139: dr. MURTI RUKIYANDARI | P139: DEWI NOVITA SARI SSTKeb.
E140: Pembina Utama Muida | P140: NIP. 197911202019052001
E141: NIP. 19800611 200903 2 004

Sheet 12
B2: LAPORAN SKM PUSKESMAS TRENGGALEK
B4: ="REKAPITULASI HASIL SKM PUSKESMAS TRENGGALEK BULAN "&UPPER(Home!C3) -> REKAPITULASI HASIL SKM PUSKESMAS TRENGGALEK BULAN SEPTEMBER 2026 | W4: =RIGHT(AB7,4)
L6: Unsur | R6: Unsur Responden | S6: Nilai Rata-Rata
B7: Nama Layanan | E7: : | F7: =Home!C16 -> Ruang Poli Khusus | K7: P 1 | L7: Kesesuaian persyaratan pelayanan dengan jenis pelayanannya | R7: =G128 -> 48 | S7: =G129&" %" -> 100 %
B8: Target Responden | E8: : | F8: =Home!AE16 -> 7
B9: Jumlah Responden | K9: P 2 | L9: Kemudahan prosedur pelayanan di unit ini | R9: =H128 -> 48 | S9: =H129&" %" -> 100 %
D10: L | E10: : | F10: =Home!AC16 -> 6 | K10: P 3 | L10: Kecepatan waktu dalam memberikan pelayanan | R10: =I128 -> 48 | S10: =I129&" %" -> 100 %
D11: P | E11: : | F11: =Home!AD16 -> 6
B12: Jumlah/Capaian | E12: : | F12: =SUM(F10:F11)&" ("&ROUND((F10+F11)/F8*100,2)&" %"&")" -> 12 (171.43 %) | K12: P 4 | L12: Kewajaran biaya/tarif dalam pelayanan | R12: =J128 -> 48 | S12: =J129&" %" -> 100 %
B13: Jumlah Nilai | E13: : | F13: =R23 -> 432 | K13: P 5 | L13: Kesesuaian produk pelayanan antara yang tercantum dalam standar pelayanan dengan hasil yang diberikan | R13: =K128 -> 48 | S13: =K129&" %" -> 100 %
B14: Skor Layanan | E14: : | F14: 100,00 (Sangat Baik)
B15: Nilai SKM | E15: : | F15: =Home!I16 -> 100
K16: P 6 | L16: Penanganan pengaduan pengguna layanan | R16: =L128 -> 48 | S16: =L129&" %" -> 100 %
K18: P 7 | L18: Kualitas sarana dan prasarana | R18: =M128 -> 48 | S18: =M129&" %" -> 100 %
K19: P 8 | L19: Perilaku petugas dalam pelayanan terkait kesopanan dan keramahan | R19: =N128 -> 48 | S19: =N129&" %" -> 100 %
K21: P 9 | L21: Kompetensi/kemampuan petugas dalam pelayanan | R21: =O128 -> 48 | S21: =O129&" %" -> 100 %
R23: =P128 -> 432 | S23: =P129&" %" -> 100 %
P26: =Home!$F$25 -> Trenggalek, 30 September 2026
E27: KEPALA PUSKESMAS TRENGGALEK | P27: Penanggung Jawab
P28: =F7 -> Ruang Poli Khusus
E32: dr. MURTI RUKIYANDARI | P32: xxx
E33: Pembina Utama Muida | P33: NIP.
E34: NIP. 19800611 200903 2 004
B37: Rincian
B39: NO. | C39: Tanggal | D39: NAMA | E39: LAYANAN | G39: P 1 | H39: P 2 | I39: P 3 | J39: P 4 | K39: P 5 | L39: P 6 | M39: P 7 | N39: P 8 | O39: P 9 | P39: SKOR | R39: Kritik dan Saran
B40: 1 | C40: 2 | D40: 3 | E40: 4 | G40: 5 | H40: 6 | I40: 7 | J40: 8 | K40: 9 | L40: 10 | M40: 11 | N40: 12 | O40: 13 | P40: 14 | R40: 15
B41: 1 | C41: 46269 | D41: Anonymous | E41: Ruang Poli Khusus | G41: 4 | H41: 4 | I41: 4 | J41: 4 | K41: 4 | L41: 4 | M41: 4 | N41: 4 | O41: 4 | P41: 100 | Q41: (A) | R41: Terimakasih
B42: 2 | C42: 46272 | D42: Anonymous | E42: Ruang Poli Khusus | G42: 4 | H42: 4 | I42: 4 | J42: 4 | K42: 4 | L42: 4 | M42: 4 | N42: 4 | O42: 4 | P42: 100 | Q42: (A) | R42: SUWUN KANG
B43: 3 | C43: 46274 | D43: Anonymous | E43: Ruang Poli Khusus | G43: 4 | H43: 4 | I43: 4 | J43: 4 | K43: 4 | L43: 4 | M43: 4 | N43: 4 | O43: 4 | P43: 100 | Q43: (A) | R43: siap lanjutkan
B44: 4 | C44: 46276 | D44: Anonymous | E44: Ruang Poli Khusus | G44: 4 | H44: 4 | I44: 4 | J44: 4 | K44: 4 | L44: 4 | M44: 4 | N44: 4 | O44: 4 | P44: 100 | Q44: (A) | R44: MAKASIH INFONYA
B45: 5 | C45: 46276 | D45: Anonymous | E45: Ruang Poli Khusus | G45: 4 | H45: 4 | I45: 4 | J45: 4 | K45: 4 | L45: 4 | M45: 4 | N45: 4 | O45: 4 | P45: 100 | Q45: (A) | R45: OK SIAP LAKSANAKAN
B46: 6 | C46: 46276 | D46: Anonymous | E46: Ruang Poli Khusus | G46: 4 | H46: 4 | I46: 4 | J46: 4 | K46: 4 | L46: 4 | M46: 4 | N46: 4 | O46: 4 | P46: 100 | Q46: (A) | R46: MATUR SUWUN
B47: 7 | C47: 46279 | D47: Anonymous | E47: Ruang Poli Khusus | G47: 4 | H47: 4 | I47: 4 | J47: 4 | K47: 4 | L47: 4 | M47: 4 | N47: 4 | O47: 4 | P47: 100 | Q47: (A) | R47: MAKASIH KAK
B48: 8 | C48: 46279 | D48: Anonymous | E48: Ruang Poli Khusus | G48: 4 | H48: 4 | I48: 4 | J48: 4 | K48: 4 | L48: 4 | M48: 4 | N48: 4 | O48: 4 | P48: 100 | Q48: (A) | R48: SUWUN BRO
B49: 9 | C49: 46279 | D49: Anonymous | E49: Ruang Poli Khusus | G49: 4 | H49: 4 | I49: 4 | J49: 4 | K49: 4 | L49: 4 | M49: 4 | N49: 4 | O49: 4 | P49: 100 | Q49: (A) | R49: TERIMAKASIH PAK
B50: 10 | C50: 46287 | D50: Anonymous | E50: Ruang Poli Khusus | G50: 4 | H50: 4 | I50: 4 | J50: 4 | K50: 4 | L50: 4 | M50: 4 | N50: 4 | O50: 4 | P50: 100 | Q50: (A) | R50: INGGIH SUWUN MAS
B51: 11 | C51: 46287 | D51: Anonymous | E51: Ruang Poli Khusus | G51: 4 | H51: 4 | I51: 4 | J51: 4 | K51: 4 | L51: 4 | M51: 4 | N51: 4 | O51: 4 | P51: 100 | Q51: (A) | R51: SEAP MAS CHOLIS
B52: 12 | C52: 46290 | D52: Anonymous | E52: Ruang Poli Khusus | G52: 4 | H52: 4 | I52: 4 | J52: 4 | K52: 4 | L52: 4 | M52: 4 | N52: 4 | O52: 4 | P52: 100 | Q52: (A) | R52: OK, SUWUN MAS
B53: =IF(C53="","",SUBTOTAL(3,C$41:$C53))
B54: =IF(C54="","",SUBTOTAL(3,C$41:$C54))
B55: =IF(C55="","",SUBTOTAL(3,C$41:$C55))
B56: =IF(C56="","",SUBTOTAL(3,C$41:$C56))
B57: =IF(C57="","",SUBTOTAL(3,C$41:$C57))
B58: =IF(C58="","",SUBTOTAL(3,C$41:$C58))
B59: =IF(C59="","",SUBTOTAL(3,C$41:$C59))
B60: =IF(C60="","",SUBTOTAL(3,C$41:$C60))
B61: =IF(C61="","",SUBTOTAL(3,C$41:$C61))
B62: =IF(C62="","",SUBTOTAL(3,C$41:$C62))
B63: =IF(C63="","",SUBTOTAL(3,C$41:$C63))
B64: =IF(C64="","",SUBTOTAL(3,C$41:$C64))
... B127: =IF(C127="","",SUBTOTAL(3,C$41:$C127))
C128: Jumlah Nilai Per Unsur Layanan | G128: =SUBTOTAL(9,G41:G127) -> 48 | H128: =SUBTOTAL(9,H41:H127) -> 48 | I128: =SUBTOTAL(9,I41:I127) -> 48 | J128: =SUBTOTAL(9,J41:J127) -> 48 | K128: =SUBTOTAL(9,K41:K127) -> 48 | L128: =SUBTOTAL(9,L41:L127) -> 48 | M128: =SUBTOTAL(9,M41:M127) -> 48 | N128: =SUBTOTAL(9,N41:N127) -> 48 | O128: =SUBTOTAL(9,O41:O127) -> 48 | P128: =SUM(G128:O128) -> 432
G129: =G128/(MAX($B$41:$B$127)*4)*100 -> 100 | H129: =H128/(MAX($B$41:$B$127)*4)*100 -> 100 | I129: =I128/(MAX($B$41:$B$127)*4)*100 -> 100 | J129: =J128/(MAX($B$41:$B$127)*4)*100 -> 100 | K129: =K128/(MAX($B$41:$B$127)*4)*100 -> 100 | L129: =L128/(MAX($B$41:$B$127)*4)*100 -> 100 | M129: =M128/(MAX($B$41:$B$127)*4)*100 -> 100 | N129: =N128/(MAX($B$41:$B$127)*4)*100 -> 100 | O129: =O128/(MAX($B$41:$B$127)*4)*100 -> 100 | P129: =P128/(MAX($B$41:$B$127)*4*9)*100 -> 100
C130: Nilai SKM Per Unsur Layanan | G130: A | H130: A | I130: A | J130: A | K130: A | L130: A | M130: A | N130: A | O130: A | P130: A
G131: Sangat Baik | H131: Sangat Baik | I131: Sangat Baik | J131: Sangat Baik | K131: Sangat Baik | L131: Sangat Baik | M131: Sangat Baik | N131: Sangat Baik | O131: Sangat Baik | P131: Sangat Baik
P133: =P26 -> Trenggalek, 30 September 2026
E134: KEPALA PUSKESMAS TRENGGALEK | P134: Penanggung jawab
P135: =F7 -> Ruang Poli Khusus
E139: dr. MURTI RUKIYANDARI | P139: xxx
E140: Pembina Utama Muida | P140: NIP.
E141: NIP. 19800611 200903 2 004

Sheet 13
B2: LAPORAN SKM PUSKESMAS TRENGGALEK
B4: ="REKAPITULASI HASIL SKM PUSKESMAS TRENGGALEK BULAN "&UPPER(Home!C3) -> REKAPITULASI HASIL SKM PUSKESMAS TRENGGALEK BULAN SEPTEMBER 2026 | W4: =RIGHT(AB7,4)
L6: Unsur | R6: Unsur Responden | S6: Nilai Rata-Rata
B7: Nama Layanan | E7: : | F7: =Home!C17 -> Ruang Gizi | K7: P 1 | L7: Kesesuaian persyaratan pelayanan dengan jenis pelayanannya | R7: =G128 -> 76 | S7: =G129&" %" -> 100 %
B8: Target Responden | E8: : | F8: =Home!AE17 -> 16
B9: Jumlah Responden | K9: P 2 | L9: Kemudahan prosedur pelayanan di unit ini | R9: =H128 -> 76 | S9: =H129&" %" -> 100 %
D10: L | E10: : | F10: =Home!AC17 -> 10 | K10: P 3 | L10: Kecepatan waktu dalam memberikan pelayanan | R10: =I128 -> 76 | S10: =I129&" %" -> 100 %
D11: P | E11: : | F11: =Home!AD17 -> 9
B12: Jumlah/Capaian | E12: : | F12: =SUM(F10:F11)&" ("&ROUND((F10+F11)/F8*100,2)&" %"&")" -> 19 (118.75 %) | K12: P 4 | L12: Kewajaran biaya/tarif dalam pelayanan | R12: =J128 -> 76 | S12: =J129&" %" -> 100 %
B13: Jumlah Nilai | E13: : | F13: =R23 -> 684 | K13: P 5 | L13: Kesesuaian produk pelayanan antara yang tercantum dalam standar pelayanan dengan hasil yang diberikan | R13: =K128 -> 76 | S13: =K129&" %" -> 100 %
B14: Skor Layanan | E14: : | F14: 100,00 (Sangat Baik)
B15: Nilai SKM | E15: : | F15: =Home!I17 -> 100
K16: P 6 | L16: Penanganan pengaduan pengguna layanan | R16: =L128 -> 76 | S16: =L129&" %" -> 100 %
K18: P 7 | L18: Kualitas sarana dan prasarana | R18: =M128 -> 76 | S18: =M129&" %" -> 100 %
K19: P 8 | L19: Perilaku petugas dalam pelayanan terkait kesopanan dan keramahan | R19: =N128 -> 76 | S19: =N129&" %" -> 100 %
K21: P 9 | L21: Kompetensi/kemampuan petugas dalam pelayanan | R21: =O128 -> 76 | S21: =O129&" %" -> 100 %
R23: =P128 -> 684 | S23: =P129&" %" -> 100 %
P26: =Home!$F$25 -> Trenggalek, 30 September 2026
E27: KEPALA PUSKESMAS TRENGGALEK | P27: Penanggung Jawab
P28: =F7 -> Ruang Gizi
E32: dr. MURTI RUKIYANDARI | P32: xxx
E33: Pembina Utama Muida | P33: NIP.
E34: NIP. 19800611 200903 2 004
B37: Rincian
B39: NO. | C39: Tanggal | D39: NAMA | E39: LAYANAN | G39: P 1 | H39: P 2 | I39: P 3 | J39: P 4 | K39: P 5 | L39: P 6 | M39: P 7 | N39: P 8 | O39: P 9 | P39: SKOR | R39: Kritik dan Saran
B40: 1 | C40: 2 | D40: 3 | E40: 4 | G40: 5 | H40: 6 | I40: 7 | J40: 8 | K40: 9 | L40: 10 | M40: 11 | N40: 12 | O40: 13 | P40: 14 | R40: 15
B41: =IF(C41="","",SUBTOTAL(3,C$41:$C41)) -> 1 | C41: 46268 | D41: Anonymous | E41: Ruang Gizi | G41: 4 | H41: 4 | I41: 4 | J41: 4 | K41: 4 | L41: 4 | M41: 4 | N41: 4 | O41: 4 | P41: 100 | Q41: (A) | R41: Josss
B42: =IF(C42="","",SUBTOTAL(3,C$41:$C42)) -> 2 | C42: 46290 | D42: Anonymous | E42: Ruang Gizi | G42: 4 | H42: 4 | I42: 4 | J42: 4 | K42: 4 | L42: 4 | M42: 4 | N42: 4 | O42: 4 | P42: 100 | Q42: (A) | R42: -
B43: =IF(C43="","",SUBTOTAL(3,C$41:$C43)) -> 3 | C43: 46290 | D43: Anonymous | E43: Ruang Gizi | G43: 4 | H43: 4 | I43: 4 | J43: 4 | K43: 4 | L43: 4 | M43: 4 | N43: 4 | O43: 4 | P43: 100 | Q43: (A) | R43: -
B44: =IF(C44="","",SUBTOTAL(3,C$41:$C44)) -> 4 | C44: 46290 | D44: Anonymous | E44: Ruang Gizi | G44: 4 | H44: 4 | I44: 4 | J44: 4 | K44: 4 | L44: 4 | M44: 4 | N44: 4 | O44: 4 | P44: 100 | Q44: (A) | R44: -
B45: =IF(C45="","",SUBTOTAL(3,C$41:$C45)) -> 5 | C45: 46290 | D45: Anonymous | E45: Ruang Gizi | G45: 4 | H45: 4 | I45: 4 | J45: 4 | K45: 4 | L45: 4 | M45: 4 | N45: 4 | O45: 4 | P45: 100 | Q45: (A) | R45: -
B46: =IF(C46="","",SUBTOTAL(3,C$41:$C46)) -> 6 | C46: 46290 | D46: Anonymous | E46: Ruang Gizi | G46: 4 | H46: 4 | I46: 4 | J46: 4 | K46: 4 | L46: 4 | M46: 4 | N46: 4 | O46: 4 | P46: 100 | Q46: (A) | R46: -
B47: =IF(C47="","",SUBTOTAL(3,C$41:$C47)) -> 7 | C47: 46290 | D47: Anonymous | E47: Ruang Gizi | G47: 4 | H47: 4 | I47: 4 | J47: 4 | K47: 4 | L47: 4 | M47: 4 | N47: 4 | O47: 4 | P47: 100 | Q47: (A) | R47: -
B48: =IF(C48="","",SUBTOTAL(3,C$41:$C48)) -> 8 | C48: 46294 | D48: Anonymous | E48: Ruang Gizi | G48: 4 | H48: 4 | I48: 4 | J48: 4 | K48: 4 | L48: 4 | M48: 4 | N48: 4 | O48: 4 | P48: 100 | Q48: (A) | R48: -
B49: =IF(C49="","",SUBTOTAL(3,C$41:$C49)) -> 9 | C49: 46294 | D49: Anonymous | E49: Ruang Gizi | G49: 4 | H49: 4 | I49: 4 | J49: 4 | K49: 4 | L49: 4 | M49: 4 | N49: 4 | O49: 4 | P49: 100 | Q49: (A) | R49: -
B50: =IF(C50="","",SUBTOTAL(3,C$41:$C50)) -> 10 | C50: 46294 | D50: Anonymous | E50: Ruang Gizi | G50: 4 | H50: 4 | I50: 4 | J50: 4 | K50: 4 | L50: 4 | M50: 4 | N50: 4 | O50: 4 | P50: 100 | Q50: (A) | R50: -
B51: =IF(C51="","",SUBTOTAL(3,C$41:$C51)) -> 11 | C51: 46294 | D51: Anonymous | E51: Ruang Gizi | G51: 4 | H51: 4 | I51: 4 | J51: 4 | K51: 4 | L51: 4 | M51: 4 | N51: 4 | O51: 4 | P51: 100 | Q51: (A) | R51: -
B52: =IF(C52="","",SUBTOTAL(3,C$41:$C52)) -> 12 | C52: 46294 | D52: Anonymous | E52: Ruang Gizi | G52: 4 | H52: 4 | I52: 4 | J52: 4 | K52: 4 | L52: 4 | M52: 4 | N52: 4 | O52: 4 | P52: 100 | Q52: (A) | R52: -
... B59: =IF(C59="","",SUBTOTAL(3,C$41:$C59)) -> 19 | C59: 46295 | D59: Anonymous | E59: Ruang Gizi | G59: 4 | H59: 4 | I59: 4 | J59: 4 | K59: 4 | L59: 4 | M59: 4 | N59: 4 | O59: 4 | P59: 100 | Q59: (A) | R59: -
B60: =IF(C60="","",SUBTOTAL(3,C$41:$C60))
B61: =IF(C61="","",SUBTOTAL(3,C$41:$C61))
B62: =IF(C62="","",SUBTOTAL(3,C$41:$C62))
B63: =IF(C63="","",SUBTOTAL(3,C$41:$C63))
B64: =IF(C64="","",SUBTOTAL(3,C$41:$C64))
B65: =IF(C65="","",SUBTOTAL(3,C$41:$C65))
B66: =IF(C66="","",SUBTOTAL(3,C$41:$C66))
B67: =IF(C67="","",SUBTOTAL(3,C$41:$C67))
B68: =IF(C68="","",SUBTOTAL(3,C$41:$C68))
B69: =IF(C69="","",SUBTOTAL(3,C$41:$C69))
B70: =IF(C70="","",SUBTOTAL(3,C$41:$C70))
B71: =IF(C71="","",SUBTOTAL(3,C$41:$C71))
... B127: =IF(C127="","",SUBTOTAL(3,C$41:$C127))
C128: Jumlah Nilai Per Unsur Layanan | G128: =SUBTOTAL(9,G41:G127) -> 76 | H128: =SUBTOTAL(9,H41:H127) -> 76 | I128: =SUBTOTAL(9,I41:I127) -> 76 | J128: =SUBTOTAL(9,J41:J127) -> 76 | K128: =SUBTOTAL(9,K41:K127) -> 76 | L128: =SUBTOTAL(9,L41:L127) -> 76 | M128: =SUBTOTAL(9,M41:M127) -> 76 | N128: =SUBTOTAL(9,N41:N127) -> 76 | O128: =SUBTOTAL(9,O41:O127) -> 76 | P128: =SUM(G128:O128) -> 684
G129: =G128/(MAX($B$41:$B$127)*4)*100 -> 100 | H129: =H128/(MAX($B$41:$B$127)*4)*100 -> 100 | I129: =I128/(MAX($B$41:$B$127)*4)*100 -> 100 | J129: =J128/(MAX($B$41:$B$127)*4)*100 -> 100 | K129: =K128/(MAX($B$41:$B$127)*4)*100 -> 100 | L129: =L128/(MAX($B$41:$B$127)*4)*100 -> 100 | M129: =M128/(MAX($B$41:$B$127)*4)*100 -> 100 | N129: =N128/(MAX($B$41:$B$127)*4)*100 -> 100 | O129: =O128/(MAX($B$41:$B$127)*4)*100 -> 100 | P129: =P128/(MAX($B$41:$B$127)*4*9)*100 -> 100
C130: Nilai SKM Per Unsur Layanan | G130: A | H130: A | I130: A | J130: A | K130: A | L130: A | M130: A | N130: A | O130: A | P130: A
G131: Sangat Baik | H131: Sangat Baik | I131: Sangat Baik | J131: Sangat Baik | K131: Sangat Baik | L131: Sangat Baik | M131: Sangat Baik | N131: Sangat Baik | O131: Sangat Baik | P131: Sangat Baik
P133: =P26 -> Trenggalek, 30 September 2026
E134: KEPALA PUSKESMAS TRENGGALEK | P134: Penanggung jawab
P135: =F7 -> Ruang Gizi
E139: dr. MURTI RUKIYANDARI | P139: xxx
E140: Pembina Utama Muida | P140: NIP.
E141: NIP. 19800611 200903 2 004

Sheet 14
B2: LAPORAN SKM PUSKESMAS TRENGGALEK
B4: ="REKAPITULASI HASIL SKM PUSKESMAS TRENGGALEK BULAN "&UPPER(Home!C3) -> REKAPITULASI HASIL SKM PUSKESMAS TRENGGALEK BULAN SEPTEMBER 2026 | W4: =RIGHT(AB7,4)
L6: Unsur | R6: Unsur Responden | S6: Nilai Rata-Rata
B7: Nama Layanan | E7: : | F7: =Home!C18 -> Ruang Kesehatan Lingkungan | K7: P 1 | L7: Kesesuaian persyaratan pelayanan dengan jenis pelayanannya | R7: =G128 -> 60 | S7: =G129&" %" -> 100 %
B8: Target Responden | E8: : | F8: =Home!AE18 -> 9
B9: Jumlah Responden | K9: P 2 | L9: Kemudahan prosedur pelayanan di unit ini | R9: =H128 -> 60 | S9: =H129&" %" -> 100 %
D10: L | E10: : | F10: =Home!AC18 -> 8 | K10: P 3 | L10: Kecepatan waktu dalam memberikan pelayanan | R10: =I128 -> 60 | S10: =I129&" %" -> 100 %
D11: P | E11: : | F11: =Home!AD18 -> 7
B12: Jumlah/Capaian | E12: : | F12: =SUM(F10:F11)&" ("&ROUND((F10+F11)/F8*100,2)&" %"&")" -> 15 (166.67 %) | K12: P 4 | L12: Kewajaran biaya/tarif dalam pelayanan | R12: =J128 -> 60 | S12: =J129&" %" -> 100 %
B13: Jumlah Nilai | E13: : | F13: =R23 -> 540 | K13: P 5 | L13: Kesesuaian produk pelayanan antara yang tercantum dalam standar pelayanan dengan hasil yang diberikan | R13: =K128 -> 60 | S13: =K129&" %" -> 100 %
B14: Skor Layanan | E14: : | F14: 100,00 (Sangat Baik)
B15: Nilai SKM | E15: : | F15: =Home!I18 -> 100
K16: P 6 | L16: Penanganan pengaduan pengguna layanan | R16: =L128 -> 60 | S16: =L129&" %" -> 100 %
K18: P 7 | L18: Kualitas sarana dan prasarana | R18: =M128 -> 60 | S18: =M129&" %" -> 100 %
K19: P 8 | L19: Perilaku petugas dalam pelayanan terkait kesopanan dan keramahan | R19: =N128 -> 60 | S19: =N129&" %" -> 100 %
K21: P 9 | L21: Kompetensi/kemampuan petugas dalam pelayanan | R21: =O128 -> 60 | S21: =O129&" %" -> 100 %
R23: =P128 -> 540 | S23: =P129&" %" -> 100 %
P26: =Home!$F$25 -> Trenggalek, 30 September 2026
E27: KEPALA PUSKESMAS TRENGGALEK | P27: Penanggung Jawab
P28: =F7 -> Ruang Kesehatan Lingkungan
E32: dr. MURTI RUKIYANDARI | P32: xxx
E33: Pembina Utama Muida | P33: NIP.
E34: NIP. 19800611 200903 2 004
B37: Rincian
B39: NO. | C39: Tanggal | D39: NAMA | E39: LAYANAN | G39: P 1 | H39: P 2 | I39: P 3 | J39: P 4 | K39: P 5 | L39: P 6 | M39: P 7 | N39: P 8 | O39: P 9 | P39: SKOR | R39: Kritik dan Saran
B40: 1 | C40: 2 | D40: 3 | E40: 4 | G40: 5 | H40: 6 | I40: 7 | J40: 8 | K40: 9 | L40: 10 | M40: 11 | N40: 12 | O40: 13 | P40: 14 | R40: 15
B41: 1 | C41: 46268 | D41: Anonymous | E41: Ruang Kesehatan Lingkungan | G41: 4 | H41: 4 | I41: 4 | J41: 4 | K41: 4 | L41: 4 | M41: 4 | N41: 4 | O41: 4 | P41: 100 | Q41: (A) | R41: Sangat baik
B42: 2 | C42: 46268 | D42: Anonymous | E42: Ruang Kesehatan Lingkungan | G42: 4 | H42: 4 | I42: 4 | J42: 4 | K42: 4 | L42: 4 | M42: 4 | N42: 4 | O42: 4 | P42: 100 | Q42: (A) | R42: Sangat baik
B43: 3 | C43: 46272 | D43: Anonymous | E43: Ruang Kesehatan Lingkungan | G43: 4 | H43: 4 | I43: 4 | J43: 4 | K43: 4 | L43: 4 | M43: 4 | N43: 4 | O43: 4 | P43: 100 | Q43: (A) | R43: Baik sekali
B44: 4 | C44: 46272 | D44: Anonymous | E44: Ruang Kesehatan Lingkungan | G44: 4 | H44: 4 | I44: 4 | J44: 4 | K44: 4 | L44: 4 | M44: 4 | N44: 4 | O44: 4 | P44: 100 | Q44: (A) | R44: Baik sekali
B45: 5 | C45: 46274 | D45: Anonymous | E45: Ruang Kesehatan Lingkungan | G45: 4 | H45: 4 | I45: 4 | J45: 4 | K45: 4 | L45: 4 | M45: 4 | N45: 4 | O45: 4 | P45: 100 | Q45: (A) | R45: Baik sekali
B46: 6 | C46: 46274 | D46: Anonymous | E46: Ruang Kesehatan Lingkungan | G46: 4 | H46: 4 | I46: 4 | J46: 4 | K46: 4 | L46: 4 | M46: 4 | N46: 4 | O46: 4 | P46: 100 | Q46: (A) | R46: Baik sekali
B47: 7 | C47: 46275 | D47: Anonymous | E47: Ruang Kesehatan Lingkungan | G47: 4 | H47: 4 | I47: 4 | J47: 4 | K47: 4 | L47: 4 | M47: 4 | N47: 4 | O47: 4 | P47: 100 | Q47: (A) | R47: Sangat baik
B48: 8 | C48: 46275 | D48: Anonymous | E48: Ruang Kesehatan Lingkungan | G48: 4 | H48: 4 | I48: 4 | J48: 4 | K48: 4 | L48: 4 | M48: 4 | N48: 4 | O48: 4 | P48: 100 | Q48: (A) | R48: Sangat baik
B49: 9 | C49: 46286 | D49: Anonymous | E49: Ruang Kesehatan Lingkungan | G49: 4 | H49: 4 | I49: 4 | J49: 4 | K49: 4 | L49: 4 | M49: 4 | N49: 4 | O49: 4 | P49: 100 | Q49: (A) | R49: Sangat baik
B50: 10 | C50: 46286 | D50: Anonymous | E50: Ruang Kesehatan Lingkungan | G50: 4 | H50: 4 | I50: 4 | J50: 4 | K50: 4 | L50: 4 | M50: 4 | N50: 4 | O50: 4 | P50: 100 | Q50: (A) | R50: Sangat baik
B51: 11 | C51: 46287 | D51: Anonymous | E51: Ruang Kesehatan Lingkungan | G51: 4 | H51: 4 | I51: 4 | J51: 4 | K51: 4 | L51: 4 | M51: 4 | N51: 4 | O51: 4 | P51: 100 | Q51: (A) | R51: -
B52: 12 | C52: 46289 | D52: Anonymous | E52: Ruang Kesehatan Lingkungan | G52: 4 | H52: 4 | I52: 4 | J52: 4 | K52: 4 | L52: 4 | M52: 4 | N52: 4 | O52: 4 | P52: 100 | Q52: (A) | R52: Sangat baik
... B54: 14 | C54: 46294 | D54: Anonymous | E54: Ruang Kesehatan Lingkungan | G54: 4 | H54: 4 | I54: 4 | J54: 4 | K54: 4 | L54: 4 | M54: 4 | N54: 4 | O54: 4 | P54: 100 | Q54: (A) | R54: Sangat baik
B55: =IF(C55="","",SUBTOTAL(3,C$41:$C55)) -> 15 | C55: 46294 | D55: Anonymous | E55: Ruang Kesehatan Lingkungan | G55: 4 | H55: 4 | I55: 4 | J55: 4 | K55: 4 | L55: 4 | M55: 4 | N55: 4 | O55: 4 | P55: 100 | Q55: (A) | R55: -
B56: =IF(C56="","",SUBTOTAL(3,C$41:$C56))
B57: =IF(C57="","",SUBTOTAL(3,C$41:$C57))
B58: =IF(C58="","",SUBTOTAL(3,C$41:$C58))
B59: =IF(C59="","",SUBTOTAL(3,C$41:$C59))
B60: =IF(C60="","",SUBTOTAL(3,C$41:$C60))
B61: =IF(C61="","",SUBTOTAL(3,C$41:$C61))
B62: =IF(C62="","",SUBTOTAL(3,C$41:$C62))
B63: =IF(C63="","",SUBTOTAL(3,C$41:$C63))
B64: =IF(C64="","",SUBTOTAL(3,C$41:$C64))
B65: =IF(C65="","",SUBTOTAL(3,C$41:$C65))
B66: =IF(C66="","",SUBTOTAL(3,C$41:$C66))
B67: =IF(C67="","",SUBTOTAL(3,C$41:$C67))
... B127: =IF(C127="","",SUBTOTAL(3,C$41:$C127))
C128: Jumlah Nilai Per Unsur Layanan | G128: =SUBTOTAL(9,G41:G127) -> 60 | H128: =SUBTOTAL(9,H41:H127) -> 60 | I128: =SUBTOTAL(9,I41:I127) -> 60 | J128: =SUBTOTAL(9,J41:J127) -> 60 | K128: =SUBTOTAL(9,K41:K127) -> 60 | L128: =SUBTOTAL(9,L41:L127) -> 60 | M128: =SUBTOTAL(9,M41:M127) -> 60 | N128: =SUBTOTAL(9,N41:N127) -> 60 | O128: =SUBTOTAL(9,O41:O127) -> 60 | P128: =SUM(G128:O128) -> 540
G129: =G128/(MAX($B$41:$B$127)*4)*100 -> 100 | H129: =H128/(MAX($B$41:$B$127)*4)*100 -> 100 | I129: =I128/(MAX($B$41:$B$127)*4)*100 -> 100 | J129: =J128/(MAX($B$41:$B$127)*4)*100 -> 100 | K129: =K128/(MAX($B$41:$B$127)*4)*100 -> 100 | L129: =L128/(MAX($B$41:$B$127)*4)*100 -> 100 | M129: =M128/(MAX($B$41:$B$127)*4)*100 -> 100 | N129: =N128/(MAX($B$41:$B$127)*4)*100 -> 100 | O129: =O128/(MAX($B$41:$B$127)*4)*100 -> 100 | P129: =P128/(MAX($B$41:$B$127)*4*9)*100 -> 100
C130: Nilai SKM Per Unsur Layanan | G130: A | H130: A | I130: A | J130: A | K130: A | L130: A | M130: A | N130: A | O130: A | P130: A
G131: Sangat Baik | H131: Sangat Baik | I131: Sangat Baik | J131: Sangat Baik | K131: Sangat Baik | L131: Sangat Baik | M131: Sangat Baik | N131: Sangat Baik | O131: Sangat Baik | P131: Sangat Baik
P133: =P26 -> Trenggalek, 30 September 2026
E134: KEPALA PUSKESMAS TRENGGALEK | P134: Penanggung jawab
P135: =F7 -> Ruang Kesehatan Lingkungan
E139: dr. MURTI RUKIYANDARI | P139: xxx
E140: Pembina Utama Muida | P140: NIP.
E141: NIP. 19800611 200903 2 004

Sheet 15
B2: LAPORAN SKM PUSKESMAS TRENGGALEK
B4: ="REKAPITULASI HASIL SKM PUSKESMAS TRENGGALEK BULAN "&UPPER(Home!C3) -> REKAPITULASI HASIL SKM PUSKESMAS TRENGGALEK BULAN SEPTEMBER 2026 | W4: =RIGHT(AB7,4)
L6: Unsur | R6: Unsur Responden | S6: Nilai Rata-Rata
B7: Nama Layanan | E7: : | F7: =Home!C19 -> Ruang Laboratorium | K7: P 1 | L7: Kesesuaian persyaratan pelayanan dengan jenis pelayanannya | R7: =G128 -> 200 | S7: =G129&" %" -> 100 %
B8: Target Responden | E8: : | F8: =Home!AE19 -> 39
B9: Jumlah Responden | K9: P 2 | L9: Kemudahan prosedur pelayanan di unit ini | R9: =H128 -> 200 | S9: =H129&" %" -> 100 %
D10: L | E10: : | F10: =Home!AC19 -> 27 | K10: P 3 | L10: Kecepatan waktu dalam memberikan pelayanan | R10: =I128 -> 200 | S10: =I129&" %" -> 100 %
D11: P | E11: : | F11: =Home!AD19 -> 23
B12: Jumlah/Capaian | E12: : | F12: =SUM(F10:F11)&" ("&ROUND((F10+F11)/F8*100,2)&" %"&")" -> 50 (128.21 %) | K12: P 4 | L12: Kewajaran biaya/tarif dalam pelayanan | R12: =J128 -> 200 | S12: =J129&" %" -> 100 %
B13: Jumlah Nilai | E13: : | F13: =R23 -> 1800 | K13: P 5 | L13: Kesesuaian produk pelayanan antara yang tercantum dalam standar pelayanan dengan hasil yang diberikan | R13: =K128 -> 200 | S13: =K129&" %" -> 100 %
B14: Skor Layanan | E14: : | F14: 100,00 (Sangat Baik)
B15: Nilai SKM | E15: : | F15: =Home!I19 -> 100
K16: P 6 | L16: Penanganan pengaduan pengguna layanan | R16: =L128 -> 200 | S16: =L129&" %" -> 100 %
K18: P 7 | L18: Kualitas sarana dan prasarana | R18: =M128 -> 200 | S18: =M129&" %" -> 100 %
K19: P 8 | L19: Perilaku petugas dalam pelayanan terkait kesopanan dan keramahan | R19: =N128 -> 200 | S19: =N129&" %" -> 100 %
K21: P 9 | L21: Kompetensi/kemampuan petugas dalam pelayanan | R21: =O128 -> 200 | S21: =O129&" %" -> 100 %
R23: =P128 -> 1800 | S23: =P129&" %" -> 100 %
P26: =Home!$F$25 -> Trenggalek, 30 September 2026
E27: KEPALA PUSKESMAS TRENGGALEK | P27: Penanggung Jawab
P28: =F7 -> Ruang Laboratorium
E32: dr. MURTI RUKIYANDARI | P32: xxx
E33: Pembina Utama Muida | P33: NIP.
E34: NIP. 19800611 200903 2 004
B37: Rincian
B39: NO. | C39: Tanggal | D39: NAMA | E39: LAYANAN | G39: P 1 | H39: P 2 | I39: P 3 | J39: P 4 | K39: P 5 | L39: P 6 | M39: P 7 | N39: P 8 | O39: P 9 | P39: SKOR | R39: Kritik dan Saran
B40: 1 | C40: 2 | D40: 3 | E40: 4 | G40: 5 | H40: 6 | I40: 7 | J40: 8 | K40: 9 | L40: 10 | M40: 11 | N40: 12 | O40: 13 | P40: 14 | R40: 15
B41: 1 | C41: 46270 | D41: Anonymous | E41: Ruang Laboratorium | G41: 4 | H41: 4 | I41: 4 | J41: 4 | K41: 4 | L41: 4 | M41: 4 | N41: 4 | O41: 4 | P41: 100 | Q41: (A) | R41: Hasil cepat petugas ramah
B42: 2 | C42: 46274 | D42: Anonymous | E42: Ruang Laboratorium | G42: 4 | H42: 4 | I42: 4 | J42: 4 | K42: 4 | L42: 4 | M42: 4 | N42: 4 | O42: 4 | P42: 100 | Q42: (A) | R42: -
B43: 3 | C43: 46274 | D43: Anonymous | E43: Ruang Laboratorium | G43: 4 | H43: 4 | I43: 4 | J43: 4 | K43: 4 | L43: 4 | M43: 4 | N43: 4 | O43: 4 | P43: 100 | Q43: (A) | R43: -
B44: 4 | C44: 46275 | D44: Anonymous | E44: Ruang Laboratorium | G44: 4 | H44: 4 | I44: 4 | J44: 4 | K44: 4 | L44: 4 | M44: 4 | N44: 4 | O44: 4 | P44: 100 | Q44: (A) | R44: -
B45: 5 | C45: 46280 | D45: Anonymous | E45: Ruang Laboratorium | G45: 4 | H45: 4 | I45: 4 | J45: 4 | K45: 4 | L45: 4 | M45: 4 | N45: 4 | O45: 4 | P45: 100 | Q45: (A) | R45: -
B46: 6 | C46: 46280 | D46: Anonymous | E46: Ruang Laboratorium | G46: 4 | H46: 4 | I46: 4 | J46: 4 | K46: 4 | L46: 4 | M46: 4 | N46: 4 | O46: 4 | P46: 100 | Q46: (A) | R46: -
B47: 7 | C47: 46280 | D47: Anonymous | E47: Ruang Laboratorium | G47: 4 | H47: 4 | I47: 4 | J47: 4 | K47: 4 | L47: 4 | M47: 4 | N47: 4 | O47: 4 | P47: 100 | Q47: (A) | R47: -
B48: 8 | C48: 46280 | D48: Anonymous | E48: Ruang Laboratorium | G48: 4 | H48: 4 | I48: 4 | J48: 4 | K48: 4 | L48: 4 | M48: 4 | N48: 4 | O48: 4 | P48: 100 | Q48: (A) | R48: -
B49: 9 | C49: 46280 | D49: Anonymous | E49: Ruang Laboratorium | G49: 4 | H49: 4 | I49: 4 | J49: 4 | K49: 4 | L49: 4 | M49: 4 | N49: 4 | O49: 4 | P49: 100 | Q49: (A) | R49: -
B50: 10 | C50: 46280 | D50: Anonymous | E50: Ruang Laboratorium | G50: 4 | H50: 4 | I50: 4 | J50: 4 | K50: 4 | L50: 4 | M50: 4 | N50: 4 | O50: 4 | P50: 100 | Q50: (A) | R50: -
B51: 11 | C51: 46280 | D51: Anonymous | E51: Ruang Laboratorium | G51: 4 | H51: 4 | I51: 4 | J51: 4 | K51: 4 | L51: 4 | M51: 4 | N51: 4 | O51: 4 | P51: 100 | Q51: (A) | R51: -
B52: 12 | C52: 46280 | D52: Anonymous | E52: Ruang Laboratorium | G52: 4 | H52: 4 | I52: 4 | J52: 4 | K52: 4 | L52: 4 | M52: 4 | N52: 4 | O52: 4 | P52: 100 | Q52: (A) | R52: -
... B90: 50 | C90: 46295 | D90: Anonymous | E90: Ruang Laboratorium | G90: 4 | H90: 4 | I90: 4 | J90: 4 | K90: 4 | L90: 4 | M90: 4 | N90: 4 | O90: 4 | P90: 100 | Q90: (A) | R90: -
B101: =IF(C101="","",SUBTOTAL(3,C$41:$C101))
B102: =IF(C102="","",SUBTOTAL(3,C$41:$C102))
B103: =IF(C103="","",SUBTOTAL(3,C$41:$C103))
B104: =IF(C104="","",SUBTOTAL(3,C$41:$C104))
B105: =IF(C105="","",SUBTOTAL(3,C$41:$C105))
B106: =IF(C106="","",SUBTOTAL(3,C$41:$C106))
B107: =IF(C107="","",SUBTOTAL(3,C$41:$C107))
B108: =IF(C108="","",SUBTOTAL(3,C$41:$C108))
B109: =IF(C109="","",SUBTOTAL(3,C$41:$C109))
B110: =IF(C110="","",SUBTOTAL(3,C$41:$C110))
B111: =IF(C111="","",SUBTOTAL(3,C$41:$C111))
B112: =IF(C112="","",SUBTOTAL(3,C$41:$C112))
... B127: =IF(C127="","",SUBTOTAL(3,C$41:$C127))
C128: Jumlah Nilai Per Unsur Layanan | G128: =SUBTOTAL(9,G41:G127) -> 200 | H128: =SUBTOTAL(9,H41:H127) -> 200 | I128: =SUBTOTAL(9,I41:I127) -> 200 | J128: =SUBTOTAL(9,J41:J127) -> 200 | K128: =SUBTOTAL(9,K41:K127) -> 200 | L128: =SUBTOTAL(9,L41:L127) -> 200 | M128: =SUBTOTAL(9,M41:M127) -> 200 | N128: =SUBTOTAL(9,N41:N127) -> 200 | O128: =SUBTOTAL(9,O41:O127) -> 200 | P128: =SUM(G128:O128) -> 1800
G129: =G128/(MAX($B$41:$B$127)*4)*100 -> 100 | H129: =H128/(MAX($B$41:$B$127)*4)*100 -> 100 | I129: =I128/(MAX($B$41:$B$127)*4)*100 -> 100 | J129: =J128/(MAX($B$41:$B$127)*4)*100 -> 100 | K129: =K128/(MAX($B$41:$B$127)*4)*100 -> 100 | L129: =L128/(MAX($B$41:$B$127)*4)*100 -> 100 | M129: =M128/(MAX($B$41:$B$127)*4)*100 -> 100 | N129: =N128/(MAX($B$41:$B$127)*4)*100 -> 100 | O129: =O128/(MAX($B$41:$B$127)*4)*100 -> 100 | P129: =P128/(MAX($B$41:$B$127)*4*9)*100 -> 100
C130: Nilai SKM Per Unsur Layanan | G130: A | H130: A | I130: A | J130: A | K130: A | L130: A | M130: A | N130: A | O130: A | P130: A
G131: Sangat Baik | H131: Sangat Baik | I131: Sangat Baik | J131: Sangat Baik | K131: Sangat Baik | L131: Sangat Baik | M131: Sangat Baik | N131: Sangat Baik | O131: Sangat Baik | P131: Sangat Baik
P133: =P26 -> Trenggalek, 30 September 2026
E134: KEPALA PUSKESMAS TRENGGALEK | P134: Penanggung jawab
P135: =F7 -> Ruang Laboratorium
E139: dr. MURTI RUKIYANDARI | P139: xxx
E140: Pembina Utama Muida | P140: NIP.
E141: NIP. 19800611 200903 2 004

Sheet 16
B2: LAPORAN SKM PUSKESMAS TRENGGALEK
B4: ="REKAPITULASI HASIL SKM PUSKESMAS TRENGGALEK BULAN "&UPPER(Home!C3) -> REKAPITULASI HASIL SKM PUSKESMAS TRENGGALEK BULAN SEPTEMBER 2026 | W4: =RIGHT(AB7,4)
L6: Unsur | R6: Unsur Responden | S6: Nilai Rata-Rata
B7: Nama Layanan | E7: : | F7: =Home!C20 -> Ruang Promosi Kesehatan | K7: P 1 | L7: Kesesuaian persyaratan pelayanan dengan jenis pelayanannya | R7: =G128 -> 48 | S7: =G129&" %" -> 100 %
B8: Target Responden | E8: : | F8: =Home!AE20 -> 10
B9: Jumlah Responden | K9: P 2 | L9: Kemudahan prosedur pelayanan di unit ini | R9: =H128 -> 48 | S9: =H129&" %" -> 100 %
D10: L | E10: : | F10: =Home!AC20 -> 7 | K10: P 3 | L10: Kecepatan waktu dalam memberikan pelayanan | R10: =I128 -> 48 | S10: =I129&" %" -> 100 %
D11: P | E11: : | F11: =Home!AD20 -> 5
B12: Jumlah/Capaian | E12: : | F12: =SUM(F10:F11)&" ("&ROUND((F10+F11)/F8*100,2)&" %"&")" -> 12 (120 %) | K12: P 4 | L12: Kewajaran biaya/tarif dalam pelayanan | R12: =J128 -> 48 | S12: =J129&" %" -> 100 %
B13: Jumlah Nilai | E13: : | F13: =R23 -> 432 | K13: P 5 | L13: Kesesuaian produk pelayanan antara yang tercantum dalam standar pelayanan dengan hasil yang diberikan | R13: =K128 -> 48 | S13: =K129&" %" -> 100 %
B14: Skor Layanan | E14: : | F14: 100,00 (Sangat Baik)
B15: Nilai SKM | E15: : | F15: =Home!I20 -> 100
K16: P 6 | L16: Penanganan pengaduan pengguna layanan | R16: =L128 -> 48 | S16: =L129&" %" -> 100 %
K18: P 7 | L18: Kualitas sarana dan prasarana | R18: =M128 -> 48 | S18: =M129&" %" -> 100 %
K19: P 8 | L19: Perilaku petugas dalam pelayanan terkait kesopanan dan keramahan | R19: =N128 -> 48 | S19: =N129&" %" -> 100 %
K21: P 9 | L21: Kompetensi/kemampuan petugas dalam pelayanan | R21: =O128 -> 48 | S21: =O129&" %" -> 100 %
R23: =P128 -> 432 | S23: =P129&" %" -> 100 %
P26: =Home!$F$25 -> Trenggalek, 30 September 2026
E27: KEPALA PUSKESMAS TRENGGALEK | P27: Penanggung Jawab
P28: =F7 -> Ruang Promosi Kesehatan
E32: dr. MURTI RUKIYANDARI | P32: xxx
E33: Pembina Utama Muida | P33: NIP.
E34: NIP. 19800611 200903 2 004
B37: Rincian
B39: NO. | C39: Tanggal | D39: NAMA | E39: LAYANAN | G39: P 1 | H39: P 2 | I39: P 3 | J39: P 4 | K39: P 5 | L39: P 6 | M39: P 7 | N39: P 8 | O39: P 9 | P39: SKOR | R39: Kritik dan Saran
B40: 1 | C40: 2 | D40: 3 | E40: 4 | G40: 5 | H40: 6 | I40: 7 | J40: 8 | K40: 9 | L40: 10 | M40: 11 | N40: 12 | O40: 13 | P40: 14 | R40: 15
B41: 1 | C41: 46266 | D41: Anonymous | E41: Ruang Promosi Kesehatan | G41: 4 | H41: 4 | I41: 4 | J41: 4 | K41: 4 | L41: 4 | M41: 4 | N41: 4 | O41: 4 | P41: 100 | Q41: (A) | R41: Sangat ramah part 1
B42: 2 | C42: 46267 | D42: Anonymous | E42: Ruang Promosi Kesehatan | G42: 4 | H42: 4 | I42: 4 | J42: 4 | K42: 4 | L42: 4 | M42: 4 | N42: 4 | O42: 4 | P42: 100 | Q42: (A) | R42: Terbaik
B43: 3 | C43: 46268 | D43: Anonymous | E43: Ruang Promosi Kesehatan | G43: 4 | H43: 4 | I43: 4 | J43: 4 | K43: 4 | L43: 4 | M43: 4 | N43: 4 | O43: 4 | P43: 100 | Q43: (A) | R43: Terbaik
B44: 4 | C44: 46272 | D44: Anonymous | E44: Ruang Promosi Kesehatan | G44: 4 | H44: 4 | I44: 4 | J44: 4 | K44: 4 | L44: 4 | M44: 4 | N44: 4 | O44: 4 | P44: 100 | Q44: (A) | R44: Terbaik
B45: 5 | C45: 46273 | D45: Anonymous | E45: Ruang Promosi Kesehatan | G45: 4 | H45: 4 | I45: 4 | J45: 4 | K45: 4 | L45: 4 | M45: 4 | N45: 4 | O45: 4 | P45: 100 | Q45: (A) | R45: Terbaik
B46: 6 | C46: 46279 | D46: Anonymous | E46: Ruang Promosi Kesehatan | G46: 4 | H46: 4 | I46: 4 | J46: 4 | K46: 4 | L46: 4 | M46: 4 | N46: 4 | O46: 4 | P46: 100 | Q46: (A) | R46: Terbaik
B47: 7 | C47: 46280 | D47: Anonymous | E47: Ruang Promosi Kesehatan | G47: 4 | H47: 4 | I47: 4 | J47: 4 | K47: 4 | L47: 4 | M47: 4 | N47: 4 | O47: 4 | P47: 100 | Q47: (A) | R47: sangat ramah
B48: 8 | C48: 46280 | D48: Anonymous | E48: Ruang Promosi Kesehatan | G48: 4 | H48: 4 | I48: 4 | J48: 4 | K48: 4 | L48: 4 | M48: 4 | N48: 4 | O48: 4 | P48: 100 | Q48: (A) | R48: sangat ramah
B49: 9 | C49: 46290 | D49: Anonymous | E49: Ruang Promosi Kesehatan | G49: 4 | H49: 4 | I49: 4 | J49: 4 | K49: 4 | L49: 4 | M49: 4 | N49: 4 | O49: 4 | P49: 100 | Q49: (A) | R49: Sangat ramah
B50: 10 | C50: 46294 | D50: Anonymous | E50: Ruang Promosi Kesehatan | G50: 4 | H50: 4 | I50: 4 | J50: 4 | K50: 4 | L50: 4 | M50: 4 | N50: 4 | O50: 4 | P50: 100 | Q50: (A) | R50: Ramahhhhh polll
B51: =IF(C51="","",SUBTOTAL(3,C$41:$C51)) -> 11 | C51: 46294 | D51: Anonymous | E51: Ruang Promosi Kesehatan | G51: 4 | H51: 4 | I51: 4 | J51: 4 | K51: 4 | L51: 4 | M51: 4 | N51: 4 | O51: 4 | P51: 100 | Q51: (A) | R51: Ramah
B52: =IF(C52="","",SUBTOTAL(3,C$41:$C52)) -> 12 | C52: 46294 | D52: Anonymous | E52: Ruang Promosi Kesehatan | G52: 4 | H52: 4 | I52: 4 | J52: 4 | K52: 4 | L52: 4 | M52: 4 | N52: 4 | O52: 4 | P52: 100 | Q52: (A) | R52: Ramah
B53: =IF(C53="","",SUBTOTAL(3,C$41:$C53))
B54: =IF(C54="","",SUBTOTAL(3,C$41:$C54))
B55: =IF(C55="","",SUBTOTAL(3,C$41:$C55))
B56: =IF(C56="","",SUBTOTAL(3,C$41:$C56))
B57: =IF(C57="","",SUBTOTAL(3,C$41:$C57))
B58: =IF(C58="","",SUBTOTAL(3,C$41:$C58))
B59: =IF(C59="","",SUBTOTAL(3,C$41:$C59))
B60: =IF(C60="","",SUBTOTAL(3,C$41:$C60))
B61: =IF(C61="","",SUBTOTAL(3,C$41:$C61))
B62: =IF(C62="","",SUBTOTAL(3,C$41:$C62))
B63: =IF(C63="","",SUBTOTAL(3,C$41:$C63))
B64: =IF(C64="","",SUBTOTAL(3,C$41:$C64))
... B127: =IF(C127="","",SUBTOTAL(3,C$41:$C127))
C128: Jumlah Nilai Per Unsur Layanan | G128: =SUBTOTAL(9,G41:G127) -> 48 | H128: =SUBTOTAL(9,H41:H127) -> 48 | I128: =SUBTOTAL(9,I41:I127) -> 48 | J128: =SUBTOTAL(9,J41:J127) -> 48 | K128: =SUBTOTAL(9,K41:K127) -> 48 | L128: =SUBTOTAL(9,L41:L127) -> 48 | M128: =SUBTOTAL(9,M41:M127) -> 48 | N128: =SUBTOTAL(9,N41:N127) -> 48 | O128: =SUBTOTAL(9,O41:O127) -> 48 | P128: =SUM(G128:O128) -> 432
G129: =G128/(MAX($B$41:$B$127)*4)*100 -> 100 | H129: =H128/(MAX($B$41:$B$127)*4)*100 -> 100 | I129: =I128/(MAX($B$41:$B$127)*4)*100 -> 100 | J129: =J128/(MAX($B$41:$B$127)*4)*100 -> 100 | K129: =K128/(MAX($B$41:$B$127)*4)*100 -> 100 | L129: =L128/(MAX($B$41:$B$127)*4)*100 -> 100 | M129: =M128/(MAX($B$41:$B$127)*4)*100 -> 100 | N129: =N128/(MAX($B$41:$B$127)*4)*100 -> 100 | O129: =O128/(MAX($B$41:$B$127)*4)*100 -> 100 | P129: =P128/(MAX($B$41:$B$127)*4*9)*100 -> 100
C130: Nilai SKM Per Unsur Layanan | G130: A | H130: A | I130: A | J130: A | K130: A | L130: A | M130: A | N130: A | O130: A | P130: A
G131: Sangat Baik | H131: Sangat Baik | I131: Sangat Baik | J131: Sangat Baik | K131: Sangat Baik | L131: Sangat Baik | M131: Sangat Baik | N131: Sangat Baik | O131: Sangat Baik | P131: Sangat Baik
P133: =P26 -> Trenggalek, 30 September 2026
E134: KEPALA PUSKESMAS TRENGGALEK | P134: Penanggung jawab
P135: =F7 -> Ruang Promosi Kesehatan
E139: dr. MURTI RUKIYANDARI | P139: xxx
E140: Pembina Utama Muida | P140: NIP.
E141: NIP. 19800611 200903 2 004

Sheet 17
B2: LAPORAN SKM PUSKESMAS TRENGGALEK
B4: ="REKAPITULASI HASIL SKM PUSKESMAS TRENGGALEK BULAN "&UPPER(Home!C3) -> REKAPITULASI HASIL SKM PUSKESMAS TRENGGALEK BULAN SEPTEMBER 2026 | W4: =RIGHT(AB7,4)
L6: Unsur | R6: Unsur Responden | S6: Nilai Rata-Rata
B7: Nama Layanan | E7: : | F7: =Home!C21 -> Ruang Imunisasi atau Penyimpanan Vaksin | K7: P 1 | L7: Kesesuaian persyaratan pelayanan dengan jenis pelayanannya | R7: =G128 -> 84 | S7: =G129&" %" -> 100 %
B8: Target Responden | E8: : | F8: =Home!AE21 -> 14
B9: Jumlah Responden | K9: P 2 | L9: Kemudahan prosedur pelayanan di unit ini | R9: =H128 -> 84 | S9: =H129&" %" -> 100 %
D10: L | E10: : | F10: =Home!AC21 -> 9 | K10: P 3 | L10: Kecepatan waktu dalam memberikan pelayanan | R10: =I128 -> 84 | S10: =I129&" %" -> 100 %
D11: P | E11: : | F11: =Home!AD21 -> 7
B12: Jumlah/Capaian | E12: : | F12: =SUM(F10:F11)&" ("&ROUND((F10+F11)/F8*100,2)&" %"&")" -> 16 (114.29 %) | K12: P 4 | L12: Kewajaran biaya/tarif dalam pelayanan | R12: =J128 -> 84 | S12: =J129&" %" -> 100 %
B13: Jumlah Nilai | E13: : | F13: =R23 -> 756 | K13: P 5 | L13: Kesesuaian produk pelayanan antara yang tercantum dalam standar pelayanan dengan hasil yang diberikan | R13: =K128 -> 84 | S13: =K129&" %" -> 100 %
B14: Skor Layanan | E14: : | F14: 100,00 (Sangat Baik)
B15: Nilai SKM | E15: : | F15: =Home!I21 -> 100
K16: P 6 | L16: Penanganan pengaduan pengguna layanan | R16: =L128 -> 84 | S16: =L129&" %" -> 100 %
K18: P 7 | L18: Kualitas sarana dan prasarana | R18: =M128 -> 84 | S18: =M129&" %" -> 100 %
K19: P 8 | L19: Perilaku petugas dalam pelayanan terkait kesopanan dan keramahan | R19: =N128 -> 84 | S19: =N129&" %" -> 100 %
K21: P 9 | L21: Kompetensi/kemampuan petugas dalam pelayanan | R21: =O128 -> 84 | S21: =O129&" %" -> 100 %
R23: =P128 -> 756 | S23: =P129&" %" -> 100 %
P26: =Home!$F$25 -> Trenggalek, 30 September 2026
E27: KEPALA PUSKESMAS TRENGGALEK | P27: Penanggung Jawab
P28: =F7 -> Ruang Imunisasi atau Penyimpanan Vaksin
E32: dr. MURTI RUKIYANDARI | P32: DWIHAYU PRASTYANDARTI A.Md.Kep
E33: Pembina Utama Muida | P33: NIP. 198210202022212001
E34: NIP. 19800611 200903 2 004
B37: ="Rincian "&F7 -> Rincian Ruang Imunisasi atau Penyimpanan Vaksin
B39: NO. | C39: Tanggal | D39: NAMA | E39: LAYANAN | G39: P 1 | H39: P 2 | I39: P 3 | J39: P 4 | K39: P 5 | L39: P 6 | M39: P 7 | N39: P 8 | O39: P 9 | P39: SKOR | R39: Kritik dan Saran
B40: 1 | C40: 2 | D40: 3 | E40: 4 | G40: 5 | H40: 6 | I40: 7 | J40: 8 | K40: 9 | L40: 10 | M40: 11 | N40: 12 | O40: 13 | P40: 14 | R40: 15
B41: 1 | C41: 46267 | D41: Anonymous | E41: Ruang Imunisasi atau Penyimpanan Vaksin | G41: 4 | H41: 4 | I41: 4 | J41: 4 | K41: 4 | L41: 4 | M41: 4 | N41: 4 | O41: 4 | P41: 100 | Q41: (A) | R41: - | Z41: -
B42: 2 | C42: 46274 | D42: Anonymous | E42: Ruang Imunisasi atau Penyimpanan Vaksin | G42: 4 | H42: 4 | I42: 4 | J42: 4 | K42: 4 | L42: 4 | M42: 4 | N42: 4 | O42: 4 | P42: 100 | Q42: (A) | R42: - | Z42: -
B43: 3 | C43: 46274 | D43: Anonymous | E43: Ruang Imunisasi atau Penyimpanan Vaksin | G43: 4 | H43: 4 | I43: 4 | J43: 4 | K43: 4 | L43: 4 | M43: 4 | N43: 4 | O43: 4 | P43: 100 | Q43: (A) | R43: - | Z43: -
B44: 4 | C44: 46274 | D44: Anonymous | E44: Ruang Imunisasi atau Penyimpanan Vaksin | G44: 4 | H44: 4 | I44: 4 | J44: 4 | K44: 4 | L44: 4 | M44: 4 | N44: 4 | O44: 4 | P44: 100 | Q44: (A) | R44: - | Z44: -
B45: 5 | C45: 46284 | D45: Anonymous | E45: Ruang Imunisasi atau Penyimpanan Vaksin | G45: 4 | H45: 4 | I45: 4 | J45: 4 | K45: 4 | L45: 4 | M45: 4 | N45: 4 | O45: 4 | P45: 100 | Q45: (A) | R45: - | Z45: -
B46: 6 | C46: 46289 | D46: Anonymous | E46: Ruang Imunisasi atau Penyimpanan Vaksin | G46: 4 | H46: 4 | I46: 4 | J46: 4 | K46: 4 | L46: 4 | M46: 4 | N46: 4 | O46: 4 | P46: 100 | Q46: (A) | R46: - | Z46: -
B47: 7 | C47: 46289 | D47: Anonymous | E47: Ruang Imunisasi atau Penyimpanan Vaksin | G47: 4 | H47: 4 | I47: 4 | J47: 4 | K47: 4 | L47: 4 | M47: 4 | N47: 4 | O47: 4 | P47: 100 | Q47: (A) | R47: - | Z47: -
B48: 8 | C48: 46289 | D48: Anonymous | E48: Ruang Imunisasi atau Penyimpanan Vaksin | G48: 4 | H48: 4 | I48: 4 | J48: 4 | K48: 4 | L48: 4 | M48: 4 | N48: 4 | O48: 4 | P48: 100 | Q48: (A) | R48: - | Z48: -
B49: 9 | C49: 46289 | D49: Anonymous | E49: Ruang Imunisasi atau Penyimpanan Vaksin | G49: 4 | H49: 4 | I49: 4 | J49: 4 | K49: 4 | L49: 4 | M49: 4 | N49: 4 | O49: 4 | P49: 100 | Q49: (A) | R49: - | Z49: -
B50: 10 | C50: 46290 | D50: Anonymous | E50: Ruang Imunisasi atau Penyimpanan Vaksin | G50: 4 | H50: 4 | I50: 4 | J50: 4 | K50: 4 | L50: 4 | M50: 4 | N50: 4 | O50: 4 | P50: 100 | Q50: (A) | R50: - | Z50: -
B51: 11 | C51: 46290 | D51: Anonymous | E51: Ruang Imunisasi atau Penyimpanan Vaksin | G51: 4 | H51: 4 | I51: 4 | J51: 4 | K51: 4 | L51: 4 | M51: 4 | N51: 4 | O51: 4 | P51: 100 | Q51: (A) | R51: - | Z51: -
B52: 12 | C52: 46290 | D52: Anonymous | E52: Ruang Imunisasi atau Penyimpanan Vaksin | G52: 4 | H52: 4 | I52: 4 | J52: 4 | K52: 4 | L52: 4 | M52: 4 | N52: 4 | O52: 4 | P52: 100 | Q52: (A) | R52: - | Z52: -
... B61: 21 | C61: 46262 | D61: Anonymous | E61: Ruang Imunisasi atau Penyimpanan Vaksin | G61: 4 | H61: 4 | I61: 4 | J61: 4 | K61: 4 | L61: 4 | M61: 4 | N61: 4 | O61: 4 | P61: 100 | Q61: ( A ) | R61: 🫶🫶🫶🤗🤗🤗 | Z61: baik.
B62: =IF(C62="","",SUBTOTAL(3,C$41:$C62))
B63: =IF(C63="","",SUBTOTAL(3,C$41:$C63))
B64: =IF(C64="","",SUBTOTAL(3,C$41:$C64))
B65: =IF(C65="","",SUBTOTAL(3,C$41:$C65))
B66: =IF(C66="","",SUBTOTAL(3,C$41:$C66))
B67: =IF(C67="","",SUBTOTAL(3,C$41:$C67))
B68: =IF(C68="","",SUBTOTAL(3,C$41:$C68))
B69: =IF(C69="","",SUBTOTAL(3,C$41:$C69))
B70: =IF(C70="","",SUBTOTAL(3,C$41:$C70))
B71: =IF(C71="","",SUBTOTAL(3,C$41:$C71))
B72: =IF(C72="","",SUBTOTAL(3,C$41:$C72))
B73: =IF(C73="","",SUBTOTAL(3,C$41:$C73))
... B127: =IF(C127="","",SUBTOTAL(3,C$41:$C127))
C128: Jumlah Nilai Per Unsur Layanan | G128: =SUBTOTAL(9,G41:G127) -> 84 | H128: =SUBTOTAL(9,H41:H127) -> 84 | I128: =SUBTOTAL(9,I41:I127) -> 84 | J128: =SUBTOTAL(9,J41:J127) -> 84 | K128: =SUBTOTAL(9,K41:K127) -> 84 | L128: =SUBTOTAL(9,L41:L127) -> 84 | M128: =SUBTOTAL(9,M41:M127) -> 84 | N128: =SUBTOTAL(9,N41:N127) -> 84 | O128: =SUBTOTAL(9,O41:O127) -> 84 | P128: =SUM(G128:O128) -> 756
G129: =G128/(MAX($B$41:$B$127)*4)*100 -> 100 | H129: =H128/(MAX($B$41:$B$127)*4)*100 -> 100 | I129: =I128/(MAX($B$41:$B$127)*4)*100 -> 100 | J129: =J128/(MAX($B$41:$B$127)*4)*100 -> 100 | K129: =K128/(MAX($B$41:$B$127)*4)*100 -> 100 | L129: =L128/(MAX($B$41:$B$127)*4)*100 -> 100 | M129: =M128/(MAX($B$41:$B$127)*4)*100 -> 100 | N129: =N128/(MAX($B$41:$B$127)*4)*100 -> 100 | O129: =O128/(MAX($B$41:$B$127)*4)*100 -> 100 | P129: =P128/(MAX($B$41:$B$127)*4*9)*100 -> 100
C130: Nilai SKM Per Unsur Layanan | G130: A | H130: A | I130: A | J130: A | K130: A | L130: A | M130: A | N130: A | O130: A | P130: A
G131: Sangat Baik | H131: Sangat Baik | I131: Sangat Baik | J131: Sangat Baik | K131: Sangat Baik | L131: Sangat Baik | M131: Sangat Baik | N131: Sangat Baik | O131: Sangat Baik | P131: Sangat Baik
P133: =P26 -> Trenggalek, 30 September 2026
E134: KEPALA PUSKESMAS TRENGGALEK | P134: Penanggung jawab
P135: =F7 -> Ruang Imunisasi atau Penyimpanan Vaksin
E139: dr. MURTI RUKIYANDARI | P139: DWIHAYU PRASTYANDARTI A.Md.Kep
E140: Pembina Utama Muida | P140: NIP. 198210202022212001
E141: NIP. 19800611 200903 2 004

Sheet 18
B2: LAPORAN SKM PUSKESMAS TRENGGALEK
B4: ="REKAPITULASI HASIL SKM PUSKESMAS TRENGGALEK BULAN "&UPPER(Home!C3) -> REKAPITULASI HASIL SKM PUSKESMAS TRENGGALEK BULAN SEPTEMBER 2026 | W4: =RIGHT(AB7,4)
L6: Unsur | R6: Unsur Responden | S6: Nilai Rata-Rata
B7: Nama Layanan | E7: : | F7: =Home!C22 -> Ruang SIP | K7: P 1 | L7: Kesesuaian persyaratan pelayanan dengan jenis pelayanannya | R7: =G128 -> 48 | S7: =G129&" %" -> 100 %
B8: Target Responden | E8: : | F8: =Home!AE22 -> 5
B9: Jumlah Responden | K9: P 2 | L9: Kemudahan prosedur pelayanan di unit ini | R9: =H128 -> 48 | S9: =H129&" %" -> 100 %
D10: L | E10: : | F10: =Home!AC22 -> 7 | K10: P 3 | L10: Kecepatan waktu dalam memberikan pelayanan | R10: =I128 -> 48 | S10: =I129&" %" -> 100 %
D11: P | E11: : | F11: =Home!AD22 -> 5
B12: Jumlah/Capaian | E12: : | F12: =SUM(F10:F11)&" ("&ROUND((F10+F11)/F8*100,2)&" %"&")" -> 12 (240 %) | K12: P 4 | L12: Kewajaran biaya/tarif dalam pelayanan | R12: =J128 -> 48 | S12: =J129&" %" -> 100 %
B13: Jumlah Nilai | E13: : | F13: =R23 -> 432 | K13: P 5 | L13: Kesesuaian produk pelayanan antara yang tercantum dalam standar pelayanan dengan hasil yang diberikan | R13: =K128 -> 48 | S13: =K129&" %" -> 100 %
B14: Skor Layanan | E14: : | F14: 100,00 (Sangat Baik)
B15: Nilai SKM | E15: : | F15: =Home!I22 -> 100
K16: P 6 | L16: Penanganan pengaduan pengguna layanan | R16: =L128 -> 48 | S16: =L129&" %" -> 100 %
K18: P 7 | L18: Kualitas sarana dan prasarana | R18: =M128 -> 48 | S18: =M129&" %" -> 100 %
K19: P 8 | L19: Perilaku petugas dalam pelayanan terkait kesopanan dan keramahan | R19: =N128 -> 48 | S19: =N129&" %" -> 100 %
K21: P 9 | L21: Kompetensi/kemampuan petugas dalam pelayanan | R21: =O128 -> 48 | S21: =O129&" %" -> 100 %
R23: =P128 -> 432 | S23: =P129&" %" -> 100 %
P26: =Home!$F$25 -> Trenggalek, 30 September 2026
E27: KEPALA PUSKESMAS TRENGGALEK | P27: Penanggung Jawab
P28: =F7 -> Ruang SIP
E32: dr. MURTI RUKIYANDARI | P32: xxx
E33: Pembina Utama Muida | P33: NIP.
E34: NIP. 19800611 200903 2 004
B37: Rincian
B39: NO. | C39: Tanggal | D39: NAMA | E39: LAYANAN | G39: P 1 | H39: P 2 | I39: P 3 | J39: P 4 | K39: P 5 | L39: P 6 | M39: P 7 | N39: P 8 | O39: P 9 | P39: SKOR | R39: Kritik dan Saran
B40: 1 | C40: 2 | D40: 3 | E40: 4 | G40: 5 | H40: 6 | I40: 7 | J40: 8 | K40: 9 | L40: 10 | M40: 11 | N40: 12 | O40: 13 | P40: 14 | R40: 15
B41: 1 | C41: 46266 | D41: Anonymous | E41: Ruang SIP | G41: 4 | H41: 4 | I41: 4 | J41: 4 | K41: 4 | L41: 4 | M41: 4 | N41: 4 | O41: 4 | P41: 100 | Q41: (A) | R41: - | Z41: -
B42: 2 | C42: 46266 | D42: Anonymous | E42: Ruang SIP | G42: 4 | H42: 4 | I42: 4 | J42: 4 | K42: 4 | L42: 4 | M42: 4 | N42: 4 | O42: 4 | P42: 100 | Q42: (A) | R42: - | Z42: -
B43: 3 | C43: 46268 | D43: Anonymous | E43: Ruang SIP | G43: 4 | H43: 4 | I43: 4 | J43: 4 | K43: 4 | L43: 4 | M43: 4 | N43: 4 | O43: 4 | P43: 100 | Q43: (A) | R43: - | Z43: -
B44: 4 | C44: 46268 | D44: Anonymous | E44: Ruang SIP | G44: 4 | H44: 4 | I44: 4 | J44: 4 | K44: 4 | L44: 4 | M44: 4 | N44: 4 | O44: 4 | P44: 100 | Q44: (A) | R44: - | Z44: -
B45: 5 | C45: 46274 | D45: Anonymous | E45: Ruang SIP | G45: 4 | H45: 4 | I45: 4 | J45: 4 | K45: 4 | L45: 4 | M45: 4 | N45: 4 | O45: 4 | P45: 100 | Q45: (A) | R45: - | Z45: -
B46: 6 | C46: 46274 | D46: Anonymous | E46: Ruang SIP | G46: 4 | H46: 4 | I46: 4 | J46: 4 | K46: 4 | L46: 4 | M46: 4 | N46: 4 | O46: 4 | P46: 100 | Q46: (A) | R46: - | Z46: Baik ramah
B47: 7 | C47: 46279 | D47: Anonymous | E47: Ruang SIP | G47: 4 | H47: 4 | I47: 4 | J47: 4 | K47: 4 | L47: 4 | M47: 4 | N47: 4 | O47: 4 | P47: 100 | Q47: (A) | R47: - | Z47: pelayanan baik cepat ramah
B48: 8 | C48: 46279 | D48: Anonymous | E48: Ruang SIP | G48: 4 | H48: 4 | I48: 4 | J48: 4 | K48: 4 | L48: 4 | M48: 4 | N48: 4 | O48: 4 | P48: 100 | Q48: (A) | R48: - | Z48: pelayanan ramah dan cepat
B49: 9 | C49: 46280 | D49: Anonymous | E49: Ruang SIP | G49: 4 | H49: 4 | I49: 4 | J49: 4 | K49: 4 | L49: 4 | M49: 4 | N49: 4 | O49: 4 | P49: 100 | Q49: (A) | R49: - | Z49: -
B50: 10 | C50: 46289 | D50: Anonymous | E50: Ruang SIP | G50: 4 | H50: 4 | I50: 4 | J50: 4 | K50: 4 | L50: 4 | M50: 4 | N50: 4 | O50: 4 | P50: 100 | Q50: (A) | R50: - | Z50: -
B51: 11 | C51: 46290 | D51: Anonymous | E51: Ruang SIP | G51: 4 | H51: 4 | I51: 4 | J51: 4 | K51: 4 | L51: 4 | M51: 4 | N51: 4 | O51: 4 | P51: 100 | Q51: (A) | R51: - | Z51: -
B52: 12 | C52: 46293 | D52: Anonymous | E52: Ruang SIP | G52: 4 | H52: 4 | I52: 4 | J52: 4 | K52: 4 | L52: 4 | M52: 4 | N52: 4 | O52: 4 | P52: 100 | Q52: (A) | R52: -
B58: =IF(C58="","",SUBTOTAL(3,C$41:$C58))
B59: =IF(C59="","",SUBTOTAL(3,C$41:$C59))
B60: =IF(C60="","",SUBTOTAL(3,C$41:$C60))
B61: =IF(C61="","",SUBTOTAL(3,C$41:$C61))
B62: =IF(C62="","",SUBTOTAL(3,C$41:$C62))
B63: =IF(C63="","",SUBTOTAL(3,C$41:$C63))
B64: =IF(C64="","",SUBTOTAL(3,C$41:$C64))
B65: =IF(C65="","",SUBTOTAL(3,C$41:$C65))
B66: =IF(C66="","",SUBTOTAL(3,C$41:$C66))
B67: =IF(C67="","",SUBTOTAL(3,C$41:$C67))
B68: =IF(C68="","",SUBTOTAL(3,C$41:$C68))
B69: =IF(C69="","",SUBTOTAL(3,C$41:$C69))
... B127: =IF(C127="","",SUBTOTAL(3,C$41:$C127))
C128: Jumlah Nilai Per Unsur Layanan | G128: =SUBTOTAL(9,G41:G127) -> 48 | H128: =SUBTOTAL(9,H41:H127) -> 48 | I128: =SUBTOTAL(9,I41:I127) -> 48 | J128: =SUBTOTAL(9,J41:J127) -> 48 | K128: =SUBTOTAL(9,K41:K127) -> 48 | L128: =SUBTOTAL(9,L41:L127) -> 48 | M128: =SUBTOTAL(9,M41:M127) -> 48 | N128: =SUBTOTAL(9,N41:N127) -> 48 | O128: =SUBTOTAL(9,O41:O127) -> 48 | P128: =SUM(G128:O128) -> 432
G129: =G128/(MAX($B$41:$B$127)*4)*100 -> 100 | H129: =H128/(MAX($B$41:$B$127)*4)*100 -> 100 | I129: =I128/(MAX($B$41:$B$127)*4)*100 -> 100 | J129: =J128/(MAX($B$41:$B$127)*4)*100 -> 100 | K129: =K128/(MAX($B$41:$B$127)*4)*100 -> 100 | L129: =L128/(MAX($B$41:$B$127)*4)*100 -> 100 | M129: =M128/(MAX($B$41:$B$127)*4)*100 -> 100 | N129: =N128/(MAX($B$41:$B$127)*4)*100 -> 100 | O129: =O128/(MAX($B$41:$B$127)*4)*100 -> 100 | P129: =P128/(MAX($B$41:$B$127)*4*9)*100 -> 100
C130: Nilai SKM Per Unsur Layanan | G130: A | H130: A | I130: A | J130: A | K130: A | L130: A | M130: A | N130: A | O130: A | P130: A
G131: Sangat Baik | H131: Sangat Baik | I131: Sangat Baik | J131: Sangat Baik | K131: Sangat Baik | L131: Sangat Baik | M131: Sangat Baik | N131: Sangat Baik | O131: Sangat Baik | P131: Sangat Baik
P133: =P26 -> Trenggalek, 30 September 2026
E134: KEPALA PUSKESMAS TRENGGALEK | P134: Penanggung jawab
P135: =F7 -> Ruang SIP
E139: dr. MURTI RUKIYANDARI | P139: xxx
E140: Pembina Utama Muida | P140: NIP.
E141: NIP. 19800611 200903 2 004
