Workbook
Name b: '[1]ICD-X'!$C$3:$D$639
Name CONVERSI: #REF!
Name CONVERSIFULL: #REF!
Name DX_LAMA: #REF!
Name ICDX: #REF!
Name ICDXFULL: #REF!
Name NO_CODEOBAT: #REF!

Sheet Home
B2: SKM UNIT LAYANAN | AI2: 20 | AJ2: 47 | AK2: 25 | AL2: 21 | AM2: 48 | AN2: 1 | AO2: 58 | AP2: 46 | AQ2: 4 | AR2: 11 | AS2: 34 | AT2: 7 | AU2: 16 | AV2: 9 | AW2: 39 | AX2: 10 | AY2: 14 | AZ2: 5 | BA2: =SUM(AI2:AZ2) -> 415
B3: Bulan | C3: September 2026 | BA3: =SUM(AI3:AZ3) -> 0
B4: No. | C4: Nama Layanan | D4: Target Responden SKM | E4: Capaian Bulan Juli | F4: % | G4: Nilai Capaian | H4: Skor Layanan | I4: Nilai SKM | J4: Link | AC4: L | AD4: P | AE4: ∑ | BA4: =SUM(AI4:AZ4) -> 0
B5: 1 | C5: Ruang Tindakan | D5: 20 | E5: 30 | F5: =E5/D5 -> 1.5 | G5: 100 | H5: 100 ( Sangat Baik ) | I5: 100 | J5: 1 | AB5: 1 | AC5: 16 | AD5: 14 | AE5: =D5 -> 20 | AU5: ∑ | BA5: =SUM(AI5:AZ5) -> 0
B6: 2 | C6: Ruang Pemeriksaan Umum | D6: 47 | E6: 51 | F6: =E6/D6 -> 1.0851064 | G6: 100 | H6: 100 ( Sangat Baik ) | I6: 100 | J6: 1 | AB6: 2 | AC6: 27 | AD6: 24 | AE6: =D6 -> 47 | BA6: =SUM(AI6:AZ6) -> 0
B7: 3 | C7: Ruang Pemeriksaan Gigi dan Mulut | D7: 25 | E7: 36 | F7: =E7/D7 -> 1.44 | G7: 100 | H7: 100 ( Sangat Baik ) | I7: 100 | J7: 1 | AB7: 3 | AC7: 19 | AD7: 17 | AE7: =D7 -> 25 | AU7: L | BA7: =SUM(AI7:AZ7) -> 0
B8: 4 | C8: Ruang Pemeriksaan KIA | D8: 21 | E8: 17 | F8: =E8/D8 -> 0.80952381 | G8: 60 | H8: 98.69 ( Sangat Baik ) | I8: =(G8+98.69)/2 -> 79.345 | J8: 1 | AB8: 4 | AC8: 9 | AD8: 8 | AE8: =D8 -> 21 | AU8: P | BA8: =SUM(AI8:AZ8) -> 0
B9: 5 | C9: Ruang Farmasi dan Gudang Obat | D9: 48 | E9: 39 | F9: =E9/D9 -> 0.8125 | G9: 60 | H9: 100 ( Sangat Baik ) | I9: =(G9+100)/2 -> 80 | J9: 1 | AB9: 5 | AC9: 21 | AD9: 18 | AE9: =D9 -> 48
B10: 6 | C10: Ruang Persalinan | D10: 1 | E10: 1 | F10: =E10/D10 -> 1 | G10: 100 | H10: 100 ( Sangat Baik ) | I10: 100 | J10: 1 | AB10: 6 | AC10: 1 | AD10: 0 | AE10: =D10 -> 1
B11: 7 | C11: Kasir | D11: 58 | E11: 64 | F11: =E11/D11 -> 1.1034483 | G11: 100 | H11: 100 ( Sangat Baik ) | I11: 100 | J11: 1 | AB11: 7 | AC11: 35 | AD11: 29 | AE11: =D11 -> 58
B12: 8 | C12: Ruang Pemeriksaan Lansia | D12: 46 | E12: 60 | F12: =E12/D12 -> 1.3043478 | G12: 100 | H12: 100 ( Sangat Baik ) | I12: 100 | J12: 1 | AB12: 8 | AC12: 32 | AD12: 28 | AE12: =D12 -> 46
B13: 9 | C13: Ruang Tata Usaha, Keuangan dan Kepegawaian | D13: 4 | E13: 26 | F13: =E13/D13 -> 6.5 | G13: 100 | H13: 100 ( Sangat Baik ) | I13: 100 | J13: 1 | AB13: 9 | AC13: 14 | AD13: 12 | AE13: =D13 -> 4
B14: 10 | C14: Ruang KB dan Kespro | D14: 11 | E14: 8 | F14: =E14/D14 -> 0.72727273 | G14: 60 | H14: 100 ( Sangat Baik ) | I14: =(G14+100)/2 -> 80 | J14: 1 | AB14: 10 | AC14: 5 | AD14: 3 | AE14: =D14 -> 11
B15: 11 | C15: Ruang MTBS | D15: 34 | E15: 31 | F15: =E15/D15 -> 0.91176471 | G15: 100 | H15: 100 ( Sangat Baik ) | I15: 100 | J15: 1 | AB15: 11 | AC15: 17 | AD15: 14 | AE15: =D15 -> 34
B16: 12 | C16: Ruang Poli Khusus | D16: 7 | E16: 12 | F16: =E16/D16 -> 1.7142857 | G16: 100 | H16: 100 ( Sangat Baik ) | I16: 100 | J16: 1 | AB16: 12 | AC16: 6 | AD16: 6 | AE16: =D16 -> 7
B17: 13 | C17: Ruang Gizi | D17: 16 | E17: 19 | F17: =E17/D17 -> 1.1875 | G17: 100 | H17: 100 ( Sangat Baik ) | I17: 100 | J17: 1 | AB17: 13 | AC17: 10 | AD17: 9 | AE17: =D17 -> 16
B18: 14 | C18: Ruang Kesehatan Lingkungan | D18: 9 | E18: 15 | F18: =E18/D18 -> 1.6666667 | G18: 100 | H18: 100 ( Sangat Baik ) | I18: 100 | J18: 1 | AB18: 14 | AC18: 8 | AD18: 7 | AE18: =D18 -> 9
B19: 15 | C19: Ruang Laboratorium | D19: 39 | E19: 50 | F19: =E19/D19 -> 1.2820513 | G19: 100 | H19: 100 ( Sangat Baik ) | I19: 100 | J19: 1 | AB19: 15 | AC19: 27 | AD19: 23 | AE19: =D19 -> 39
B20: 16 | C20: Ruang Promosi Kesehatan | D20: 10 | E20: 12 | F20: =E20/D20 -> 1.2 | G20: 100 | H20: 100 ( Sangat Baik ) | I20: 100 | J20: 1 | AB20: 16 | AC20: 7 | AD20: 5 | AE20: =D20 -> 10
B21: 17 | C21: Ruang Imunisasi atau Penyimpanan Vaksin | D21: 14 | E21: 16 | F21: =E21/D21 -> 1.1428571 | G21: 100 | H21: 100 ( Sangat Baik ) | I21: 100 | J21: 1 | AB21: 17 | AC21: 9 | AD21: 7 | AE21: =D21 -> 14
B22: 18 | C22: Ruang SIP | D22: 5 | E22: 12 | F22: =E22/D22 -> 2.4 | G22: 100 | H22: 100 ( Sangat Baik ) | I22: 100 | J22: 1 | AB22: 18 | AC22: 7 | AD22: 5 | AE22: =D22 -> 5
D23: =SUM(D5:D22) -> 415 | E23: =SUM(E5:E22) -> 499 | F23: =E23/D23 -> 1.2024096 | G23: 100
F25: ="Trenggalek, 30 "&C3 -> Trenggalek, 30 September 2026
B26: Ketrangan
C27: 1. Capaian target kurang 60% Nilai 40
C28: 2. Capaian target 60% s/d 87,5 Nilai 60
C29: 3. Capaian target diatas 87,5 Nilai 100

Sheet 1
B2: LAPORAN SKM PUSKESMAS TRENGGALEK
B4: ="REKAPITULASI HASIL SKM PUSKESMAS TRENGGALEK BULAN "&UPPER(Home!C3) -> REKAPITULASI HASIL SKM PUSKESMAS TRENGGALEK BULAN SEPTEMBER 2026 | W4: =RIGHT(AB7,4)
L6: Unsur | R6: Unsur Responden | S6: Nilai Rata-Rata
B7: Nama Layanan | E7: : | F7: =Home!C5 -> Ruang Tindakan | K7: P 1 | L7: Kesesuaian persyaratan pelayanan dengan jenis pelayanannya | R7: =G128 -> 120 | S7: =G129&" %" -> 100 %
B8: Target Responden | E8: : | F8: =Home!AE5 -> 20
B9: Jumlah Responden | K9: P 2 | L9: Kemudahan prosedur pelayanan di unit ini | R9: =H128 -> 120 | S9: =H129&" %" -> 100 %
D10: L | E10: : | F10: =Home!AC5 -> 16 | K10: P 3 | L10: Kecepatan waktu dalam memberikan pelayanan | R10: =I128 -> 120 | S10: =I129&" %" -> 100 %
D11: P | E11: : | F11: =Home!AD5 -> 14
B12: Jumlah/Capaian | E12: : | F12: =SUM(F10:F11)&" ("&ROUND((F10+F11)/F8*100,2)&" %"&")" -> 30 (150 %) | K12: P 4 | L12: Kewajaran biaya/tarif dalam pelayanan | R12: =J128 -> 120 | S12: =J129&" %" -> 100 %
B13: Jumlah Nilai | E13: : | F13: =R23 -> 1080 | K13: P 5 | L13: Kesesuaian produk pelayanan antara yang tercantum dalam standar pelayanan dengan hasil yang diberikan | R13: =K128 -> 120 | S13: =K129&" %" -> 100 %
B14: Skor Layanan | E14: : | F14: 100,00 (Sangat Baik)
B15: Nilai SKM | E15: : | F15: =Home!I5 -> 100
K16: P 6 | L16: Penanganan pengaduan pengguna layanan | R16: =L128 -> 120 | S16: =L129&" %" -> 100 %
K18: P 7 | L18: Kualitas sarana dan prasarana | R18: =M128 -> 120 | S18: =M129&" %" -> 100 %
K19: P 8 | L19: Perilaku petugas dalam pelayanan terkait kesopanan dan keramahan | R19: =N128 -> 120 | S19: =N129&" %" -> 100 %
K21: P 9 | L21: Kompetensi/kemampuan petugas dalam pelayanan | R21: =O128 -> 120 | S21: =O129&" %" -> 100 %
R23: =P128 -> 1080 | S23: =P129&" %" -> 100 %
P26: =Home!$F$25 -> Trenggalek, 30 September 2026
E27: KEPALA PUSKESMAS TRENGGALEK | P27: Penanggung Jawab
P28: =F7 -> Ruang Tindakan
E32: dr. MURTI RUKIYANDARI | P32: xxx
E33: Pembina Utama Muida | P33: NIP.
E34: NIP. 19800611 200903 2 004
B37: Rincian
B39: NO. | C39: Tanggal | D39: NAMA | E39: LAYANAN | G39: P 1 | H39: P 2 | I39: P 3 | J39: P 4 | K39: P 5 | L39: P 6 | M39: P 7 | N39: P 8 | O39: P 9 | P39: SKOR | R39: Kritik dan Saran
B40: 1 | C40: 2 | D40: 3 | E40: 4 | G40: 5 | H40: 6 | I40: 7 | J40: 8 | K40: 9 | L40: 10 | M40: 11 | N40: 12 | O40: 13 | P40: 14 | R40: 15
B41: 1 | C41: 46268 | D41: Anonymous | E41: Ruang Tindakan | G41: 4 | H41: 4 | I41: 4 | J41: 4 | K41: 4 | L41: 4 | M41: 4 | N41: 4 | O41: 4 | P41: 100 | Q41: (A) | R41: baik bgt
B42: 2 | C42: 46272 | D42: Anonymous | E42: Ruang Tindakan | G42: 4 | H42: 4 | I42: 4 | J42: 4 | K42: 4 | L42: 4 | M42: 4 | N42: 4 | O42: 4 | P42: 100 | Q42: (A) | R42: -
B43: 3 | C43: 46276 | D43: Anonymous | E43: Ruang Tindakan | G43: 4 | H43: 4 | I43: 4 | J43: 4 | K43: 4 | L43: 4 | M43: 4 | N43: 4 | O43: 4 | P43: 100 | Q43: (A) | R43: -
B44: 4 | C44: 46279 | D44: Anonymous | E44: Ruang Tindakan | G44: 4 | H44: 4 | I44: 4 | J44: 4 | K44: 4 | L44: 4 | M44: 4 | N44: 4 | O44: 4 | P44: 100 | Q44: (A) | R44: -
B45: 5 | C45: 46279 | D45: Anonymous | E45: Ruang Tindakan | G45: 4 | H45: 4 | I45: 4 | J45: 4 | K45: 4 | L45: 4 | M45: 4 | N45: 4 | O45: 4 | P45: 100 | Q45: (A) | R45: -
B46: 6 | C46: 46279 | D46: Anonymous | E46: Ruang Tindakan | G46: 4 | H46: 4 | I46: 4 | J46: 4 | K46: 4 | L46: 4 | M46: 4 | N46: 4 | O46: 4 | P46: 100 | Q46: (A) | R46: -
B47: 7 | C47: 46279 | D47: Anonymous | E47: Ruang Tindakan | G47: 4 | H47: 4 | I47: 4 | J47: 4 | K47: 4 | L47: 4 | M47: 4 | N47: 4 | O47: 4 | P47: 100 | Q47: (A) | R47: -
B48: 8 | C48: 46281 | D48: Anonymous | E48: Ruang Tindakan | G48: 4 | H48: 4 | I48: 4 | J48: 4 | K48: 4 | L48: 4 | M48: 4 | N48: 4 | O48: 4 | P48: 100 | Q48: (A) | R48: -
B49: 9 | C49: 46281 | D49: Anonymous | E49: Ruang Tindakan | G49: 4 | H49: 4 | I49: 4 | J49: 4 | K49: 4 | L49: 4 | M49: 4 | N49: 4 | O49: 4 | P49: 100 | Q49: (A) | R49: -
B50: 10 | C50: 46281 | D50: Anonymous | E50: Ruang Tindakan | G50: 4 | H50: 4 | I50: 4 | J50: 4 | K50: 4 | L50: 4 | M50: 4 | N50: 4 | O50: 4 | P50: 100 | Q50: (A) | R50: -
B51: 11 | C51: 46281 | D51: Anonymous | E51: Ruang Tindakan | G51: 4 | H51: 4 | I51: 4 | J51: 4 | K51: 4 | L51: 4 | M51: 4 | N51: 4 | O51: 4 | P51: 100 | Q51: (A) | R51: -
B52: 12 | C52: 46282 | D52: Anonymous | E52: Ruang Tindakan | G52: 4 | H52: 4 | I52: 4 | J52: 4 | K52: 4 | L52: 4 | M52: 4 | N52: 4 | O52: 4 | P52: 100 | Q52: (A) | R52: -
... B69: 29 | C69: 46295 | D69: Anonymous | E69: Ruang Tindakan | G69: 4 | H69: 4 | I69: 4 | J69: 4 | K69: 4 | L69: 4 | M69: 4 | N69: 4 | O69: 4 | P69: 100 | Q69: (A) | R69: -
B70: =IF(C70="","",SUBTOTAL(3,C$41:$C70)) -> 30 | C70: 46295 | D70: Anonymous | E70: Ruang Tindakan | G70: 4 | H70: 4 | I70: 4 | J70: 4 | K70: 4 | L70: 4 | M70: 4 | N70: 4 | O70: 4 | P70: 100 | Q70: (A) | R70: -
...

Sheet 2
B2: LAPORAN SKM PUSKESMAS TRENGGALEK
B4: ="REKAPITULASI HASIL SKM PUSKESMAS TRENGGALEK BULAN "&UPPER(Home!C3) -> REKAPITULASI HASIL SKM PUSKESMAS TRENGGALEK BULAN SEPTEMBER 2026 | W4: =RIGHT(AB7,4)
L6: Unsur | R6: Unsur Responden | S6: Nilai Rata-Rata
B7: Nama Layanan | E7: : | F7: =Home!C6 -> Ruang Pemeriksaan Umum | K7: P 1 | L7: Kesesuaian persyaratan pelayanan dengan jenis pelayanannya | R7: =G128 -> 204 | S7: =G129&" %" -> 100 %
B8: Target Responden | E8: : | F8: =Home!AE6 -> 47
B9: Jumlah Responden | K9: P 2 | L9: Kemudahan prosedur pelayanan di unit ini | R9: =H128 -> 204 | S9: =H129&" %" -> 100 %
D10: L | E10: : | F10: =Home!AC6 -> 27 | K10: P 3 | L10: Kecepatan waktu dalam memberikan pelayanan | R10: =I128 -> 204 | S10: =I129&" %" -> 100 %
D11: P | E11: : | F11: =Home!AD6 -> 24
B12: Jumlah/Capaian | E12: : | F12: =SUM(F10:F11)&" ("&ROUND((F10+F11)/F8*100,2)&" %"&")" -> 51 (108.51 %) | K12: P 4 | L12: Kewajaran biaya/tarif dalam pelayanan | R12: =J128 -> 204 | S12: =J129&" %" -> 100 %
B13: Jumlah Nilai | E13: : | F13: =R23 -> 1836 | K13: P 5 | L13: Kesesuaian produk pelayanan antara yang tercantum dalam standar pelayanan dengan hasil yang diberikan | R13: =K128 -> 204 | S13: =K129&" %" -> 100 %
B14: Skor Layanan | E14: : | F14: 100,00 (Sangat Baik)
B15: Nilai SKM | E15: : | F15: =Home!I6 -> 100
K16: P 6 | L16: Penanganan pengaduan pengguna layanan | R16: =L128 -> 204 | S16: =L129&" %" -> 100 %
K18: P 7 | L18: Kualitas sarana dan prasarana | R18: =M128 -> 204 | S18: =M129&" %" -> 100 %
K19: P 8 | L19: Perilaku petugas dalam pelayanan terkait kesopanan dan keramahan | R19: =N128 -> 204 | S19: =N129&" %" -> 100 %
K21: P 9 | L21: Kompetensi/kemampuan petugas dalam pelayanan | R21: =O128 -> 204 | S21: =O129&" %" -> 100 %
R23: =P128 -> 1836 | S23: =P129&" %" -> 100 %
P26: =Home!$F$25 -> Trenggalek, 30 September 2026
E27: KEPALA PUSKESMAS TRENGGALEK | P27: Penanggung jawab Ruangan
E32: dr. MURTI RUKIYANDARI | P32: xxx
E33: Pembina Utama Muida | P33: NIP.
E34: NIP. 19800611 200903 2 004
B37: Rincian
B39: NO. | C39: Tanggal | D39: NAMA | E39: LAYANAN | G39: P 1 | H39: P 2 | I39: P 3 | J39: P 4 | K39: P 5 | L39: P 6 | M39: P 7 | N39: P 8 | O39: P 9 | P39: SKOR | R39: Kritik dan Saran
B40: 1 | C40: 2 | D40: 3 | E40: 4 | G40: 5 | H40: 6 | I40: 7 | J40: 8 | K40: 9 | L40: 10 | M40: 11 | N40: 12 | O40: 13 | P40: 14 | R40: 15
B41: 1 | C41: 46266 | D41: Anonymous | E41: Ruang Pemeriksaan Umum | G41: 4 | H41: 4 | I41: 4 | J41: 4 | K41: 4 | L41: 4 | M41: 4 | N41: 4 | O41: 4 | P41: 100 | Q41: (A) | R41: -
B42: 2 | C42: 46266 | D42: Anonymous | E42: Ruang Pemeriksaan Umum | G42: 4 | H42: 4 | I42: 4 | J42: 4 | K42: 4 | L42: 4 | M42: 4 | N42: 4 | O42: 4 | P42: 100 | Q42: (A) | R42: -
B43: 3 | C43: 46267 | D43: Anonymous | E43: Ruang Pemeriksaan Umum | G43: 4 | H43: 4 | I43: 4 | J43: 4 | K43: 4 | L43: 4 | M43: 4 | N43: 4 | O43: 4 | P43: 100 | Q43: (A) | R43: -
B44: 4 | C44: 46267 | D44: Anonymous | E44: Ruang Pemeriksaan Umum | G44: 4 | H44: 4 | I44: 4 | J44: 4 | K44: 4 | L44: 4 | M44: 4 | N44: 4 | O44: 4 | P44: 100 | Q44: (A) | R44: -
B45: 5 | C45: 46268 | D45: Anonymous | E45: Ruang Pemeriksaan Umum | G45: 4 | H45: 4 | I45: 4 | J45: 4 | K45: 4 | L45: 4 | M45: 4 | N45: 4 | O45: 4 | P45: 100 | Q45: (A) | R45: -
B46: 6 | C46: 46268 | D46: Anonymous | E46: Ruang Pemeriksaan Umum | G46: 4 | H46: 4 | I46: 4 | J46: 4 | K46: 4 | L46: 4 | M46: 4 | N46: 4 | O46: 4 | P46: 100 | Q46: (A) | R46: -
B47: 7 | C47: 46269 | D47: Anonymous | E47: Ruang Pemeriksaan Umum | G47: 4 | H47: 4 | I47: 4 | J47: 4 | K47: 4 | L47: 4 | M47: 4 | N47: 4 | O47: 4 | P47: 100 | Q47: (A) | R47: -
B48: 8 | C48: 46269 | D48: Anonymous | E48: Ruang Pemeriksaan Umum | G48: 4 | H48: 4 | I48: 4 | J48: 4 | K48: 4 | L48: 4 | M48: 4 | N48: 4 | O48: 4 | P48: 100 | Q48: (A) | R48: -
B49: 9 | C49: 46269 | D49: Anonymous | E49: Ruang Pemeriksaan Umum | G49: 4 | H49: 4 | I49: 4 | J49: 4 | K49: 4 | L49: 4 | M49: 4 | N49: 4 | O49: 4 | P49: 100 | Q49: (A) | R49: -
B50: 10 | C50: 46271 | D50: Anonymous | E50: Ruang Pemeriksaan Umum | G50: 4 | H50: 4 | I50: 4 | J50: 4 | K50: 4 | L50: 4 | M50: 4 | N50: 4 | O50: 4 | P50: 100 | Q50: (A) | R50: -
B51: 11 | C51: 46271 | D51: Anonymous | E51: Ruang Pemeriksaan Umum | G51: 4 | H51: 4 | I51: 4 | J51: 4 | K51: 4 | L51: 4 | M51: 4 | N51: 4 | O51: 4 | P51: 100 | Q51: (A) | R51: -
B52: 12 | C52: 46271 | D52: Anonymous | E52: Ruang Pemeriksaan Umum | G52: 4 | H52: 4 | I52: 4 | J52: 4 | K52: 4 | L52: 4 | M52: 4 | N52: 4 | O52: 4 | P52: 100 | Q52: (A) | R52: -
... B86: 46 | C86: 46289 | D86: Anonymous | E86: Ruang Pemeriksaan Umum | G86: 4 | H86: 4 | I86: 4 | J86: 4 | K86: 4 | L86: 4 | M86: 4 | N86: 4 | O86: 4 | P86: 100 | Q86: (A) | R86: -
B87: =IF(C87="","",SUBTOTAL(3,C$41:$C87)) -> 47 | C87: 46289 | D87: Anonymous | E87: Ruang Pemeriksaan Umum | G87: 4 | H87: 4 | I87: 4 | J87: 4 | K87: 4 | L87: 4 | M87: 4 | N87: 4 | O87: 4 | P87: 100 | Q87: (A) | R87: -
B88: =IF(C88="","",SUBTOTAL(3,C$41:$C88)) -> 48 | C88: 46290 | D88: Anonymous | E88: Ruang Pemeriksaan Umum | G88: 4 | H88: 4 | I88: 4 | J88: 4 | K88: 4 | L88: 4 | M88: 4 | N88: 4 | O88: 4 | P88: 100 | Q88: (A) | R88: -
...

Sheet 3
B2: LAPORAN SKM PUSKESMAS TRENGGALEK
B4: ="REKAPITULASI HASIL SKM PUSKESMAS TRENGGALEK BULAN "&UPPER(Home!C3) -> REKAPITULASI HASIL SKM PUSKESMAS TRENGGALEK BULAN SEPTEMBER 2026 | W4: =RIGHT(AB7,4)
L6: Unsur | R6: Unsur Responden | S6: Nilai Rata-Rata
B7: Nama Layanan | E7: : | F7: =Home!C7 -> Ruang Pemeriksaan Gigi dan Mulut | K7: P 1 | L7: Kesesuaian persyaratan pelayanan dengan jenis pelayanannya | R7: =G128 -> 144 | S7: =G129&" %" -> 100 %
B8: Target Responden | E8: : | F8: =Home!AE7 -> 25
B9: Jumlah Responden | K9: P 2 | L9: Kemudahan prosedur pelayanan di unit ini | R9: =H128 -> 144 | S9: =H129&" %" -> 100 %
D10: L | E10: : | F10: =Home!AC7 -> 19 | K10: P 3 | L10: Kecepatan waktu dalam memberikan pelayanan | R10: =I128 -> 144 | S10: =I129&" %" -> 100 %
D11: P | E11: : | F11: =Home!AD7 -> 17
B12: Jumlah/Capaian | E12: : | F12: =SUM(F10:F11)&" ("&ROUND((F10+F11)/F8*100,2)&" %"&")" -> 36 (144 %) | K12: P 4 | L12: Kewajaran biaya/tarif dalam pelayanan | R12: =J128 -> 144 | S12: =J129&" %" -> 100 %
B13: Jumlah Nilai | E13: : | F13: =R23 -> 1296 | K13: P 5 | L13: Kesesuaian produk pelayanan antara yang tercantum dalam standar pelayanan dengan hasil yang diberikan | R13: =K128 -> 144 | S13: =K129&" %" -> 100 %
B14: Skor Layanan | E14: : | F14: 100,00 (Sangat Baik)
B15: Nilai SKM | E15: : | F15: =Home!I7 -> 100
K16: P 6 | L16: Penanganan pengaduan pengguna layanan | R16: =L128 -> 144 | S16: =L129&" %" -> 100 %
K18: P 7 | L18: Kualitas sarana dan prasarana | R18: =M128 -> 144 | S18: =M129&" %" -> 100 %
K19: P 8 | L19: Perilaku petugas dalam pelayanan terkait kesopanan dan keramahan | R19: =N128 -> 144 | S19: =N129&" %" -> 100 %
K21: P 9 | L21: Kompetensi/kemampuan petugas dalam pelayanan | R21: =O128 -> 144 | S21: =O129&" %" -> 100 %
R23: =P128 -> 1296 | S23: =P129&" %" -> 100 %
P26: =Home!$F$25 -> Trenggalek, 30 September 2026
E27: KEPALA PUSKESMAS TRENGGALEK | P27: Penanggung jawab Ruangan
E32: dr. MURTI RUKIYANDARI | P32: xxx
E33: Pembina Utama Muida | P33: NIP.
E34: NIP. 19800611 200903 2 004
B37: Rincian
B39: NO. | C39: Tanggal | D39: NAMA | E39: LAYANAN | G39: P 1 | H39: P 2 | I39: P 3 | J39: P 4 | K39: P 5 | L39: P 6 | M39: P 7 | N39: P 8 | O39: P 9 | P39: SKOR | R39: Kritik dan Saran
B40: 1 | C40: 2 | D40: 3 | E40: 4 | G40: 5 | H40: 6 | I40: 7 | J40: 8 | K40: 9 | L40: 10 | M40: 11 | N40: 12 | O40: 13 | P40: 14 | R40: 15
B41: 1 | C41: 46266 | D41: Anonymous | E41: Ruang Pemeriksaan Gigi dan Mulut | G41: 4 | H41: 4 | I41: 4 | J41: 4 | K41: 4 | L41: 4 | M41: 4 | N41: 4 | O41: 4 | P41: 100 | Q41: (A) | R41: Memuaskan
B42: 2 | C42: 46267 | D42: Anonymous | E42: Ruang Pemeriksaan Gigi dan Mulut | G42: 4 | H42: 4 | I42: 4 | J42: 4 | K42: 4 | L42: 4 | M42: 4 | N42: 4 | O42: 4 | P42: 100 | Q42: (A) | R42: -
B43: 3 | C43: 46267 | D43: Anonymous | E43: Ruang Pemeriksaan Gigi dan Mulut | G43: 4 | H43: 4 | I43: 4 | J43: 4 | K43: 4 | L43: 4 | M43: 4 | N43: 4 | O43: 4 | P43: 100 | Q43: (A) | R43: -
B44: 4 | C44: 46267 | D44: Anonymous | E44: Ruang Pemeriksaan Gigi dan Mulut | G44: 4 | H44: 4 | I44: 4 | J44: 4 | K44: 4 | L44: 4 | M44: 4 | N44: 4 | O44: 4 | P44: 100 | Q44: (A) | R44: -
B45: 5 | C45: 46267 | D45: Anonymous | E45: Ruang Pemeriksaan Gigi dan Mulut | G45: 4 | H45: 4 | I45: 4 | J45: 4 | K45: 4 | L45: 4 | M45: 4 | N45: 4 | O45: 4 | P45: 100 | Q45: (A) | R45: -
B46: 6 | C46: 46267 | D46: Anonymous | E46: Ruang Pemeriksaan Gigi dan Mulut | G46: 4 | H46: 4 | I46: 4 | J46: 4 | K46: 4 | L46: 4 | M46: 4 | N46: 4 | O46: 4 | P46: 100 | Q46: (A) | R46: -
B47: 7 | C47: 46267 | D47: Anonymous | E47: Ruang Pemeriksaan Gigi dan Mulut | G47: 4 | H47: 4 | I47: 4 | J47: 4 | K47: 4 | L47: 4 | M47: 4 | N47: 4 | O47: 4 | P47: 100 | Q47: (A) | R47: -
B48: 8 | C48: 46267 | D48: Anonymous | E48: Ruang Pemeriksaan Gigi dan Mulut | G48: 4 | H48: 4 | I48: 4 | J48: 4 | K48: 4 | L48: 4 | M48: 4 | N48: 4 | O48: 4 | P48: 100 | Q48: (A) | R48: -
B49: 9 | C49: 46267 | D49: Anonymous | E49: Ruang Pemeriksaan Gigi dan Mulut | G49: 4 | H49: 4 | I49: 4 | J49: 4 | K49: 4 | L49: 4 | M49: 4 | N49: 4 | O49: 4 | P49: 100 | Q49: (A) | R49: -
B50: 10 | C50: 46268 | D50: Anonymous | E50: Ruang Pemeriksaan Gigi dan Mulut | G50: 4 | H50: 4 | I50: 4 | J50: 4 | K50: 4 | L50: 4 | M50: 4 | N50: 4 | O50: 4 | P50: 100 | Q50: (A) | R50: -
B51: 11 | C51: 46268 | D51: Anonymous | E51: Ruang Pemeriksaan Gigi dan Mulut | G51: 4 | H51: 4 | I51: 4 | J51: 4 | K51: 4 | L51: 4 | M51: 4 | N51: 4 | O51: 4 | P51: 100 | Q51: (A) | R51: Sesuai harapan
B52: 12 | C52: 46268 | D52: Anonymous | E52: Ruang Pemeriksaan Gigi dan Mulut | G52: 4 | H52: 4 | I52: 4 | J52: 4 | K52: 4 | L52: 4 | M52: 4 | N52: 4 | O52: 4 | P52: 100 | Q52: (A) | R52: Bagus.
... B76: 36 | C76: 46294 | D76: Anonymous | E76: Ruang Pemeriksaan Gigi dan Mulut | G76: 4 | H76: 4 | I76: 4 | J76: 4 | K76: 4 | L76: 4 | M76: 4 | N76: 4 | O76: 4 | P76: 100 | Q76: (A) | R76: Baik, Lanjutkan
B92: =IF(C92="","",SUBTOTAL(3,C$41:$C92))
B93: =IF(C93="","",SUBTOTAL(3,C$41:$C93))
...

Sheet 4
B2: LAPORAN SKM PUSKESMAS TRENGGALEK
B4: ="REKAPITULASI HASIL SKM PUSKESMAS TRENGGALEK BULAN "&UPPER(Home!C3) -> REKAPITULASI HASIL SKM PUSKESMAS TRENGGALEK BULAN SEPTEMBER 2026 | W4: =RIGHT(AB7,4)
L6: Unsur | R6: Unsur Responden | S6: Nilai Rata-Rata
B7: Nama Layanan | E7: : | F7: =Home!C8 -> Ruang Pemeriksaan KIA | K7: P 1 | L7: Kesesuaian persyaratan pelayanan dengan jenis pelayanannya | R7: =G128 -> 68 | S7: =G129&" %" -> 100 %
B8: Target Responden | E8: : | F8: =Home!AE8 -> 21
B9: Jumlah Responden | K9: P 2 | L9: Kemudahan prosedur pelayanan di unit ini | R9: =H128 -> 67 | S9: =H129&" %" -> 98.5294117647059 %
D10: L | E10: : | F10: =Home!AC8 -> 9 | K10: P 3 | L10: Kecepatan waktu dalam memberikan pelayanan | R10: =I128 -> 67 | S10: =I129&" %" -> 98.5294117647059 %
D11: P | E11: : | F11: =Home!AD8 -> 8
B12: Jumlah/Capaian | E12: : | F12: =SUM(F10:F11)&" ("&ROUND((F10+F11)/F8*100,2)&" %"&")" -> 17 (80.95 %) | K12: P 4 | L12: Kewajaran biaya/tarif dalam pelayanan | R12: =J128 -> 67 | S12: =J129&" %" -> 98.5294117647059 %
B13: Jumlah Nilai | E13: : | F13: =R23 -> 604 | K13: P 5 | L13: Kesesuaian produk pelayanan antara yang tercantum dalam standar pelayanan dengan hasil yang diberikan | R13: =K128 -> 67 | S13: =K129&" %" -> 98.5294117647059 %
B14: Skor Layanan | E14: : | F14: 100,00 (Sangat Baik)
B15: Nilai SKM | E15: : | F15: =Home!I8 -> 79.345
K16: P 6 | L16: Penanganan pengaduan pengguna layanan | R16: =L128 -> 67 | S16: =L129&" %" -> 98.5294117647059 %
K18: P 7 | L18: Kualitas sarana dan prasarana | R18: =M128 -> 66 | S18: =M129&" %" -> 97.0588235294118 %
K19: P 8 | L19: Perilaku petugas dalam pelayanan terkait kesopanan dan keramahan | R19: =N128 -> 67 | S19: =N129&" %" -> 98.5294117647059 %
K21: P 9 | L21: Kompetensi/kemampuan petugas dalam pelayanan | R21: =O128 -> 68 | S21: =O129&" %" -> 100 %
R23: =P128 -> 604 | S23: =P129&" %" -> 98.6928104575163 %
P26: =Home!$F$25 -> Trenggalek, 30 September 2026
E27: KEPALA PUSKESMAS TRENGGALEK | P27: Penanggung jawab Ruangan
E32: dr. MURTI RUKIYANDARI | P32: xxx
E33: Pembina Utama Muida | P33: NIP.
E34: NIP. 19800611 200903 2 004
B37: Rincian
B39: NO. | C39: Tanggal | D39: NAMA | E39: LAYANAN | G39: P 1 | H39: P 2 | I39: P 3 | J39: P 4 | K39: P 5 | L39: P 6 | M39: P 7 | N39: P 8 | O39: P 9 | P39: SKOR | R39: Kritik dan Saran
B40: 1 | C40: 2 | D40: 3 | E40: 4 | G40: 5 | H40: 6 | I40: 7 | J40: 8 | K40: 9 | L40: 10 | M40: 11 | N40: 12 | O40: 13 | P40: 14 | R40: 15
B41: 1 | C41: 46268 | D41: Anonymous | E41: Ruang Pemeriksaan KIA | G41: 4 | H41: 4 | I41: 4 | J41: 4 | K41: 4 | L41: 4 | M41: 4 | N41: 4 | O41: 4 | P41: 100 | Q41: (A) | R41: Layanan bagus
B42: 2 | C42: 46269 | D42: Anonymous | E42: Ruang Pemeriksaan KIA | G42: 4 | H42: 4 | I42: 4 | J42: 4 | K42: 4 | L42: 4 | M42: 4 | N42: 4 | O42: 4 | P42: 100 | Q42: (A) | R42: -
B43: 3 | C43: 46269 | D43: Anonymous | E43: Ruang Pemeriksaan KIA | G43: 4 | H43: 3 | I43: 3 | J43: 3 | K43: 3 | L43: 3 | M43: 2 | N43: 3 | O43: 4 | P43: 77.78 | Q43: (B) | R43: Penjelasan dari petugas kurang jelas dan ambigu
B44: 4 | C44: 46274 | D44: Anonymous | E44: Ruang Pemeriksaan KIA | G44: 4 | H44: 4 | I44: 4 | J44: 4 | K44: 4 | L44: 4 | M44: 4 | N44: 4 | O44: 4 | P44: 100 | Q44: (A) | R44: Bagus lanjutkan
B45: 5 | C45: 46290 | D45: Anonymous | E45: Ruang Pemeriksaan KIA | G45: 4 | H45: 4 | I45: 4 | J45: 4 | K45: 4 | L45: 4 | M45: 4 | N45: 4 | O45: 4 | P45: 100 | Q45: (A) | R45: -
B46: 6 | C46: 46294 | D46: Anonymous | E46: Ruang Pemeriksaan KIA | G46: 4 | H46: 4 | I46: 4 | J46: 4 | K46: 4 | L46: 4 | M46: 4 | N46: 4 | O46: 4 | P46: 100 | Q46: (A) | R46: -
B47: 7 | C47: 46294 | D47: Anonymous | E47: Ruang Pemeriksaan KIA | G47: 4 | H47: 4 | I47: 4 | J47: 4 | K47: 4 | L47: 4 | M47: 4 | N47: 4 | O47: 4 | P47: 100 | Q47: (A) | R47: -
B48: 8 | C48: 46295 | D48: Anonymous | E48: Ruang Pemeriksaan KIA | G48: 4 | H48: 4 | I48: 4 | J48: 4 | K48: 4 | L48: 4 | M48: 4 | N48: 4 | O48: 4 | P48: 100 | Q48: (A) | R48: -
B49: =IF(C49="","",SUBTOTAL(3,C$41:$C49)) -> 9 | C49: 46295 | D49: Anonymous | E49: Ruang Pemeriksaan KIA | G49: 4 | H49: 4 | I49: 4 | J49: 4 | K49: 4 | L49: 4 | M49: 4 | N49: 4 | O49: 4 | P49: 100 | Q49: (A) | R49: -
B50: =IF(C50="","",SUBTOTAL(3,C$41:$C50)) -> 10 | C50: 46295 | D50: Anonymous | E50: Ruang Pemeriksaan KIA | G50: 4 | H50: 4 | I50: 4 | J50: 4 | K50: 4 | L50: 4 | M50: 4 | N50: 4 | O50: 4 | P50: 100 | Q50: (A) | R50: -
B51: =IF(C51="","",SUBTOTAL(3,C$41:$C51)) -> 11 | C51: 46295 | D51: Anonymous | E51: Ruang Pemeriksaan KIA | G51: 4 | H51: 4 | I51: 4 | J51: 4 | K51: 4 | L51: 4 | M51: 4 | N51: 4 | O51: 4 | P51: 100 | Q51: (A) | R51: -
B52: =IF(C52="","",SUBTOTAL(3,C$41:$C52)) -> 12 | C52: 46295 | D52: Anonymous | E52: Ruang Pemeriksaan KIA | G52: 4 | H52: 4 | I52: 4 | J52: 4 | K52: 4 | L52: 4 | M52: 4 | N52: 4 | O52: 4 | P52: 100 | Q52: (A) | R52: -
B53: =IF(C53="","",SUBTOTAL(3,C$41:$C53)) -> 13 | C53: 46295 | D53: Anonymous | E53: Ruang Pemeriksaan KIA | G53: 4 | H53: 4 | I53: 4 | J53: 4 | K53: 4 | L53: 4 | M53: 4 | N53: 4 | O53: 4 | P53: 100 | Q53: (A) | R53: -
B54: =IF(C54="","",SUBTOTAL(3,C$41:$C54)) -> 14 | C54: 46295 | D54: Anonymous | E54: Ruang Pemeriksaan KIA | G54: 4 | H54: 4 | I54: 4 | J54: 4 | K54: 4 | L54: 4 | M54: 4 | N54: 4 | O54: 4 | P54: 100 | Q54: (A) | R54: -
B55: =IF(C55="","",SUBTOTAL(3,C$41:$C55)) -> 15 | C55: 46295 | D55: Anonymous | E55: Ruang Pemeriksaan KIA | G55: 4 | H55: 4 | I55: 4 | J55: 4 | K55: 4 | L55: 4 | M55: 4 | N55: 4 | O55: 4 | P55: 100 | Q55: (A) | R55: -
...

Sheet 5
B2: LAPORAN SKM PUSKESMAS TRENGGALEK
B4: ="REKAPITULASI HASIL SKM PUSKESMAS TRENGGALEK BULAN "&UPPER(Home!C3) -> REKAPITULASI HASIL SKM PUSKESMAS TRENGGALEK BULAN SEPTEMBER 2026 | W4: =RIGHT(AB7,4)
L6: Unsur | R6: Unsur Responden | S6: Nilai Rata-Rata
B7: Nama Layanan | E7: : | F7: =Home!C9 -> Ruang Farmasi dan Gudang Obat | K7: P 1 | L7: Kesesuaian persyaratan pelayanan dengan jenis pelayanannya | R7: =G128 -> 156 | S7: =G129&" %" -> 100 %
B8: Target Responden | E8: : | F8: =Home!AE9 -> 48
B9: Jumlah Responden | K9: P 2 | L9: Kemudahan prosedur pelayanan di unit ini | R9: =H128 -> 156 | S9: =H129&" %" -> 100 %
D10: L | E10: : | F10: =Home!AC9 -> 21 | K10: P 3 | L10: Kecepatan waktu dalam memberikan pelayanan | R10: =I128 -> 156 | S10: =I129&" %" -> 100 %
D11: P | E11: : | F11: =Home!AD9 -> 18
B12: Jumlah/Capaian | E12: : | F12: =SUM(F10:F11)&" ("&ROUND((F10+F11)/F8*100,2)&" %"&")" -> 39 (81.25 %) | K12: P 4 | L12: Kewajaran biaya/tarif dalam pelayanan | R12: =J128 -> 156 | S12: =J129&" %" -> 100 %
B13: Jumlah Nilai | E13: : | F13: =R23 -> 1404 | K13: P 5 | L13: Kesesuaian produk pelayanan antara yang tercantum dalam standar pelayanan dengan hasil yang diberikan | R13: =K128 -> 156 | S13: =K129&" %" -> 100 %
B14: Skor Layanan | E14: : | F14: 100,00 (Sangat Baik)
B15: Nilai SKM | E15: : | F15: =Home!I9 -> 80
K16: P 6 | L16: Penanganan pengaduan pengguna layanan | R16: =L128 -> 156 | S16: =ROUND(L129,2)&" %" -> 100 %
K18: P 7 | L18: Kualitas sarana dan prasarana | R18: =M128 -> 156 | S18: =M129&" %" -> 100 %
K19: P 8 | L19: Perilaku petugas dalam pelayanan terkait kesopanan dan keramahan | R19: =N128 -> 156 | S19: =N129&" %" -> 100 %
K21: P 9 | L21: Kompetensi/kemampuan petugas dalam pelayanan | R21: =O128 -> 156 | S21: =O129&" %" -> 100 %
R23: =P128 -> 1404 | S23: =ROUND(P129,2)&" %" -> 100 %
P26: =Home!$F$25 -> Trenggalek, 30 September 2026
E27: KEPALA PUSKESMAS TRENGGALEK | P27: Penanggung jawab Ruangan
E32: dr. MURTI RUKIYANDARI | P32: xxx
E33: Pembina Utama Muida | P33: NIP.
E34: NIP. 19800611 200903 2 004
B37: Rincian
B39: NO. | C39: Tanggal | D39: NAMA | E39: LAYANAN | G39: P 1 | H39: P 2 | I39: P 3 | J39: P 4 | K39: P 5 | L39: P 6 | M39: P 7 | N39: P 8 | O39: P 9 | P39: SKOR | R39: Kritik dan Saran
B40: 1 | C40: 2 | D40: 3 | E40: 4 | G40: 5 | H40: 6 | I40: 7 | J40: 8 | K40: 9 | L40: 10 | M40: 11 | N40: 12 | O40: 13 | P40: 14 | R40: 15
B41: 1 | C41: 46282 | D41: Anonymous | E41: Ruang Farmasi dan Gudang Obat | G41: 4 | H41: 4 | I41: 4 | J41: 4 | K41: 4 | L41: 4 | M41: 4 | N41: 4 | O41: 4 | P41: 100 | Q41: (A) | R41: -
B42: 2 | C42: 46294 | D42: Anonymous | E42: Ruang Farmasi dan Gudang Obat | G42: 4 | H42: 4 | I42: 4 | J42: 4 | K42: 4 | L42: 4 | M42: 4 | N42: 4 | O42: 4 | P42: 100 | Q42: (A) | R42: -
B43: 3 | C43: 46294 | D43: Anonymous | E43: Ruang Farmasi dan Gudang Obat | G43: 4 | H43: 4 | I43: 4 | J43: 4 | K43: 4 | L43: 4 | M43: 4 | N43: 4 | O43: 4 | P43: 100 | Q43: (A) | R43: -
B44: 4 | C44: 46294 | D44: Anonymous | E44: Ruang Farmasi dan Gudang Obat | G44: 4 | H44: 4 | I44: 4 | J44: 4 | K44: 4 | L44: 4 | M44: 4 | N44: 4 | O44: 4 | P44: 100 | Q44: (A) | R44: -
B45: 5 | C45: 46294 | D45: Anonymous | E45: Ruang Farmasi dan Gudang Obat | G45: 4 | H45: 4 | I45: 4 | J45: 4 | K45: 4 | L45: 4 | M45: 4 | N45: 4 | O45: 4 | P45: 100 | Q45: (A) | R45: -
B46: 6 | C46: 46294 | D46: Anonymous | E46: Ruang Farmasi dan Gudang Obat | G46: 4 | H46: 4 | I46: 4 | J46: 4 | K46: 4 | L46: 4 | M46: 4 | N46: 4 | O46: 4 | P46: 100 | Q46: (A) | R46: -
B47: 7 | C47: 46294 | D47: Anonymous | E47: Ruang Farmasi dan Gudang Obat | G47: 4 | H47: 4 | I47: 4 | J47: 4 | K47: 4 | L47: 4 | M47: 4 | N47: 4 | O47: 4 | P47: 100 | Q47: (A) | R47: -
B48: 8 | C48: 46294 | D48: Anonymous | E48: Ruang Farmasi dan Gudang Obat | G48: 4 | H48: 4 | I48: 4 | J48: 4 | K48: 4 | L48: 4 | M48: 4 | N48: 4 | O48: 4 | P48: 100 | Q48: (A) | R48: -
B49: 9 | C49: 46294 | D49: Anonymous | E49: Ruang Farmasi dan Gudang Obat | G49: 4 | H49: 4 | I49: 4 | J49: 4 | K49: 4 | L49: 4 | M49: 4 | N49: 4 | O49: 4 | P49: 100 | Q49: (A) | R49: -
B50: 10 | C50: 46294 | D50: Anonymous | E50: Ruang Farmasi dan Gudang Obat | G50: 4 | H50: 4 | I50: 4 | J50: 4 | K50: 4 | L50: 4 | M50: 4 | N50: 4 | O50: 4 | P50: 100 | Q50: (A) | R50: -
B51: 11 | C51: 46294 | D51: Anonymous | E51: Ruang Farmasi dan Gudang Obat | G51: 4 | H51: 4 | I51: 4 | J51: 4 | K51: 4 | L51: 4 | M51: 4 | N51: 4 | O51: 4 | P51: 100 | Q51: (A) | R51: -
B52: 12 | C52: 46294 | D52: Anonymous | E52: Ruang Farmasi dan Gudang Obat | G52: 4 | H52: 4 | I52: 4 | J52: 4 | K52: 4 | L52: 4 | M52: 4 | N52: 4 | O52: 4 | P52: 100 | Q52: (A) | R52: -
... B75: 35 | C75: 46295 | D75: Anonymous | E75: Ruang Farmasi dan Gudang Obat | G75: 4 | H75: 4 | I75: 4 | J75: 4 | K75: 4 | L75: 4 | M75: 4 | N75: 4 | O75: 4 | P75: 100 | Q75: (A) | R75: -
B76: =IF(C76="","",SUBTOTAL(3,C$41:$C76)) -> 36 | C76: 46295 | D76: Anonymous | E76: Ruang Farmasi dan Gudang Obat | G76: 4 | H76: 4 | I76: 4 | J76: 4 | K76: 4 | L76: 4 | M76: 4 | N76: 4 | O76: 4 | P76: 100 | Q76: (A) | R76: -
B77: =IF(C77="","",SUBTOTAL(3,C$41:$C77)) -> 37 | C77: 46295 | D77: Anonymous | E77: Ruang Farmasi dan Gudang Obat | G77: 4 | H77: 4 | I77: 4 | J77: 4 | K77: 4 | L77: 4 | M77: 4 | N77: 4 | O77: 4 | P77: 100 | Q77: (A) | R77: -
...

Sheet 6
B2: LAPORAN SKM PUSKESMAS TRENGGALEK
B4: ="REKAPITULASI HASIL SKM PUSKESMAS TRENGGALEK BULAN "&UPPER(Home!C3) -> REKAPITULASI HASIL SKM PUSKESMAS TRENGGALEK BULAN SEPTEMBER 2026 | W4: =RIGHT(AB7,4)
L6: Unsur | R6: Unsur Responden | S6: Nilai Rata-Rata
B7: Nama Layanan | E7: : | F7: =Home!C10 -> Ruang Persalinan | K7: P 1 | L7: Kesesuaian persyaratan pelayanan dengan jenis pelayanannya | R7: =G128 -> 4 | S7: =G129&" %" -> 50 %
B8: Target Responden | E8: : | F8: =Home!AE10 -> 1
B9: Jumlah Responden | K9: P 2 | L9: Kemudahan prosedur pelayanan di unit ini | R9: =H128 -> 4 | S9: =H129&" %" -> 50 %
D10: L | E10: : | F10: =Home!AC10 -> 1 | K10: P 3 | L10: Kecepatan waktu dalam memberikan pelayanan | R10: =I128 -> 4 | S10: =I129&" %" -> 50 %
D11: P | E11: : | F11: =Home!AD10 -> 0
B12: Jumlah/Capaian | E12: : | F12: =SUM(F10:F11)&" ("&ROUND((F10+F11)/F8*100,2)&" %"&")" -> 1 (100 %) | K12: P 4 | L12: Kewajaran biaya/tarif dalam pelayanan | R12: =J128 -> 4 | S12: =J129&" %" -> 50 %
B13: Jumlah Nilai | E13: : | F13: =R23 -> 36 | K13: P 5 | L13: Kesesuaian produk pelayanan antara yang tercantum dalam standar pelayanan dengan hasil yang diberikan | R13: =K128 -> 4 | S13: =K129&" %" -> 50 %
B14: Skor Layanan | E14: : | F14: 100,00 (Sangat Baik)
B15: Nilai SKM | E15: : | F15: =Home!I10 -> 100
K16: P 6 | L16: Penanganan pengaduan pengguna layanan | R16: =L128 -> 4 | S16: =L129&" %" -> 50 %
K18: P 7 | L18: Kualitas sarana dan prasarana | R18: =M128 -> 4 | S18: =M129&" %" -> 50 %
K19: P 8 | L19: Perilaku petugas dalam pelayanan terkait kesopanan dan keramahan | R19: =N128 -> 4 | S19: =N129&" %" -> 50 %
K21: P 9 | L21: Kompetensi/kemampuan petugas dalam pelayanan | R21: =O128 -> 4 | S21: =O129&" %" -> 50 %
R23: =P128 -> 36 | S23: =P129&" %" -> 50 %
P26: =Home!$F$25 -> Trenggalek, 30 September 2026
E27: KEPALA PUSKESMAS TRENGGALEK | P27: Penanggung jawab Ruangan
E32: dr. MURTI RUKIYANDARI | P32: xxx
E33: Pembina Utama Muida | P33: NIP.
E34: NIP. 19800611 200903 2 004
B37: Rincian
B39: NO. | C39: Tanggal | D39: NAMA | E39: LAYANAN | G39: P 1 | H39: P 2 | I39: P 3 | J39: P 4 | K39: P 5 | L39: P 6 | M39: P 7 | N39: P 8 | O39: P 9 | P39: SKOR | R39: Kritik dan Saran
B40: 1 | C40: 2 | D40: 3 | E40: 4 | G40: 5 | H40: 6 | I40: 7 | J40: 8 | K40: 9 | L40: 10 | M40: 11 | N40: 12 | O40: 13 | P40: 14 | R40: 15
B41: 1 | C41: 46268 | D41: Anonymous | E41: Ruang Persalinan | G41: 4 | H41: 4 | I41: 4 | J41: 4 | K41: 4 | L41: 4 | M41: 4 | N41: 4 | O41: 4 | P41: 100 | Q41: (A) | R41: Layanan bagus
B42: 2
B44: =IF(C44="","",SUBTOTAL(3,C$41:$C44))
B45: =IF(C45="","",SUBTOTAL(3,C$41:$C45))
B46: =IF(C46="","",SUBTOTAL(3,C$41:$C46))
B47: =IF(C47="","",SUBTOTAL(3,C$41:$C47))
B48: =IF(C48="","",SUBTOTAL(3,C$41:$C48))
B49: =IF(C49="","",SUBTOTAL(3,C$41:$C49))
B50: =IF(C50="","",SUBTOTAL(3,C$41:$C50))
B51: =IF(C51="","",SUBTOTAL(3,C$41:$C51))
B52: =IF(C52="","",SUBTOTAL(3,C$41:$C52))
B53: =IF(C53="","",SUBTOTAL(3,C$41:$C53))
B54: =IF(C54="","",SUBTOTAL(3,C$41:$C54))
B55: =IF(C55="","",SUBTOTAL(3,C$41:$C55))
... B127: =IF(C127="","",SUBTOTAL(3,C$41:$C127))
...

Sheet 7
B2: LAPORAN SKM PUSKESMAS TRENGGALEK
B4: ="REKAPITULASI HASIL SKM PUSKESMAS TRENGGALEK BULAN "&UPPER(Home!C3) -> REKAPITULASI HASIL SKM PUSKESMAS TRENGGALEK BULAN SEPTEMBER 2026 | W4: =RIGHT(AB7,4)
L6: Unsur | R6: Unsur Responden | S6: Nilai Rata-Rata
B7: Nama Layanan | E7: : | F7: =Home!C11 -> Kasir | K7: P 1 | L7: Kesesuaian persyaratan pelayanan dengan jenis pelayanannya | R7: =G128 -> 256 | S7: =G129&" %" -> 100 %
B8: Target Responden | E8: : | F8: =Home!AE11 -> 58
B9: Jumlah Responden | K9: P 2 | L9: Kemudahan prosedur pelayanan di unit ini | R9: =H128 -> 256 | S9: =H129&" %" -> 100 %
D10: L | E10: : | F10: =Home!AC11 -> 35 | K10: P 3 | L10: Kecepatan waktu dalam memberikan pelayanan | R10: =I128 -> 256 | S10: =I129&" %" -> 100 %
D11: P | E11: : | F11: =Home!AD11 -> 29
B12: Jumlah/Capaian | E12: : | F12: =SUM(F10:F11)&" ("&ROUND((F10+F11)/F8*100,2)&" %"&")" -> 64 (110.34 %) | K12: P 4 | L12: Kewajaran biaya/tarif dalam pelayanan | R12: =J128 -> 256 | S12: =J129&" %" -> 100 %
B13: Jumlah Nilai | E13: : | F13: =R23 -> 2304 | K13: P 5 | L13: Kesesuaian produk pelayanan antara yang tercantum dalam standar pelayanan dengan hasil yang diberikan | R13: =K128 -> 256 | S13: =K129&" %" -> 100 %
B14: Skor Layanan | E14: : | F14: 100,00 (Sangat Baik)
B15: Nilai SKM | E15: : | F15: =Home!I11 -> 100
K16: P 6 | L16: Penanganan pengaduan pengguna layanan | R16: =L128 -> 256 | S16: =L129&" %" -> 100 %
K18: P 7 | L18: Kualitas sarana dan prasarana | R18: =M128 -> 256 | S18: =M129&" %" -> 100 %
K19: P 8 | L19: Perilaku petugas dalam pelayanan terkait kesopanan dan keramahan | R19: =N128 -> 256 | S19: =N129&" %" -> 100 %
K21: P 9 | L21: Kompetensi/kemampuan petugas dalam pelayanan | R21: =O128 -> 256 | S21: =O129&" %" -> 100 %
R23: =P128 -> 2304 | S23: =P129&" %" -> 100 %
P26: =Home!$F$25 -> Trenggalek, 30 September 2026
E27: KEPALA PUSKESMAS TRENGGALEK | P27: Penanggung jawab Ruangan
E32: dr. MURTI RUKIYANDARI | P32: xxx
E33: Pembina Utama Muida | P33: NIP.
E34: NIP. 19800611 200903 2 004
B37: Rincian
B39: NO. | C39: Tanggal | D39: NAMA | E39: LAYANAN | G39: P 1 | H39: P 2 | I39: P 3 | J39: P 4 | K39: P 5 | L39: P 6 | M39: P 7 | N39: P 8 | O39: P 9 | P39: SKOR | R39: Kritik dan Saran
B40: 1 | C40: 2 | D40: 3 | E40: 4 | G40: 5 | H40: 6 | I40: 7 | J40: 8 | K40: 9 | L40: 10 | M40: 11 | N40: 12 | O40: 13 | P40: 14 | R40: 15
B41: 1 | C41: 46266 | D41: Anonymous | E41: Kasir | G41: 4 | H41: 4 | I41: 4 | J41: 4 | K41: 4 | L41: 4 | M41: 4 | N41: 4 | O41: 4 | P41: 100 | Q41: (A) | R41: ????
B42: 2 | C42: 46267 | D42: Anonymous | E42: Kasir | G42: 4 | H42: 4 | I42: 4 | J42: 4 | K42: 4 | L42: 4 | M42: 4 | N42: 4 | O42: 4 | P42: 100 | Q42: (A) | R42: -
B43: 3 | C43: 46268 | D43: Anonymous | E43: Kasir | G43: 4 | H43: 4 | I43: 4 | J43: 4 | K43: 4 | L43: 4 | M43: 4 | N43: 4 | O43: 4 | P43: 100 | Q43: (A) | R43: -
B44: 4 | C44: 46268 | D44: Anonymous | E44: Kasir | G44: 4 | H44: 4 | I44: 4 | J44: 4 | K44: 4 | L44: 4 | M44: 4 | N44: 4 | O44: 4 | P44: 100 | Q44: (A) | R44: -
B45: 5 | C45: 46271 | D45: Anonymous | E45: Kasir | G45: 4 | H45: 4 | I45: 4 | J45: 4 | K45: 4 | L45: 4 | M45: 4 | N45: 4 | O45: 4 | P45: 100 | Q45: (A) | R45: -
B46: 6 | C46: 46271 | D46: Anonymous | E46: Kasir | G46: 4 | H46: 4 | I46: 4 | J46: 4 | K46: 4 | L46: 4 | M46: 4 | N46: 4 | O46: 4 | P46: 100 | Q46: (A) | R46: -
B47: 7 | C47: 46272 | D47: Anonymous | E47: Kasir | G47: 4 | H47: 4 | I47: 4 | J47: 4 | K47: 4 | L47: 4 | M47: 4 | N47: 4 | O47: 4 | P47: 100 | Q47: (A) | R47: -
B48: 8 | C48: 46272 | D48: Anonymous | E48: Kasir | G48: 4 | H48: 4 | I48: 4 | J48: 4 | K48: 4 | L48: 4 | M48: 4 | N48: 4 | O48: 4 | P48: 100 | Q48: (A) | R48: -
B49: 9 | C49: 46272 | D49: Anonymous | E49: Kasir | G49: 4 | H49: 4 | I49: 4 | J49: 4 | K49: 4 | L49: 4 | M49: 4 | N49: 4 | O49: 4 | P49: 100 | Q49: (A) | R49: -
B50: 10 | C50: 46273 | D50: Anonymous | E50: Kasir | G50: 4 | H50: 4 | I50: 4 | J50: 4 | K50: 4 | L50: 4 | M50: 4 | N50: 4 | O50: 4 | P50: 100 | Q50: (A) | R50: -
B51: 11 | C51: 46274 | D51: Anonymous | E51: Kasir | G51: 4 | H51: 4 | I51: 4 | J51: 4 | K51: 4 | L51: 4 | M51: 4 | N51: 4 | O51: 4 | P51: 100 | Q51: (A) | R51: -
B52: 12 | C52: 46274 | D52: Anonymous | E52: Kasir | G52: 4 | H52: 4 | I52: 4 | J52: 4 | K52: 4 | L52: 4 | M52: 4 | N52: 4 | O52: 4 | P52: 100 | Q52: (A) | R52: -
... B104: 64 | C104: 46295 | D104: Anonymous | E104: Kasir | G104: 4 | H104: 4 | I104: 4 | J104: 4 | K104: 4 | L104: 4 | M104: 4 | N104: 4 | O104: 4 | P104: 100 | Q104: (A) | R104: Sangat baik
B119: =IF(C119="","",SUBTOTAL(3,C$41:$C119))
B120: =IF(C120="","",SUBTOTAL(3,C$41:$C120))
...

Sheet 8
B2: LAPORAN SKM PUSKESMAS TRENGGALEK
B4: ="REKAPITULASI HASIL SKM PUSKESMAS TRENGGALEK BULAN "&UPPER(Home!C3) -> REKAPITULASI HASIL SKM PUSKESMAS TRENGGALEK BULAN SEPTEMBER 2026 | W4: =RIGHT(AB7,4)
L6: Unsur | R6: Unsur Responden | S6: Nilai Rata-Rata
B7: Nama Layanan | E7: : | F7: =Home!C12 -> Ruang Pemeriksaan Lansia | K7: P 1 | L7: Kesesuaian persyaratan pelayanan dengan jenis pelayanannya | R7: =G128 -> 240 | S7: =G129&" %" -> 100 %
B8: Target Responden | E8: : | F8: =Home!AE12 -> 46
B9: Jumlah Responden | K9: P 2 | L9: Kemudahan prosedur pelayanan di unit ini | R9: =H128 -> 240 | S9: =H129&" %" -> 100 %
D10: L | E10: : | F10: =Home!AC12 -> 32 | K10: P 3 | L10: Kecepatan waktu dalam memberikan pelayanan | R10: =I128 -> 240 | S10: =I129&" %" -> 100 %
D11: P | E11: : | F11: =Home!AD12 -> 28
B12: Jumlah/Capaian | E12: : | F12: =SUM(F10:F11)&" ("&ROUND((F10+F11)/F8*100,2)&" %"&")" -> 60 (130.43 %) | K12: P 4 | L12: Kewajaran biaya/tarif dalam pelayanan | R12: =J128 -> 240 | S12: =J129&" %" -> 100 %
B13: Jumlah Nilai | E13: : | F13: =R23 -> 2160 | K13: P 5 | L13: Kesesuaian produk pelayanan antara yang tercantum dalam standar pelayanan dengan hasil yang diberikan | R13: =K128 -> 240 | S13: =K129&" %" -> 100 %
B14: Skor Layanan | E14: : | F14: 100,00 (Sangat Baik)
B15: Nilai SKM | E15: : | F15: =Home!I12 -> 100
K16: P 6 | L16: Penanganan pengaduan pengguna layanan | R16: =L128 -> 240 | S16: =L129&" %" -> 100 %
K18: P 7 | L18: Kualitas sarana dan prasarana | R18: =M128 -> 240 | S18: =M129&" %" -> 100 %
K19: P 8 | L19: Perilaku petugas dalam pelayanan terkait kesopanan dan keramahan | R19: =N128 -> 240 | S19: =N129&" %" -> 100 %
K21: P 9 | L21: Kompetensi/kemampuan petugas dalam pelayanan | R21: =O128 -> 240 | S21: =O129&" %" -> 100 %
R23: =P128 -> 2160 | S23: =P129&" %" -> 100 %
P26: =Home!$F$25 -> Trenggalek, 30 September 2026
E27: KEPALA PUSKESMAS TRENGGALEK | P27: Penanggung Jawab
P28: =F7 -> Ruang Pemeriksaan Lansia
E32: dr. MURTI RUKIYANDARI | P32: xxx
E33: Pembina Utama Muida | P33: NIP.
E34: NIP. 19800611 200903 2 004
B37: Rincian
B39: NO. | C39: Tanggal | D39: NAMA | E39: LAYANAN | G39: P 1 | H39: P 2 | I39: P 3 | J39: P 4 | K39: P 5 | L39: P 6 | M39: P 7 | N39: P 8 | O39: P 9 | P39: SKOR | R39: Kritik dan Saran
B40: 1 | C40: 2 | D40: 3 | E40: 4 | G40: 5 | H40: 6 | I40: 7 | J40: 8 | K40: 9 | L40: 10 | M40: 11 | N40: 12 | O40: 13 | P40: 14 | R40: 15
B41: 1 | C41: 46269 | D41: Anonymous | E41: Ruang Pemeriksaan Lansia | G41: 4 | H41: 4 | I41: 4 | J41: 4 | K41: 4 | L41: 4 | M41: 4 | N41: 4 | O41: 4 | P41: 100 | Q41: (A) | R41: - | Z41: -
B42: 2 | C42: 46269 | D42: Anonymous | E42: Ruang Pemeriksaan Lansia | G42: 4 | H42: 4 | I42: 4 | J42: 4 | K42: 4 | L42: 4 | M42: 4 | N42: 4 | O42: 4 | P42: 100 | Q42: (A) | R42: - | Z42: pelay baik
B43: 3 | C43: 46269 | D43: Anonymous | E43: Ruang Pemeriksaan Lansia | G43: 4 | H43: 4 | I43: 4 | J43: 4 | K43: 4 | L43: 4 | M43: 4 | N43: 4 | O43: 4 | P43: 100 | Q43: (A) | R43: - | Z43: pelaybaik
B44: 4 | C44: 46269 | D44: Anonymous | E44: Ruang Pemeriksaan Lansia | G44: 4 | H44: 4 | I44: 4 | J44: 4 | K44: 4 | L44: 4 | M44: 4 | N44: 4 | O44: 4 | P44: 100 | Q44: (A) | R44: - | Z44: pelay baik
B45: 5 | C45: 46269 | D45: Anonymous | E45: Ruang Pemeriksaan Lansia | G45: 4 | H45: 4 | I45: 4 | J45: 4 | K45: 4 | L45: 4 | M45: 4 | N45: 4 | O45: 4 | P45: 100 | Q45: (A) | R45: - | Z45: pelay baik
B46: 6 | C46: 46269 | D46: Anonymous | E46: Ruang Pemeriksaan Lansia | G46: 4 | H46: 4 | I46: 4 | J46: 4 | K46: 4 | L46: 4 | M46: 4 | N46: 4 | O46: 4 | P46: 100 | Q46: (A) | R46: - | Z46: -
B47: 7 | C47: 46269 | D47: Anonymous | E47: Ruang Pemeriksaan Lansia | G47: 4 | H47: 4 | I47: 4 | J47: 4 | K47: 4 | L47: 4 | M47: 4 | N47: 4 | O47: 4 | P47: 100 | Q47: (A) | R47: - | Z47: -
B48: 8 | C48: 46271 | D48: Anonymous | E48: Ruang Pemeriksaan Lansia | G48: 4 | H48: 4 | I48: 4 | J48: 4 | K48: 4 | L48: 4 | M48: 4 | N48: 4 | O48: 4 | P48: 100 | Q48: (A) | R48: - | Z48: Pelayananramah
B49: 9 | C49: 46271 | D49: Anonymous | E49: Ruang Pemeriksaan Lansia | G49: 4 | H49: 4 | I49: 4 | J49: 4 | K49: 4 | L49: 4 | M49: 4 | N49: 4 | O49: 4 | P49: 100 | Q49: (A) | R49: - | Z49: PELAY BAIK
B50: 10 | C50: 46271 | D50: Anonymous | E50: Ruang Pemeriksaan Lansia | G50: 4 | H50: 4 | I50: 4 | J50: 4 | K50: 4 | L50: 4 | M50: 4 | N50: 4 | O50: 4 | P50: 100 | Q50: (A) | R50: - | Z50: PELAY BAIK
B51: 11 | C51: 46271 | D51: Anonymous | E51: Ruang Pemeriksaan Lansia | G51: 4 | H51: 4 | I51: 4 | J51: 4 | K51: 4 | L51: 4 | M51: 4 | N51: 4 | O51: 4 | P51: 100 | Q51: (A) | R51: - | Z51: PELAY BAIK
B52: 12 | C52: 46271 | D52: Anonymous | E52: Ruang Pemeriksaan Lansia | G52: 4 | H52: 4 | I52: 4 | J52: 4 | K52: 4 | L52: 4 | M52: 4 | N52: 4 | O52: 4 | P52: 100 | Q52: (A) | R52: - | Z52: PELAY BAIK
... B100: 60 | C100: 46291 | D100: Anonymous | E100: Ruang Pemeriksaan Lansia | G100: 4 | H100: 4 | I100: 4 | J100: 4 | K100: 4 | L100: 4 | M100: 4 | N100: 4 | O100: 4 | P100: 100 | Q100: (A) | R100: - | Z100: -
Z101: -
...

Sheet 9
B2: LAPORAN SKM PUSKESMAS TRENGGALEK
B4: ="REKAPITULASI HASIL SKM PUSKESMAS TRENGGALEK BULAN "&UPPER(Home!C3) -> REKAPITULASI HASIL SKM PUSKESMAS TRENGGALEK BULAN SEPTEMBER 2026 | W4: =RIGHT(AB7,4)
L6: Unsur | R6: Unsur Responden | S6: Nilai Rata-Rata
B7: Nama Layanan | E7: : | F7: =Home!C13 -> Ruang Tata Usaha, Keuangan dan Kepegawaian | K7: P 1 | L7: Kesesuaian persyaratan pelayanan dengan jenis pelayanannya | R7: =G128 -> 104 | S7: =G129&" %" -> 100 %
B8: Target Responden | E8: : | F8: =Home!AE13 -> 4
B9: Jumlah Responden | K9: P 2 | L9: Kemudahan prosedur pelayanan di unit ini | R9: =H128 -> 104 | S9: =H129&" %" -> 100 %
D10: L | E10: : | F10: =Home!AC13 -> 14 | K10: P 3 | L10: Kecepatan waktu dalam memberikan pelayanan | R10: =I128 -> 104 | S10: =I129&" %" -> 100 %
D11: P | E11: : | F11: =Home!AD13 -> 12
B12: Jumlah/Capaian | E12: : | F12: =SUM(F10:F11)&" ("&ROUND((F10+F11)/F8*100,2)&" %"&")" -> 26 (650 %) | K12: P 4 | L12: Kewajaran biaya/tarif dalam pelayanan | R12: =J128 -> 104 | S12: =J129&" %" -> 100 %
B13: Jumlah Nilai | E13: : | F13: =R23 -> 936 | K13: P 5 | L13: Kesesuaian produk pelayanan antara yang tercantum dalam standar pelayanan dengan hasil yang diberikan | R13: =K128 -> 104 | S13: =K129&" %" -> 100 %
B14: Skor Layanan | E14: : | F14: 100,00 (Sangat Baik)
B15: Nilai SKM | E15: : | F15: =Home!I13 -> 100
K16: P 6 | L16: Penanganan pengaduan pengguna layanan | R16: =L128 -> 104 | S16: =L129&" %" -> 100 %
K18: P 7 | L18: Kualitas sarana dan prasarana | R18: =M128 -> 104 | S18: =M129&" %" -> 100 %
K19: P 8 | L19: Perilaku petugas dalam pelayanan terkait kesopanan dan keramahan | R19: =N128 -> 104 | S19: =N129&" %" -> 100 %
K21: P 9 | L21: Kompetensi/kemampuan petugas dalam pelayanan | R21: =O128 -> 104 | S21: =O129&" %" -> 100 %
R23: =P128 -> 936 | S23: =P129&" %" -> 100 %
P26: =Home!$F$25 -> Trenggalek, 30 September 2026
E27: KEPALA PUSKESMAS TRENGGALEK | P27: Penanggung Jawab
P28: =F7 -> Ruang Tata Usaha, Keuangan dan Kepegawaian
E32: dr. MURTI RUKIYANDARI | P32: xxx
E33: Pembina Utama Muida | P33: NIP.
E34: NIP. 19800611 200903 2 004
B37: Rincian
B39: NO. | C39: Tanggal | D39: NAMA | E39: LAYANAN | G39: P 1 | H39: P 2 | I39: P 3 | J39: P 4 | K39: P 5 | L39: P 6 | M39: P 7 | N39: P 8 | O39: P 9 | P39: SKOR | R39: Kritik dan Saran
B40: 1 | C40: 2 | D40: 3 | E40: 4 | G40: 5 | H40: 6 | I40: 7 | J40: 8 | K40: 9 | L40: 10 | M40: 11 | N40: 12 | O40: 13 | P40: 14 | R40: 15
B41: 1 | C41: 46267 | D41: Anonymous | E41: Ruang Tata Usaha, Keuangan dan Kepegawaian | G41: 4 | H41: 4 | I41: 4 | J41: 4 | K41: 4 | L41: 4 | M41: 4 | N41: 4 | O41: 4 | P41: 100 | Q41: (A) | R41: -
B42: 2 | C42: 46267 | D42: Anonymous | E42: Ruang Tata Usaha, Keuangan dan Kepegawaian | G42: 4 | H42: 4 | I42: 4 | J42: 4 | K42: 4 | L42: 4 | M42: 4 | N42: 4 | O42: 4 | P42: 100 | Q42: (A) | R42: Sangat baik
B43: 3 | C43: 46267 | D43: Anonymous | E43: Ruang Tata Usaha, Keuangan dan Kepegawaian | G43: 4 | H43: 4 | I43: 4 | J43: 4 | K43: 4 | L43: 4 | M43: 4 | N43: 4 | O43: 4 | P43: 100 | Q43: (A) | R43: Baik sekali
B44: 4 | C44: 46268 | D44: Anonymous | E44: Ruang Tata Usaha, Keuangan dan Kepegawaian | G44: 4 | H44: 4 | I44: 4 | J44: 4 | K44: 4 | L44: 4 | M44: 4 | N44: 4 | O44: 4 | P44: 100 | Q44: (A) | R44: Sangat baik
B45: 5 | C45: 46268 | D45: Anonymous | E45: Ruang Tata Usaha, Keuangan dan Kepegawaian | G45: 4 | H45: 4 | I45: 4 | J45: 4 | K45: 4 | L45: 4 | M45: 4 | N45: 4 | O45: 4 | P45: 100 | Q45: (A) | R45: Baik sekali
B46: 6 | C46: 46268 | D46: Anonymous | E46: Ruang Tata Usaha, Keuangan dan Kepegawaian | G46: 4 | H46: 4 | I46: 4 | J46: 4 | K46: 4 | L46: 4 | M46: 4 | N46: 4 | O46: 4 | P46: 100 | Q46: (A) | R46: Baik sekali
B47: 7 | C47: 46268 | D47: Anonymous | E47: Ruang Tata Usaha, Keuangan dan Kepegawaian | G47: 4 | H47: 4 | I47: 4 | J47: 4 | K47: 4 | L47: 4 | M47: 4 | N47: 4 | O47: 4 | P47: 100 | Q47: (A) | R47: -
B48: 8 | C48: 46273 | D48: Anonymous | E48: Ruang Tata Usaha, Keuangan dan Kepegawaian | G48: 4 | H48: 4 | I48: 4 | J48: 4 | K48: 4 | L48: 4 | M48: 4 | N48: 4 | O48: 4 | P48: 100 | Q48: (A) | R48: Baik sekali
B49: 9 | C49: 46274 | D49: Anonymous | E49: Ruang Tata Usaha, Keuangan dan Kepegawaian | G49: 4 | H49: 4 | I49: 4 | J49: 4 | K49: 4 | L49: 4 | M49: 4 | N49: 4 | O49: 4 | P49: 100 | Q49: (A) | R49: Bagus
B50: 10 | C50: 46274 | D50: Anonymous | E50: Ruang Tata Usaha, Keuangan dan Kepegawaian | G50: 4 | H50: 4 | I50: 4 | J50: 4 | K50: 4 | L50: 4 | M50: 4 | N50: 4 | O50: 4 | P50: 100 | Q50: (A) | R50: Sangat bagus
B51: 11 | C51: 46274 | D51: Anonymous | E51: Ruang Tata Usaha, Keuangan dan Kepegawaian | G51: 4 | H51: 4 | I51: 4 | J51: 4 | K51: 4 | L51: 4 | M51: 4 | N51: 4 | O51: 4 | P51: 100 | Q51: (A) | R51: Sangat Baik Sekali
B52: =IF(C52="","",SUBTOTAL(3,C$41:$C52)) -> 12 | C52: 46274 | D52: Anonymous | E52: Ruang Tata Usaha, Keuangan dan Kepegawaian | G52: 4 | H52: 4 | I52: 4 | J52: 4 | K52: 4 | L52: 4 | M52: 4 | N52: 4 | O52: 4 | P52: 100 | Q52: (A) | R52: BAIK SEKALI
B53: =IF(C53="","",SUBTOTAL(3,C$41:$C53)) -> 13 | C53: 46274 | D53: Anonymous | E53: Ruang Tata Usaha, Keuangan dan Kepegawaian | G53: 4 | H53: 4 | I53: 4 | J53: 4 | K53: 4 | L53: 4 | M53: 4 | N53: 4 | O53: 4 | P53: 100 | Q53: (A) | R53: baik sekali
B54: =IF(C54="","",SUBTOTAL(3,C$41:$C54)) -> 14 | C54: 46274 | D54: Anonymous | E54: Ruang Tata Usaha, Keuangan dan Kepegawaian | G54: 4 | H54: 4 | I54: 4 | J54: 4 | K54: 4 | L54: 4 | M54: 4 | N54: 4 | O54: 4 | P54: 100 | Q54: (A) | R54: Sangat Memuaskan
...

Sheet 10
B2: LAPORAN SKM PUSKESMAS TRENGGALEK
B4: ="REKAPITULASI HASIL SKM PUSKESMAS TRENGGALEK BULAN "&UPPER(Home!C3) -> REKAPITULASI HASIL SKM PUSKESMAS TRENGGALEK BULAN SEPTEMBER 2026 | W4: =RIGHT(AB7,4)
L6: Unsur | R6: Unsur Responden | S6: Nilai Rata-Rata
B7: Nama Layanan | E7: : | F7: =Home!C14 -> Ruang KB dan Kespro | K7: P 1 | L7: Kesesuaian persyaratan pelayanan dengan jenis pelayanannya | R7: =G128 -> 32 | S7: =G129&" %" -> 100 %
B8: Target Responden | E8: : | F8: =Home!AE14 -> 11
B9: Jumlah Responden | K9: P 2 | L9: Kemudahan prosedur pelayanan di unit ini | R9: =H128 -> 32 | S9: =H129&" %" -> 100 %
D10: L | E10: : | F10: =Home!AC14 -> 5 | K10: P 3 | L10: Kecepatan waktu dalam memberikan pelayanan | R10: =I128 -> 32 | S10: =I129&" %" -> 100 %
D11: P | E11: : | F11: =Home!AD14 -> 3
B12: Jumlah/Capaian | E12: : | F12: =SUM(F10:F11)&" ("&ROUND((F10+F11)/F8*100,2)&" %"&")" -> 8 (72.73 %) | K12: P 4 | L12: Kewajaran biaya/tarif dalam pelayanan | R12: =J128 -> 32 | S12: =J129&" %" -> 100 %
B13: Jumlah Nilai | E13: : | F13: =R23 -> 288 | K13: P 5 | L13: Kesesuaian produk pelayanan antara yang tercantum dalam standar pelayanan dengan hasil yang diberikan | R13: =K128 -> 32 | S13: =K129&" %" -> 100 %
B14: Skor Layanan | E14: : | F14: 100,00 (Sangat Baik)
B15: Nilai SKM | E15: : | F15: =Home!I14 -> 80
K16: P 6 | L16: Penanganan pengaduan pengguna layanan | R16: =L128 -> 32 | S16: =L129&" %" -> 100 %
K18: P 7 | L18: Kualitas sarana dan prasarana | R18: =M128 -> 32 | S18: =M129&" %" -> 100 %
K19: P 8 | L19: Perilaku petugas dalam pelayanan terkait kesopanan dan keramahan | R19: =N128 -> 32 | S19: =N129&" %" -> 100 %
K21: P 9 | L21: Kompetensi/kemampuan petugas dalam pelayanan | R21: =O128 -> 32 | S21: =O129&" %" -> 100 %
R23: =P128 -> 288 | S23: =P129&" %" -> 100 %
P26: =Home!$F$25 -> Trenggalek, 30 September 2026
E27: KEPALA PUSKESMAS TRENGGALEK | P27: Penanggung Jawab
P28: =F7 -> Ruang KB dan Kespro
E32: dr. MURTI RUKIYANDARI | P32: xxx
E33: Pembina Utama Muida | P33: NIP.
E34: NIP. 19800611 200903 2 004
B37: Rincian
B39: NO. | C39: Tanggal | D39: NAMA | E39: LAYANAN | G39: P 1 | H39: P 2 | I39: P 3 | J39: P 4 | K39: P 5 | L39: P 6 | M39: P 7 | N39: P 8 | O39: P 9 | P39: SKOR | R39: Kritik dan Saran
B40: 1 | C40: 2 | D40: 3 | E40: 4 | G40: 5 | H40: 6 | I40: 7 | J40: 8 | K40: 9 | L40: 10 | M40: 11 | N40: 12 | O40: 13 | P40: 14 | R40: 15
B41: 1 | C41: 46266 | D41: Anonymous | E41: Ruang KB dan Kespro | G41: 4 | H41: 4 | I41: 4 | J41: 4 | K41: 4 | L41: 4 | M41: 4 | N41: 4 | O41: 4 | P41: 100 | Q41: (A) | R41: Baik dan sabar
B42: 2 | C42: 46269 | D42: Anonymous | E42: Ruang KB dan Kespro | G42: 4 | H42: 4 | I42: 4 | J42: 4 | K42: 4 | L42: 4 | M42: 4 | N42: 4 | O42: 4 | P42: 100 | Q42: (A) | R42: -
B43: 3 | C43: 46283 | D43: Anonymous | E43: Ruang KB dan Kespro | G43: 4 | H43: 4 | I43: 4 | J43: 4 | K43: 4 | L43: 4 | M43: 4 | N43: 4 | O43: 4 | P43: 100 | Q43: (A) | R43: -
B44: 4 | C44: 46290 | D44: Anonymous | E44: Ruang KB dan Kespro | G44: 4 | H44: 4 | I44: 4 | J44: 4 | K44: 4 | L44: 4 | M44: 4 | N44: 4 | O44: 4 | P44: 100 | Q44: (A) | R44: -
B45: 5 | C45: 46294 | D45: Anonymous | E45: Ruang KB dan Kespro | G45: 4 | H45: 4 | I45: 4 | J45: 4 | K45: 4 | L45: 4 | M45: 4 | N45: 4 | O45: 4 | P45: 100 | Q45: (A) | R45: TINGKATKAN PELAYANAN
B46: 6 | C46: 46294 | D46: Anonymous | E46: Ruang KB dan Kespro | G46: 4 | H46: 4 | I46: 4 | J46: 4 | K46: 4 | L46: 4 | M46: 4 | N46: 4 | O46: 4 | P46: 100 | Q46: (A) | R46: Baik, Dipertahankan
B47: 7 | C47: 46295 | D47: Anonymous | E47: Ruang KB dan Kespro | G47: 4 | H47: 4 | I47: 4 | J47: 4 | K47: 4 | L47: 4 | M47: 4 | N47: 4 | O47: 4 | P47: 100 | Q47: (A) | R47: -
B48: 8 | C48: 46295 | D48: Anonymous | E48: Ruang KB dan Kespro | G48: 4 | H48: 4 | I48: 4 | J48: 4 | K48: 4 | L48: 4 | M48: 4 | N48: 4 | O48: 4 | P48: 100 | Q48: (A) | R48: -
B54: =IF(C54="","",SUBTOTAL(3,C$41:$C54))
B55: =IF(C55="","",SUBTOTAL(3,C$41:$C55))
B56: =IF(C56="","",SUBTOTAL(3,C$41:$C56))
B57: =IF(C57="","",SUBTOTAL(3,C$41:$C57))
B58: =IF(C58="","",SUBTOTAL(3,C$41:$C58))
B59: =IF(C59="","",SUBTOTAL(3,C$41:$C59))
...

Sheet 11
B2: LAPORAN SKM PUSKESMAS TRENGGALEK
B4: ="REKAPITULASI HASIL SKM PUSKESMAS TRENGGALEK BULAN "&UPPER(Home!C3) -> REKAPITULASI HASIL SKM PUSKESMAS TRENGGALEK BULAN SEPTEMBER 2026 | W4: =RIGHT(AB7,4)
L6: Unsur | R6: Unsur Responden | S6: Nilai Rata-Rata
B7: Nama Layanan | E7: : | F7: =Home!C15 -> Ruang MTBS | K7: P 1 | L7: Kesesuaian persyaratan pelayanan dengan jenis pelayanannya | R7: =G128 -> 124 | S7: =G129&" %" -> 100 %
B8: Target Responden | E8: : | F8: =Home!AE15 -> 34
B9: Jumlah Responden | K9: P 2 | L9: Kemudahan prosedur pelayanan di unit ini | R9: =H128 -> 124 | S9: =H129&" %" -> 100 %
D10: L | E10: : | F10: =Home!AC15 -> 17 | K10: P 3 | L10: Kecepatan waktu dalam memberikan pelayanan | R10: =I128 -> 124 | S10: =I129&" %" -> 100 %
D11: P | E11: : | F11: =Home!AD15 -> 14
B12: Jumlah/Capaian | E12: : | F12: =SUM(F10:F11)&" ("&ROUND((F10+F11)/F8*100,2)&" %"&")" -> 31 (91.18 %) | K12: P 4 | L12: Kewajaran biaya/tarif dalam pelayanan | R12: =J128 -> 124 | S12: =J129&" %" -> 100 %
B13: Jumlah Nilai | E13: : | F13: =R23 -> 1116 | K13: P 5 | L13: Kesesuaian produk pelayanan antara yang tercantum dalam standar pelayanan dengan hasil yang diberikan | R13: =K128 -> 124 | S13: =K129&" %" -> 100 %
B14: Skor Layanan | E14: : | F14: 100,00 (Sangat Baik)
B15: Nilai SKM | E15: : | F15: =Home!I15 -> 100
K16: P 6 | L16: Penanganan pengaduan pengguna layanan | R16: =L128 -> 124 | S16: =L129&" %" -> 100 %
K18: P 7 | L18: Kualitas sarana dan prasarana | R18: =M128 -> 124 | S18: =M129&" %" -> 100 %
K19: P 8 | L19: Perilaku petugas dalam pelayanan terkait kesopanan dan keramahan | R19: =N128 -> 124 | S19: =N129&" %" -> 100 %
K21: P 9 | L21: Kompetensi/kemampuan petugas dalam pelayanan | R21: =O128 -> 124 | S21: =O129&" %" -> 100 %
R23: =P128 -> 1116 | S23: =P129&" %" -> 100 %
P26: =Home!$F$25 -> Trenggalek, 30 September 2026
E27: KEPALA PUSKESMAS TRENGGALEK | P27: Penanggung Jawab
P28: =F7 -> Ruang MTBS
E32: dr. MURTI RUKIYANDARI | P32: DEWI NOVITA SARI SSTKeb.
E33: Pembina Utama Muida | P33: NIP. 197911202019052001
E34: NIP. 19800611 200903 2 004
B37: ="Rincian "&F7 -> Rincian Ruang MTBS
B39: NO. | C39: Tanggal | D39: NAMA | E39: LAYANAN | G39: P 1 | H39: P 2 | I39: P 3 | J39: P 4 | K39: P 5 | L39: P 6 | M39: P 7 | N39: P 8 | O39: P 9 | P39: SKOR | R39: Kritik dan Saran
B40: 1 | C40: 2 | D40: 3 | E40: 4 | G40: 5 | H40: 6 | I40: 7 | J40: 8 | K40: 9 | L40: 10 | M40: 11 | N40: 12 | O40: 13 | P40: 14 | R40: 15
B41: 1 | C41: 46268 | D41: Anonymous | E41: Ruang MTBS | G41: 4 | H41: 4 | I41: 4 | J41: 4 | K41: 4 | L41: 4 | M41: 4 | N41: 4 | O41: 4 | P41: 100 | Q41: (A) | R41: pelay baik
B42: 2 | C42: 46268 | D42: Anonymous | E42: Ruang MTBS | G42: 4 | H42: 4 | I42: 4 | J42: 4 | K42: 4 | L42: 4 | M42: 4 | N42: 4 | O42: 4 | P42: 100 | Q42: (A) | R42: pelay baik
B43: 3 | C43: 46268 | D43: Anonymous | E43: Ruang MTBS | G43: 4 | H43: 4 | I43: 4 | J43: 4 | K43: 4 | L43: 4 | M43: 4 | N43: 4 | O43: 4 | P43: 100 | Q43: (A) | R43: pelay baik
B44: 4 | C44: 46268 | D44: Anonymous | E44: Ruang MTBS | G44: 4 | H44: 4 | I44: 4 | J44: 4 | K44: 4 | L44: 4 | M44: 4 | N44: 4 | O44: 4 | P44: 100 | Q44: (A) | R44: pelay baik
B45: 5 | C45: 46269 | D45: Anonymous | E45: Ruang MTBS | G45: 4 | H45: 4 | I45: 4 | J45: 4 | K45: 4 | L45: 4 | M45: 4 | N45: 4 | O45: 4 | P45: 100 | Q45: (A) | R45: -
B46: 6 | C46: 46282 | D46: Anonymous | E46: Ruang MTBS | G46: 4 | H46: 4 | I46: 4 | J46: 4 | K46: 4 | L46: 4 | M46: 4 | N46: 4 | O46: 4 | P46: 100 | Q46: (A) | R46: PELAY BAIK
B47: 7 | C47: 46282 | D47: Anonymous | E47: Ruang MTBS | G47: 4 | H47: 4 | I47: 4 | J47: 4 | K47: 4 | L47: 4 | M47: 4 | N47: 4 | O47: 4 | P47: 100 | Q47: (A) | R47: PELAY BAIK
B48: 8 | C48: 46282 | D48: Anonymous | E48: Ruang MTBS | G48: 4 | H48: 4 | I48: 4 | J48: 4 | K48: 4 | L48: 4 | M48: 4 | N48: 4 | O48: 4 | P48: 100 | Q48: (A) | R48: PELAY BAIK
B49: 9 | C49: 46282 | D49: Anonymous | E49: Ruang MTBS | G49: 4 | H49: 4 | I49: 4 | J49: 4 | K49: 4 | L49: 4 | M49: 4 | N49: 4 | O49: 4 | P49: 100 | Q49: (A) | R49: PELAY BAIK
B50: 10 | C50: 46287 | D50: Anonymous | E50: Ruang MTBS | G50: 4 | H50: 4 | I50: 4 | J50: 4 | K50: 4 | L50: 4 | M50: 4 | N50: 4 | O50: 4 | P50: 100 | Q50: (A) | R50: pelay baik
B51: 11 | C51: 46287 | D51: Anonymous | E51: Ruang MTBS | G51: 4 | H51: 4 | I51: 4 | J51: 4 | K51: 4 | L51: 4 | M51: 4 | N51: 4 | O51: 4 | P51: 100 | Q51: (A) | R51: pelay baik
B52: 12 | C52: 46287 | D52: Anonymous | E52: Ruang MTBS | G52: 4 | H52: 4 | I52: 4 | J52: 4 | K52: 4 | L52: 4 | M52: 4 | N52: 4 | O52: 4 | P52: 100 | Q52: (A) | R52: pelay baik
... B71: 31 | C71: 46295 | D71: Anonymous | E71: Ruang MTBS | G71: 4 | H71: 4 | I71: 4 | J71: 4 | K71: 4 | L71: 4 | M71: 4 | N71: 4 | O71: 4 | P71: 100 | Q71: (A) | R71: -
B96: =IF(C96="","",SUBTOTAL(3,C$41:$C96))
...

Sheet 12
B2: LAPORAN SKM PUSKESMAS TRENGGALEK
B4: ="REKAPITULASI HASIL SKM PUSKESMAS TRENGGALEK BULAN "&UPPER(Home!C3) -> REKAPITULASI HASIL SKM PUSKESMAS TRENGGALEK BULAN SEPTEMBER 2026 | W4: =RIGHT(AB7,4)
L6: Unsur | R6: Unsur Responden | S6: Nilai Rata-Rata
B7: Nama Layanan | E7: : | F7: =Home!C16 -> Ruang Poli Khusus | K7: P 1 | L7: Kesesuaian persyaratan pelayanan dengan jenis pelayanannya | R7: =G128 -> 48 | S7: =G129&" %" -> 100 %
B8: Target Responden | E8: : | F8: =Home!AE16 -> 7
B9: Jumlah Responden | K9: P 2 | L9: Kemudahan prosedur pelayanan di unit ini | R9: =H128 -> 48 | S9: =H129&" %" -> 100 %
D10: L | E10: : | F10: =Home!AC16 -> 6 | K10: P 3 | L10: Kecepatan waktu dalam memberikan pelayanan | R10: =I128 -> 48 | S10: =I129&" %" -> 100 %
D11: P | E11: : | F11: =Home!AD16 -> 6
B12: Jumlah/Capaian | E12: : | F12: =SUM(F10:F11)&" ("&ROUND((F10+F11)/F8*100,2)&" %"&")" -> 12 (171.43 %) | K12: P 4 | L12: Kewajaran biaya/tarif dalam pelayanan | R12: =J128 -> 48 | S12: =J129&" %" -> 100 %
B13: Jumlah Nilai | E13: : | F13: =R23 -> 432 | K13: P 5 | L13: Kesesuaian produk pelayanan antara yang tercantum dalam standar pelayanan dengan hasil yang diberikan | R13: =K128 -> 48 | S13: =K129&" %" -> 100 %
B14: Skor Layanan | E14: : | F14: 100,00 (Sangat Baik)
B15: Nilai SKM | E15: : | F15: =Home!I16 -> 100
K16: P 6 | L16: Penanganan pengaduan pengguna layanan | R16: =L128 -> 48 | S16: =L129&" %" -> 100 %
K18: P 7 | L18: Kualitas sarana dan prasarana | R18: =M128 -> 48 | S18: =M129&" %" -> 100 %
K19: P 8 | L19: Perilaku petugas dalam pelayanan terkait kesopanan dan keramahan | R19: =N128 -> 48 | S19: =N129&" %" -> 100 %
K21: P 9 | L21: Kompetensi/kemampuan petugas dalam pelayanan | R21: =O128 -> 48 | S21: =O129&" %" -> 100 %
R23: =P128 -> 432 | S23: =P129&" %" -> 100 %
P26: =Home!$F$25 -> Trenggalek, 30 September 2026
E27: KEPALA PUSKESMAS TRENGGALEK | P27: Penanggung Jawab
P28: =F7 -> Ruang Poli Khusus
E32: dr. MURTI RUKIYANDARI | P32: xxx
E33: Pembina Utama Muida | P33: NIP.
E34: NIP. 19800611 200903 2 004
B37: Rincian
B39: NO. | C39: Tanggal | D39: NAMA | E39: LAYANAN | G39: P 1 | H39: P 2 | I39: P 3 | J39: P 4 | K39: P 5 | L39: P 6 | M39: P 7 | N39: P 8 | O39: P 9 | P39: SKOR | R39: Kritik dan Saran
B40: 1 | C40: 2 | D40: 3 | E40: 4 | G40: 5 | H40: 6 | I40: 7 | J40: 8 | K40: 9 | L40: 10 | M40: 11 | N40: 12 | O40: 13 | P40: 14 | R40: 15
B41: 1 | C41: 46269 | D41: Anonymous | E41: Ruang Poli Khusus | G41: 4 | H41: 4 | I41: 4 | J41: 4 | K41: 4 | L41: 4 | M41: 4 | N41: 4 | O41: 4 | P41: 100 | Q41: (A) | R41: Terimakasih
B42: 2 | C42: 46272 | D42: Anonymous | E42: Ruang Poli Khusus | G42: 4 | H42: 4 | I42: 4 | J42: 4 | K42: 4 | L42: 4 | M42: 4 | N42: 4 | O42: 4 | P42: 100 | Q42: (A) | R42: SUWUN KANG
